Workbook

Sheet Painel
A1: Painel de compensação por cessação
B2: Painel de compensação por cessação
B3: Registo e simulação configurável. Confirme o enquadramento contratual, laboral, fiscal e contributivo aplicável a cada processo.
B5: Ano de cessação | C5: 2026 | H5: Resumo mensal | N5: Resumo por estado
B6: Estado incluído | C6: Todos exceto anulados | H6: Mês | I6: Bruto estimado | J6: Deduções estimadas | K6: Líquido estimado | L6: Processos | N6: Estado | O6: Processos
H7: Janeiro | I7: =IFERROR(IF($C$6="Todos",SUMIFS('Cálculos de cessação'!$AA$6:$AA$105,'Cálculos de cessação'!$H$6:$H$105,">="&DATE($C$5,ROWS($H$7:H7),1),'Cálculos de cessação'!$H$6:$H$105,"<"&EDATE(DATE($C$5,ROWS($H$7:H7),1),1)),IF($C$6="Todos exceto anulados",SUMIFS('Cálculos de cessação'!$AA$6:$AA$105,'Cálculos de cessação'!$H$6:$H$105,">="&DATE($C$5,ROWS($H$7:H7),1),'Cálculos de cessação'!$H$6:$H$105,"<"&EDATE(DATE($C$5,ROWS($H$7:H7),1),1),'Cálculos de cessação'!$AM$6:$AM$105,"<>Anulado"),SUMIFS('Cálculos de cessação'!$AA$6:$AA$105,'Cálculos de cessação'!$H$6:$H$105,">="&DATE($C$5,ROWS($H$7:H7),1),'Cálculos de cessação'!$H$6:$H$105,"<"&EDATE(DATE($C$5,ROWS($H$7:H7),1),1),'Cálculos de cessação'!$AM$6:$AM$105,$C$6))),0) | J7: =IFERROR(IF($C$6="Todos",SUMIFS('Cálculos de cessação'!$AK$6:$AK$105,'Cálculos de cessação'!$H$6:$H$105,">="&DATE($C$5,ROWS($H$7:H7),1),'Cálculos de cessação'!$H$6:$H$105,"<"&EDATE(DATE($C$5,ROWS($H$7:H7),1),1)),IF($C$6="Todos exceto anulados",SUMIFS('Cálculos de cessação'!$AK$6:$AK$105,'Cálculos de cessação'!$H$6:$H$105,">="&DATE($C$5,ROWS($H$7:H7),1),'Cálculos de cessação'!$H$6:$H$105,"<"&EDATE(DATE($C$5,ROWS($H$7:H7),1),1),'Cálculos de cessação'!$AM$6:$AM$105,"<>Anulado"),SUMIFS('Cálculos de cessação'!$AK$6:$AK$105,'Cálculos de cessação'!$H$6:$H$105,">="&DATE($C$5,ROWS($H$7:H7),1),'Cálculos de cessação'!$H$6:$H$105,"<"&EDATE(DATE($C$5,ROWS($H$7:H7),1),1),'Cálculos de cessação'!$AM$6:$AM$105,$C$6))),0) | K7: =IFERROR(IF($C$6="Todos",SUMIFS('Cálculos de cessação'!$AL$6:$AL$105,'Cálculos de cessação'!$H$6:$H$105,">="&DATE($C$5,ROWS($H$7:H7),1),'Cálculos de cessação'!$H$6:$H$105,"<"&EDATE(DATE($C$5,ROWS($H$7:H7),1),1)),IF($C$6="Todos exceto anulados",SUMIFS('Cálculos de cessação'!$AL$6:$AL$105,'Cálculos de cessação'!$H$6:$H$105,">="&DATE($C$5,ROWS($H$7:H7),1),'Cálculos de cessação'!$H$6:$H$105,"<"&EDATE(DATE($C$5,ROWS($H$7:H7),1),1),'Cálculos de cessação'!$AM$6:$AM$105,"<>Anulado"),SUMIFS('Cálculos de cessação'!$AL$6:$AL$105,'Cálculos de cessação'!$H$6:$H$105,">="&DATE($C$5,ROWS($H$7:H7),1),'Cálculos de cessação'!$H$6:$H$105,"<"&EDATE(DATE($C$5,ROWS($H$7:H7),1),1),'Cálculos de cessação'!$AM$6:$AM$105,$C$6))),0) | L7: =IFERROR(IF($C$6="Todos",COUNTIFS('Cálculos de cessação'!$A$6:$A$105,"<>",'Cálculos de cessação'!$H$6:$H$105,">="&DATE($C$5,ROWS($H$7:H7),1),'Cálculos de cessação'!$H$6:$H$105,"<"&EDATE(DATE($C$5,ROWS($H$7:H7),1),1)),IF($C$6="Todos exceto anulados",COUNTIFS('Cálculos de cessação'!$A$6:$A$105,"<>",'Cálculos de cessação'!$H$6:$H$105,">="&DATE($C$5,ROWS($H$7:H7),1),'Cálculos de cessação'!$H$6:$H$105,"<"&EDATE(DATE($C$5,ROWS($H$7:H7),1),1),'Cálculos de cessação'!$AM$6:$AM$105,"<>Anulado"),COUNTIFS('Cálculos de cessação'!$A$6:$A$105,"<>",'Cálculos de cessação'!$H$6:$H$105,">="&DATE($C$5,ROWS($H$7:H7),1),'Cálculos de cessação'!$H$6:$H$105,"<"&EDATE(DATE($C$5,ROWS($H$7:H7),1),1),'Cálculos de cessação'!$AM$6:$AM$105,$C$6))),0) | N7: Em preparação | O7: =IFERROR(COUNTIFS('Cálculos de cessação'!$A$6:$A$105,"<>",'Cálculos de cessação'!$H$6:$H$105,">="&DATE($C$5,1,1),'Cálculos de cessação'!$H$6:$H$105,"<"&DATE($C$5+1,1,1),'Cálculos de cessação'!$AM$6:$AM$105,N7),0)
B8: Processos no período | C8: =IFERROR(IF($C$6="Todos",COUNTIFS('Cálculos de cessação'!$A$6:$A$105,"<>",'Cálculos de cessação'!$H$6:$H$105,">="&DATE($C$5,1,1),'Cálculos de cessação'!$H$6:$H$105,"<"&DATE($C$5+1,1,1)),IF($C$6="Todos exceto anulados",COUNTIFS('Cálculos de cessação'!$A$6:$A$105,"<>",'Cálculos de cessação'!$H$6:$H$105,">="&DATE($C$5,1,1),'Cálculos de cessação'!$H$6:$H$105,"<"&DATE($C$5+1,1,1),'Cálculos de cessação'!$AM$6:$AM$105,"<>Anulado"),COUNTIFS('Cálculos de cessação'!$A$6:$A$105,"<>",'Cálculos de cessação'!$H$6:$H$105,">="&DATE($C$5,1,1),'Cálculos de cessação'!$H$6:$H$105,"<"&DATE($C$5+1,1,1),'Cálculos de cessação'!$AM$6:$AM$105,$C$6))),0) | H8: Fevereiro | I8: =IFERROR(IF($C$6="Todos",SUMIFS('Cálculos de cessação'!$AA$6:$AA$105,'Cálculos de cessação'!$H$6:$H$105,">="&DATE($C$5,ROWS($H$7:H8),1),'Cálculos de cessação'!$H$6:$H$105,"<"&EDATE(DATE($C$5,ROWS($H$7:H8),1),1)),IF($C$6="Todos exceto anulados",SUMIFS('Cálculos de cessação'!$AA$6:$AA$105,'Cálculos de cessação'!$H$6:$H$105,">="&DATE($C$5,ROWS($H$7:H8),1),'Cálculos de cessação'!$H$6:$H$105,"<"&EDATE(DATE($C$5,ROWS($H$7:H8),1),1),'Cálculos de cessação'!$AM$6:$AM$105,"<>Anulado"),SUMIFS('Cálculos de cessação'!$AA$6:$AA$105,'Cálculos de cessação'!$H$6:$H$105,">="&DATE($C$5,ROWS($H$7:H8),1),'Cálculos de cessação'!$H$6:$H$105,"<"&EDATE(DATE($C$5,ROWS($H$7:H8),1),1),'Cálculos de cessação'!$AM$6:$AM$105,$C$6))),0) | J8: =IFERROR(IF($C$6="Todos",SUMIFS('Cálculos de cessação'!$AK$6:$AK$105,'Cálculos de cessação'!$H$6:$H$105,">="&DATE($C$5,ROWS($H$7:H8),1),'Cálculos de cessação'!$H$6:$H$105,"<"&EDATE(DATE($C$5,ROWS($H$7:H8),1),1)),IF($C$6="Todos exceto anulados",SUMIFS('Cálculos de cessação'!$AK$6:$AK$105,'Cálculos de cessação'!$H$6:$H$105,">="&DATE($C$5,ROWS($H$7:H8),1),'Cálculos de cessação'!$H$6:$H$105,"<"&EDATE(DATE($C$5,ROWS($H$7:H8),1),1),'Cálculos de cessação'!$AM$6:$AM$105,"<>Anulado"),SUMIFS('Cálculos de cessação'!$AK$6:$AK$105,'Cálculos de cessação'!$H$6:$H$105,">="&DATE($C$5,ROWS($H$7:H8),1),'Cálculos de cessação'!$H$6:$H$105,"<"&EDATE(DATE($C$5,ROWS($H$7:H8),1),1),'Cálculos de cessação'!$AM$6:$AM$105,$C$6))),0) | K8: =IFERROR(IF($C$6="Todos",SUMIFS('Cálculos de cessação'!$AL$6:$AL$105,'Cálculos de cessação'!$H$6:$H$105,">="&DATE($C$5,ROWS($H$7:H8),1),'Cálculos de cessação'!$H$6:$H$105,"<"&EDATE(DATE($C$5,ROWS($H$7:H8),1),1)),IF($C$6="Todos exceto anulados",SUMIFS('Cálculos de cessação'!$AL$6:$AL$105,'Cálculos de cessação'!$H$6:$H$105,">="&DATE($C$5,ROWS($H$7:H8),1),'Cálculos de cessação'!$H$6:$H$105,"<"&EDATE(DATE($C$5,ROWS($H$7:H8),1),1),'Cálculos de cessação'!$AM$6:$AM$105,"<>Anulado"),SUMIFS('Cálculos de cessação'!$AL$6:$AL$105,'Cálculos de cessação'!$H$6:$H$105,">="&DATE($C$5,ROWS($H$7:H8),1),'Cálculos de cessação'!$H$6:$H$105,"<"&EDATE(DATE($C$5,ROWS($H$7:H8),1),1),'Cálculos de cessação'!$AM$6:$AM$105,$C$6))),0) | L8: =IFERROR(IF($C$6="Todos",COUNTIFS('Cálculos de cessação'!$A$6:$A$105,"<>",'Cálculos de cessação'!$H$6:$H$105,">="&DATE($C$5,ROWS($H$7:H8),1),'Cálculos de cessação'!$H$6:$H$105,"<"&EDATE(DATE($C$5,ROWS($H$7:H8),1),1)),IF($C$6="Todos exceto anulados",COUNTIFS('Cálculos de cessação'!$A$6:$A$105,"<>",'Cálculos de cessação'!$H$6:$H$105,">="&DATE($C$5,ROWS($H$7:H8),1),'Cálculos de cessação'!$H$6:$H$105,"<"&EDATE(DATE($C$5,ROWS($H$7:H8),1),1),'Cálculos de cessação'!$AM$6:$AM$105,"<>Anulado"),COUNTIFS('Cálculos de cessação'!$A$6:$A$105,"<>",'Cálculos de cessação'!$H$6:$H$105,">="&DATE($C$5,ROWS($H$7:H8),1),'Cálculos de cessação'!$H$6:$H$105,"<"&EDATE(DATE($C$5,ROWS($H$7:H8),1),1),'Cálculos de cessação'!$AM$6:$AM$105,$C$6))),0) | N8: A confirmar | O8: =IFERROR(COUNTIFS('Cálculos de cessação'!$A$6:$A$105,"<>",'Cálculos de cessação'!$H$6:$H$105,">="&DATE($C$5,1,1),'Cálculos de cessação'!$H$6:$H$105,"<"&DATE($C$5+1,1,1),'Cálculos de cessação'!$AM$6:$AM$105,N8),0)
H9: Março | I9: =IFERROR(IF($C$6="Todos",SUMIFS('Cálculos de cessação'!$AA$6:$AA$105,'Cálculos de cessação'!$H$6:$H$105,">="&DATE($C$5,ROWS($H$7:H9),1),'Cálculos de cessação'!$H$6:$H$105,"<"&EDATE(DATE($C$5,ROWS($H$7:H9),1),1)),IF($C$6="Todos exceto anulados",SUMIFS('Cálculos de cessação'!$AA$6:$AA$105,'Cálculos de cessação'!$H$6:$H$105,">="&DATE($C$5,ROWS($H$7:H9),1),'Cálculos de cessação'!$H$6:$H$105,"<"&EDATE(DATE($C$5,ROWS($H$7:H9),1),1),'Cálculos de cessação'!$AM$6:$AM$105,"<>Anulado"),SUMIFS('Cálculos de cessação'!$AA$6:$AA$105,'Cálculos de cessação'!$H$6:$H$105,">="&DATE($C$5,ROWS($H$7:H9),1),'Cálculos de cessação'!$H$6:$H$105,"<"&EDATE(DATE($C$5,ROWS($H$7:H9),1),1),'Cálculos de cessação'!$AM$6:$AM$105,$C$6))),0) | J9: =IFERROR(IF($C$6="Todos",SUMIFS('Cálculos de cessação'!$AK$6:$AK$105,'Cálculos de cessação'!$H$6:$H$105,">="&DATE($C$5,ROWS($H$7:H9),1),'Cálculos de cessação'!$H$6:$H$105,"<"&EDATE(DATE($C$5,ROWS($H$7:H9),1),1)),IF($C$6="Todos exceto anulados",SUMIFS('Cálculos de cessação'!$AK$6:$AK$105,'Cálculos de cessação'!$H$6:$H$105,">="&DATE($C$5,ROWS($H$7:H9),1),'Cálculos de cessação'!$H$6:$H$105,"<"&EDATE(DATE($C$5,ROWS($H$7:H9),1),1),'Cálculos de cessação'!$AM$6:$AM$105,"<>Anulado"),SUMIFS('Cálculos de cessação'!$AK$6:$AK$105,'Cálculos de cessação'!$H$6:$H$105,">="&DATE($C$5,ROWS($H$7:H9),1),'Cálculos de cessação'!$H$6:$H$105,"<"&EDATE(DATE($C$5,ROWS($H$7:H9),1),1),'Cálculos de cessação'!$AM$6:$AM$105,$C$6))),0) | K9: =IFERROR(IF($C$6="Todos",SUMIFS('Cálculos de cessação'!$AL$6:$AL$105,'Cálculos de cessação'!$H$6:$H$105,">="&DATE($C$5,ROWS($H$7:H9),1),'Cálculos de cessação'!$H$6:$H$105,"<"&EDATE(DATE($C$5,ROWS($H$7:H9),1),1)),IF($C$6="Todos exceto anulados",SUMIFS('Cálculos de cessação'!$AL$6:$AL$105,'Cálculos de cessação'!$H$6:$H$105,">="&DATE($C$5,ROWS($H$7:H9),1),'Cálculos de cessação'!$H$6:$H$105,"<"&EDATE(DATE($C$5,ROWS($H$7:H9),1),1),'Cálculos de cessação'!$AM$6:$AM$105,"<>Anulado"),SUMIFS('Cálculos de cessação'!$AL$6:$AL$105,'Cálculos de cessação'!$H$6:$H$105,">="&DATE($C$5,ROWS($H$7:H9),1),'Cálculos de cessação'!$H$6:$H$105,"<"&EDATE(DATE($C$5,ROWS($H$7:H9),1),1),'Cálculos de cessação'!$AM$6:$AM$105,$C$6))),0) | L9: =IFERROR(IF($C$6="Todos",COUNTIFS('Cálculos de cessação'!$A$6:$A$105,"<>",'Cálculos de cessação'!$H$6:$H$105,">="&DATE($C$5,ROWS($H$7:H9),1),'Cálculos de cessação'!$H$6:$H$105,"<"&EDATE(DATE($C$5,ROWS($H$7:H9),1),1)),IF($C$6="Todos exceto anulados",COUNTIFS('Cálculos de cessação'!$A$6:$A$105,"<>",'Cálculos de cessação'!$H$6:$H$105,">="&DATE($C$5,ROWS($H$7:H9),1),'Cálculos de cessação'!$H$6:$H$105,"<"&EDATE(DATE($C$5,ROWS($H$7:H9),1),1),'Cálculos de cessação'!$AM$6:$AM$105,"<>Anulado"),COUNTIFS('Cálculos de cessação'!$A$6:$A$105,"<>",'Cálculos de cessação'!$H$6:$H$105,">="&DATE($C$5,ROWS($H$7:H9),1),'Cálculos de cessação'!$H$6:$H$105,"<"&EDATE(DATE($C$5,ROWS($H$7:H9),1),1),'Cálculos de cessação'!$AM$6:$AM$105,$C$6))),0) | N9: Aprovado internamente | O9: =IFERROR(COUNTIFS('Cálculos de cessação'!$A$6:$A$105,"<>",'Cálculos de cessação'!$H$6:$H$105,">="&DATE($C$5,1,1),'Cálculos de cessação'!$H$6:$H$105,"<"&DATE($C$5+1,1,1),'Cálculos de cessação'!$AM$6:$AM$105,N9),0)
B10: Total bruto estimado | C10: =IFERROR(IF($C$6="Todos",SUMIFS('Cálculos de cessação'!$AA$6:$AA$105,'Cálculos de cessação'!$H$6:$H$105,">="&DATE($C$5,1,1),'Cálculos de cessação'!$H$6:$H$105,"<"&DATE($C$5+1,1,1)),IF($C$6="Todos exceto anulados",SUMIFS('Cálculos de cessação'!$AA$6:$AA$105,'Cálculos de cessação'!$H$6:$H$105,">="&DATE($C$5,1,1),'Cálculos de cessação'!$H$6:$H$105,"<"&DATE($C$5+1,1,1),'Cálculos de cessação'!$AM$6:$AM$105,"<>Anulado"),SUMIFS('Cálculos de cessação'!$AA$6:$AA$105,'Cálculos de cessação'!$H$6:$H$105,">="&DATE($C$5,1,1),'Cálculos de cessação'!$H$6:$H$105,"<"&DATE($C$5+1,1,1),'Cálculos de cessação'!$AM$6:$AM$105,$C$6))),0) | H10: Abril | I10: =IFERROR(IF($C$6="Todos",SUMIFS('Cálculos de cessação'!$AA$6:$AA$105,'Cálculos de cessação'!$H$6:$H$105,">="&DATE($C$5,ROWS($H$7:H10),1),'Cálculos de cessação'!$H$6:$H$105,"<"&EDATE(DATE($C$5,ROWS($H$7:H10),1),1)),IF($C$6="Todos exceto anulados",SUMIFS('Cálculos de cessação'!$AA$6:$AA$105,'Cálculos de cessação'!$H$6:$H$105,">="&DATE($C$5,ROWS($H$7:H10),1),'Cálculos de cessação'!$H$6:$H$105,"<"&EDATE(DATE($C$5,ROWS($H$7:H10),1),1),'Cálculos de cessação'!$AM$6:$AM$105,"<>Anulado"),SUMIFS('Cálculos de cessação'!$AA$6:$AA$105,'Cálculos de cessação'!$H$6:$H$105,">="&DATE($C$5,ROWS($H$7:H10),1),'Cálculos de cessação'!$H$6:$H$105,"<"&EDATE(DATE($C$5,ROWS($H$7:H10),1),1),'Cálculos de cessação'!$AM$6:$AM$105,$C$6))),0) | J10: =IFERROR(IF($C$6="Todos",SUMIFS('Cálculos de cessação'!$AK$6:$AK$105,'Cálculos de cessação'!$H$6:$H$105,">="&DATE($C$5,ROWS($H$7:H10),1),'Cálculos de cessação'!$H$6:$H$105,"<"&EDATE(DATE($C$5,ROWS($H$7:H10),1),1)),IF($C$6="Todos exceto anulados",SUMIFS('Cálculos de cessação'!$AK$6:$AK$105,'Cálculos de cessação'!$H$6:$H$105,">="&DATE($C$5,ROWS($H$7:H10),1),'Cálculos de cessação'!$H$6:$H$105,"<"&EDATE(DATE($C$5,ROWS($H$7:H10),1),1),'Cálculos de cessação'!$AM$6:$AM$105,"<>Anulado"),SUMIFS('Cálculos de cessação'!$AK$6:$AK$105,'Cálculos de cessação'!$H$6:$H$105,">="&DATE($C$5,ROWS($H$7:H10),1),'Cálculos de cessação'!$H$6:$H$105,"<"&EDATE(DATE($C$5,ROWS($H$7:H10),1),1),'Cálculos de cessação'!$AM$6:$AM$105,$C$6))),0) | K10: =IFERROR(IF($C$6="Todos",SUMIFS('Cálculos de cessação'!$AL$6:$AL$105,'Cálculos de cessação'!$H$6:$H$105,">="&DATE($C$5,ROWS($H$7:H10),1),'Cálculos de cessação'!$H$6:$H$105,"<"&EDATE(DATE($C$5,ROWS($H$7:H10),1),1)),IF($C$6="Todos exceto anulados",SUMIFS('Cálculos de cessação'!$AL$6:$AL$105,'Cálculos de cessação'!$H$6:$H$105,">="&DATE($C$5,ROWS($H$7:H10),1),'Cálculos de cessação'!$H$6:$H$105,"<"&EDATE(DATE($C$5,ROWS($H$7:H10),1),1),'Cálculos de cessação'!$AM$6:$AM$105,"<>Anulado"),SUMIFS('Cálculos de cessação'!$AL$6:$AL$105,'Cálculos de cessação'!$H$6:$H$105,">="&DATE($C$5,ROWS($H$7:H10),1),'Cálculos de cessação'!$H$6:$H$105,"<"&EDATE(DATE($C$5,ROWS($H$7:H10),1),1),'Cálculos de cessação'!$AM$6:$AM$105,$C$6))),0) | L10: =IFERROR(IF($C$6="Todos",COUNTIFS('Cálculos de cessação'!$A$6:$A$105,"<>",'Cálculos de cessação'!$H$6:$H$105,">="&DATE($C$5,ROWS($H$7:H10),1),'Cálculos de cessação'!$H$6:$H$105,"<"&EDATE(DATE($C$5,ROWS($H$7:H10),1),1)),IF($C$6="Todos exceto anulados",COUNTIFS('Cálculos de cessação'!$A$6:$A$105,"<>",'Cálculos de cessação'!$H$6:$H$105,">="&DATE($C$5,ROWS($H$7:H10),1),'Cálculos de cessação'!$H$6:$H$105,"<"&EDATE(DATE($C$5,ROWS($H$7:H10),1),1),'Cálculos de cessação'!$AM$6:$AM$105,"<>Anulado"),COUNTIFS('Cálculos de cessação'!$A$6:$A$105,"<>",'Cálculos de cessação'!$H$6:$H$105,">="&DATE($C$5,ROWS($H$7:H10),1),'Cálculos de cessação'!$H$6:$H$105,"<"&EDATE(DATE($C$5,ROWS($H$7:H10),1),1),'Cálculos de cessação'!$AM$6:$AM$105,$C$6))),0) | N10: Pago | O10: =IFERROR(COUNTIFS('Cálculos de cessação'!$A$6:$A$105,"<>",'Cálculos de cessação'!$H$6:$H$105,">="&DATE($C$5,1,1),'Cálculos de cessação'!$H$6:$H$105,"<"&DATE($C$5+1,1,1),'Cálculos de cessação'!$AM$6:$AM$105,N10),0)
H11: Maio | I11: =IFERROR(IF($C$6="Todos",SUMIFS('Cálculos de cessação'!$AA$6:$AA$105,'Cálculos de cessação'!$H$6:$H$105,">="&DATE($C$5,ROWS($H$7:H11),1),'Cálculos de cessação'!$H$6:$H$105,"<"&EDATE(DATE($C$5,ROWS($H$7:H11),1),1)),IF($C$6="Todos exceto anulados",SUMIFS('Cálculos de cessação'!$AA$6:$AA$105,'Cálculos de cessação'!$H$6:$H$105,">="&DATE($C$5,ROWS($H$7:H11),1),'Cálculos de cessação'!$H$6:$H$105,"<"&EDATE(DATE($C$5,ROWS($H$7:H11),1),1),'Cálculos de cessação'!$AM$6:$AM$105,"<>Anulado"),SUMIFS('Cálculos de cessação'!$AA$6:$AA$105,'Cálculos de cessação'!$H$6:$H$105,">="&DATE($C$5,ROWS($H$7:H11),1),'Cálculos de cessação'!$H$6:$H$105,"<"&EDATE(DATE($C$5,ROWS($H$7:H11),1),1),'Cálculos de cessação'!$AM$6:$AM$105,$C$6))),0) | J11: =IFERROR(IF($C$6="Todos",SUMIFS('Cálculos de cessação'!$AK$6:$AK$105,'Cálculos de cessação'!$H$6:$H$105,">="&DATE($C$5,ROWS($H$7:H11),1),'Cálculos de cessação'!$H$6:$H$105,"<"&EDATE(DATE($C$5,ROWS($H$7:H11),1),1)),IF($C$6="Todos exceto anulados",SUMIFS('Cálculos de cessação'!$AK$6:$AK$105,'Cálculos de cessação'!$H$6:$H$105,">="&DATE($C$5,ROWS($H$7:H11),1),'Cálculos de cessação'!$H$6:$H$105,"<"&EDATE(DATE($C$5,ROWS($H$7:H11),1),1),'Cálculos de cessação'!$AM$6:$AM$105,"<>Anulado"),SUMIFS('Cálculos de cessação'!$AK$6:$AK$105,'Cálculos de cessação'!$H$6:$H$105,">="&DATE($C$5,ROWS($H$7:H11),1),'Cálculos de cessação'!$H$6:$H$105,"<"&EDATE(DATE($C$5,ROWS($H$7:H11),1),1),'Cálculos de cessação'!$AM$6:$AM$105,$C$6))),0) | K11: =IFERROR(IF($C$6="Todos",SUMIFS('Cálculos de cessação'!$AL$6:$AL$105,'Cálculos de cessação'!$H$6:$H$105,">="&DATE($C$5,ROWS($H$7:H11),1),'Cálculos de cessação'!$H$6:$H$105,"<"&EDATE(DATE($C$5,ROWS($H$7:H11),1),1)),IF($C$6="Todos exceto anulados",SUMIFS('Cálculos de cessação'!$AL$6:$AL$105,'Cálculos de cessação'!$H$6:$H$105,">="&DATE($C$5,ROWS($H$7:H11),1),'Cálculos de cessação'!$H$6:$H$105,"<"&EDATE(DATE($C$5,ROWS($H$7:H11),1),1),'Cálculos de cessação'!$AM$6:$AM$105,"<>Anulado"),SUMIFS('Cálculos de cessação'!$AL$6:$AL$105,'Cálculos de cessação'!$H$6:$H$105,">="&DATE($C$5,ROWS($H$7:H11),1),'Cálculos de cessação'!$H$6:$H$105,"<"&EDATE(DATE($C$5,ROWS($H$7:H11),1),1),'Cálculos de cessação'!$AM$6:$AM$105,$C$6))),0) | L11: =IFERROR(IF($C$6="Todos",COUNTIFS('Cálculos de cessação'!$A$6:$A$105,"<>",'Cálculos de cessação'!$H$6:$H$105,">="&DATE($C$5,ROWS($H$7:H11),1),'Cálculos de cessação'!$H$6:$H$105,"<"&EDATE(DATE($C$5,ROWS($H$7:H11),1),1)),IF($C$6="Todos exceto anulados",COUNTIFS('Cálculos de cessação'!$A$6:$A$105,"<>",'Cálculos de cessação'!$H$6:$H$105,">="&DATE($C$5,ROWS($H$7:H11),1),'Cálculos de cessação'!$H$6:$H$105,"<"&EDATE(DATE($C$5,ROWS($H$7:H11),1),1),'Cálculos de cessação'!$AM$6:$AM$105,"<>Anulado"),COUNTIFS('Cálculos de cessação'!$A$6:$A$105,"<>",'Cálculos de cessação'!$H$6:$H$105,">="&DATE($C$5,ROWS($H$7:H11),1),'Cálculos de cessação'!$H$6:$H$105,"<"&EDATE(DATE($C$5,ROWS($H$7:H11),1),1),'Cálculos de cessação'!$AM$6:$AM$105,$C$6))),0) | N11: Anulado | O11: =IFERROR(COUNTIFS('Cálculos de cessação'!$A$6:$A$105,"<>",'Cálculos de cessação'!$H$6:$H$105,">="&DATE($C$5,1,1),'Cálculos de cessação'!$H$6:$H$105,"<"&DATE($C$5+1,1,1),'Cálculos de cessação'!$AM$6:$AM$105,N11),0)
B12: Total de deduções estimadas | C12: =IFERROR(IF($C$6="Todos",SUMIFS('Cálculos de cessação'!$AK$6:$AK$105,'Cálculos de cessação'!$H$6:$H$105,">="&DATE($C$5,1,1),'Cálculos de cessação'!$H$6:$H$105,"<"&DATE($C$5+1,1,1)),IF($C$6="Todos exceto anulados",SUMIFS('Cálculos de cessação'!$AK$6:$AK$105,'Cálculos de cessação'!$H$6:$H$105,">="&DATE($C$5,1,1),'Cálculos de cessação'!$H$6:$H$105,"<"&DATE($C$5+1,1,1),'Cálculos de cessação'!$AM$6:$AM$105,"<>Anulado"),SUMIFS('Cálculos de cessação'!$AK$6:$AK$105,'Cálculos de cessação'!$H$6:$H$105,">="&DATE($C$5,1,1),'Cálculos de cessação'!$H$6:$H$105,"<"&DATE($C$5+1,1,1),'Cálculos de cessação'!$AM$6:$AM$105,$C$6))),0) | H12: Junho | I12: =IFERROR(IF($C$6="Todos",SUMIFS('Cálculos de cessação'!$AA$6:$AA$105,'Cálculos de cessação'!$H$6:$H$105,">="&DATE($C$5,ROWS($H$7:H12),1),'Cálculos de cessação'!$H$6:$H$105,"<"&EDATE(DATE($C$5,ROWS($H$7:H12),1),1)),IF($C$6="Todos exceto anulados",SUMIFS('Cálculos de cessação'!$AA$6:$AA$105,'Cálculos de cessação'!$H$6:$H$105,">="&DATE($C$5,ROWS($H$7:H12),1),'Cálculos de cessação'!$H$6:$H$105,"<"&EDATE(DATE($C$5,ROWS($H$7:H12),1),1),'Cálculos de cessação'!$AM$6:$AM$105,"<>Anulado"),SUMIFS('Cálculos de cessação'!$AA$6:$AA$105,'Cálculos de cessação'!$H$6:$H$105,">="&DATE($C$5,ROWS($H$7:H12),1),'Cálculos de cessação'!$H$6:$H$105,"<"&EDATE(DATE($C$5,ROWS($H$7:H12),1),1),'Cálculos de cessação'!$AM$6:$AM$105,$C$6))),0) | J12: =IFERROR(IF($C$6="Todos",SUMIFS('Cálculos de cessação'!$AK$6:$AK$105,'Cálculos de cessação'!$H$6:$H$105,">="&DATE($C$5,ROWS($H$7:H12),1),'Cálculos de cessação'!$H$6:$H$105,"<"&EDATE(DATE($C$5,ROWS($H$7:H12),1),1)),IF($C$6="Todos exceto anulados",SUMIFS('Cálculos de cessação'!$AK$6:$AK$105,'Cálculos de cessação'!$H$6:$H$105,">="&DATE($C$5,ROWS($H$7:H12),1),'Cálculos de cessação'!$H$6:$H$105,"<"&EDATE(DATE($C$5,ROWS($H$7:H12),1),1),'Cálculos de cessação'!$AM$6:$AM$105,"<>Anulado"),SUMIFS('Cálculos de cessação'!$AK$6:$AK$105,'Cálculos de cessação'!$H$6:$H$105,">="&DATE($C$5,ROWS($H$7:H12),1),'Cálculos de cessação'!$H$6:$H$105,"<"&EDATE(DATE($C$5,ROWS($H$7:H12),1),1),'Cálculos de cessação'!$AM$6:$AM$105,$C$6))),0) | K12: =IFERROR(IF($C$6="Todos",SUMIFS('Cálculos de cessação'!$AL$6:$AL$105,'Cálculos de cessação'!$H$6:$H$105,">="&DATE($C$5,ROWS($H$7:H12),1),'Cálculos de cessação'!$H$6:$H$105,"<"&EDATE(DATE($C$5,ROWS($H$7:H12),1),1)),IF($C$6="Todos exceto anulados",SUMIFS('Cálculos de cessação'!$AL$6:$AL$105,'Cálculos de cessação'!$H$6:$H$105,">="&DATE($C$5,ROWS($H$7:H12),1),'Cálculos de cessação'!$H$6:$H$105,"<"&EDATE(DATE($C$5,ROWS($H$7:H12),1),1),'Cálculos de cessação'!$AM$6:$AM$105,"<>Anulado"),SUMIFS('Cálculos de cessação'!$AL$6:$AL$105,'Cálculos de cessação'!$H$6:$H$105,">="&DATE($C$5,ROWS($H$7:H12),1),'Cálculos de cessação'!$H$6:$H$105,"<"&EDATE(DATE($C$5,ROWS($H$7:H12),1),1),'Cálculos de cessação'!$AM$6:$AM$105,$C$6))),0) | L12: =IFERROR(IF($C$6="Todos",COUNTIFS('Cálculos de cessação'!$A$6:$A$105,"<>",'Cálculos de cessação'!$H$6:$H$105,">="&DATE($C$5,ROWS($H$7:H12),1),'Cálculos de cessação'!$H$6:$H$105,"<"&EDATE(DATE($C$5,ROWS($H$7:H12),1),1)),IF($C$6="Todos exceto anulados",COUNTIFS('Cálculos de cessação'!$A$6:$A$105,"<>",'Cálculos de cessação'!$H$6:$H$105,">="&DATE($C$5,ROWS($H$7:H12),1),'Cálculos de cessação'!$H$6:$H$105,"<"&EDATE(DATE($C$5,ROWS($H$7:H12),1),1),'Cálculos de cessação'!$AM$6:$AM$105,"<>Anulado"),COUNTIFS('Cálculos de cessação'!$A$6:$A$105,"<>",'Cálculos de cessação'!$H$6:$H$105,">="&DATE($C$5,ROWS($H$7:H12),1),'Cálculos de cessação'!$H$6:$H$105,"<"&EDATE(DATE($C$5,ROWS($H$7:H12),1),1),'Cálculos de cessação'!$AM$6:$AM$105,$C$6))),0) | O12: =""
H13: Julho | I13: =IFERROR(IF($C$6="Todos",SUMIFS('Cálculos de cessação'!$AA$6:$AA$105,'Cálculos de cessação'!$H$6:$H$105,">="&DATE($C$5,ROWS($H$7:H13),1),'Cálculos de cessação'!$H$6:$H$105,"<"&EDATE(DATE($C$5,ROWS($H$7:H13),1),1)),IF($C$6="Todos exceto anulados",SUMIFS('Cálculos de cessação'!$AA$6:$AA$105,'Cálculos de cessação'!$H$6:$H$105,">="&DATE($C$5,ROWS($H$7:H13),1),'Cálculos de cessação'!$H$6:$H$105,"<"&EDATE(DATE($C$5,ROWS($H$7:H13),1),1),'Cálculos de cessação'!$AM$6:$AM$105,"<>Anulado"),SUMIFS('Cálculos de cessação'!$AA$6:$AA$105,'Cálculos de cessação'!$H$6:$H$105,">="&DATE($C$5,ROWS($H$7:H13),1),'Cálculos de cessação'!$H$6:$H$105,"<"&EDATE(DATE($C$5,ROWS($H$7:H13),1),1),'Cálculos de cessação'!$AM$6:$AM$105,$C$6))),0) | J13: =IFERROR(IF($C$6="Todos",SUMIFS('Cálculos de cessação'!$AK$6:$AK$105,'Cálculos de cessação'!$H$6:$H$105,">="&DATE($C$5,ROWS($H$7:H13),1),'Cálculos de cessação'!$H$6:$H$105,"<"&EDATE(DATE($C$5,ROWS($H$7:H13),1),1)),IF($C$6="Todos exceto anulados",SUMIFS('Cálculos de cessação'!$AK$6:$AK$105,'Cálculos de cessação'!$H$6:$H$105,">="&DATE($C$5,ROWS($H$7:H13),1),'Cálculos de cessação'!$H$6:$H$105,"<"&EDATE(DATE($C$5,ROWS($H$7:H13),1),1),'Cálculos de cessação'!$AM$6:$AM$105,"<>Anulado"),SUMIFS('Cálculos de cessação'!$AK$6:$AK$105,'Cálculos de cessação'!$H$6:$H$105,">="&DATE($C$5,ROWS($H$7:H13),1),'Cálculos de cessação'!$H$6:$H$105,"<"&EDATE(DATE($C$5,ROWS($H$7:H13),1),1),'Cálculos de cessação'!$AM$6:$AM$105,$C$6))),0) | K13: =IFERROR(IF($C$6="Todos",SUMIFS('Cálculos de cessação'!$AL$6:$AL$105,'Cálculos de cessação'!$H$6:$H$105,">="&DATE($C$5,ROWS($H$7:H13),1),'Cálculos de cessação'!$H$6:$H$105,"<"&EDATE(DATE($C$5,ROWS($H$7:H13),1),1)),IF($C$6="Todos exceto anulados",SUMIFS('Cálculos de cessação'!$AL$6:$AL$105,'Cálculos de cessação'!$H$6:$H$105,">="&DATE($C$5,ROWS($H$7:H13),1),'Cálculos de cessação'!$H$6:$H$105,"<"&EDATE(DATE($C$5,ROWS($H$7:H13),1),1),'Cálculos de cessação'!$AM$6:$AM$105,"<>Anulado"),SUMIFS('Cálculos de cessação'!$AL$6:$AL$105,'Cálculos de cessação'!$H$6:$H$105,">="&DATE($C$5,ROWS($H$7:H13),1),'Cálculos de cessação'!$H$6:$H$105,"<"&EDATE(DATE($C$5,ROWS($H$7:H13),1),1),'Cálculos de cessação'!$AM$6:$AM$105,$C$6))),0) | L13: =IFERROR(IF($C$6="Todos",COUNTIFS('Cálculos de cessação'!$A$6:$A$105,"<>",'Cálculos de cessação'!$H$6:$H$105,">="&DATE($C$5,ROWS($H$7:H13),1),'Cálculos de cessação'!$H$6:$H$105,"<"&EDATE(DATE($C$5,ROWS($H$7:H13),1),1)),IF($C$6="Todos exceto anulados",COUNTIFS('Cálculos de cessação'!$A$6:$A$105,"<>",'Cálculos de cessação'!$H$6:$H$105,">="&DATE($C$5,ROWS($H$7:H13),1),'Cálculos de cessação'!$H$6:$H$105,"<"&EDATE(DATE($C$5,ROWS($H$7:H13),1),1),'Cálculos de cessação'!$AM$6:$AM$105,"<>Anulado"),COUNTIFS('Cálculos de cessação'!$A$6:$A$105,"<>",'Cálculos de cessação'!$H$6:$H$105,">="&DATE($C$5,ROWS($H$7:H13),1),'Cálculos de cessação'!$H$6:$H$105,"<"&EDATE(DATE($C$5,ROWS($H$7:H13),1),1),'Cálculos de cessação'!$AM$6:$AM$105,$C$6))),0) | O13: =""
B14: Líquido estimado | C14: =IFERROR(IF($C$6="Todos",SUMIFS('Cálculos de cessação'!$AL$6:$AL$105,'Cálculos de cessação'!$H$6:$H$105,">="&DATE($C$5,1,1),'Cálculos de cessação'!$H$6:$H$105,"<"&DATE($C$5+1,1,1)),IF($C$6="Todos exceto anulados",SUMIFS('Cálculos de cessação'!$AL$6:$AL$105,'Cálculos de cessação'!$H$6:$H$105,">="&DATE($C$5,1,1),'Cálculos de cessação'!$H$6:$H$105,"<"&DATE($C$5+1,1,1),'Cálculos de cessação'!$AM$6:$AM$105,"<>Anulado"),SUMIFS('Cálculos de cessação'!$AL$6:$AL$105,'Cálculos de cessação'!$H$6:$H$105,">="&DATE($C$5,1,1),'Cálculos de cessação'!$H$6:$H$105,"<"&DATE($C$5+1,1,1),'Cálculos de cessação'!$AM$6:$AM$105,$C$6))),0) | H14: Agosto | I14: =IFERROR(IF($C$6="Todos",SUMIFS('Cálculos de cessação'!$AA$6:$AA$105,'Cálculos de cessação'!$H$6:$H$105,">="&DATE($C$5,ROWS($H$7:H14),1),'Cálculos de cessação'!$H$6:$H$105,"<"&EDATE(DATE($C$5,ROWS($H$7:H14),1),1)),IF($C$6="Todos exceto anulados",SUMIFS('Cálculos de cessação'!$AA$6:$AA$105,'Cálculos de cessação'!$H$6:$H$105,">="&DATE($C$5,ROWS($H$7:H14),1),'Cálculos de cessação'!$H$6:$H$105,"<"&EDATE(DATE($C$5,ROWS($H$7:H14),1),1),'Cálculos de cessação'!$AM$6:$AM$105,"<>Anulado"),SUMIFS('Cálculos de cessação'!$AA$6:$AA$105,'Cálculos de cessação'!$H$6:$H$105,">="&DATE($C$5,ROWS($H$7:H14),1),'Cálculos de cessação'!$H$6:$H$105,"<"&EDATE(DATE($C$5,ROWS($H$7:H14),1),1),'Cálculos de cessação'!$AM$6:$AM$105,$C$6))),0) | J14: =IFERROR(IF($C$6="Todos",SUMIFS('Cálculos de cessação'!$AK$6:$AK$105,'Cálculos de cessação'!$H$6:$H$105,">="&DATE($C$5,ROWS($H$7:H14),1),'Cálculos de cessação'!$H$6:$H$105,"<"&EDATE(DATE($C$5,ROWS($H$7:H14),1),1)),IF($C$6="Todos exceto anulados",SUMIFS('Cálculos de cessação'!$AK$6:$AK$105,'Cálculos de cessação'!$H$6:$H$105,">="&DATE($C$5,ROWS($H$7:H14),1),'Cálculos de cessação'!$H$6:$H$105,"<"&EDATE(DATE($C$5,ROWS($H$7:H14),1),1),'Cálculos de cessação'!$AM$6:$AM$105,"<>Anulado"),SUMIFS('Cálculos de cessação'!$AK$6:$AK$105,'Cálculos de cessação'!$H$6:$H$105,">="&DATE($C$5,ROWS($H$7:H14),1),'Cálculos de cessação'!$H$6:$H$105,"<"&EDATE(DATE($C$5,ROWS($H$7:H14),1),1),'Cálculos de cessação'!$AM$6:$AM$105,$C$6))),0) | K14: =IFERROR(IF($C$6="Todos",SUMIFS('Cálculos de cessação'!$AL$6:$AL$105,'Cálculos de cessação'!$H$6:$H$105,">="&DATE($C$5,ROWS($H$7:H14),1),'Cálculos de cessação'!$H$6:$H$105,"<"&EDATE(DATE($C$5,ROWS($H$7:H14),1),1)),IF($C$6="Todos exceto anulados",SUMIFS('Cálculos de cessação'!$AL$6:$AL$105,'Cálculos de cessação'!$H$6:$H$105,">="&DATE($C$5,ROWS($H$7:H14),1),'Cálculos de cessação'!$H$6:$H$105,"<"&EDATE(DATE($C$5,ROWS($H$7:H14),1),1),'Cálculos de cessação'!$AM$6:$AM$105,"<>Anulado"),SUMIFS('Cálculos de cessação'!$AL$6:$AL$105,'Cálculos de cessação'!$H$6:$H$105,">="&DATE($C$5,ROWS($H$7:H14),1),'Cálculos de cessação'!$H$6:$H$105,"<"&EDATE(DATE($C$5,ROWS($H$7:H14),1),1),'Cálculos de cessação'!$AM$6:$AM$105,$C$6))),0) | L14: =IFERROR(IF($C$6="Todos",COUNTIFS('Cálculos de cessação'!$A$6:$A$105,"<>",'Cálculos de cessação'!$H$6:$H$105,">="&DATE($C$5,ROWS($H$7:H14),1),'Cálculos de cessação'!$H$6:$H$105,"<"&EDATE(DATE($C$5,ROWS($H$7:H14),1),1)),IF($C$6="Todos exceto anulados",COUNTIFS('Cálculos de cessação'!$A$6:$A$105,"<>",'Cálculos de cessação'!$H$6:$H$105,">="&DATE($C$5,ROWS($H$7:H14),1),'Cálculos de cessação'!$H$6:$H$105,"<"&EDATE(DATE($C$5,ROWS($H$7:H14),1),1),'Cálculos de cessação'!$AM$6:$AM$105,"<>Anulado"),COUNTIFS('Cálculos de cessação'!$A$6:$A$105,"<>",'Cálculos de cessação'!$H$6:$H$105,">="&DATE($C$5,ROWS($H$7:H14),1),'Cálculos de cessação'!$H$6:$H$105,"<"&EDATE(DATE($C$5,ROWS($H$7:H14),1),1),'Cálculos de cessação'!$AM$6:$AM$105,$C$6))),0) | O14: =""
H15: Setembro | I15: =IFERROR(IF($C$6="Todos",SUMIFS('Cálculos de cessação'!$AA$6:$AA$105,'Cálculos de cessação'!$H$6:$H$105,">="&DATE($C$5,ROWS($H$7:H15),1),'Cálculos de cessação'!$H$6:$H$105,"<"&EDATE(DATE($C$5,ROWS($H$7:H15),1),1)),IF($C$6="Todos exceto anulados",SUMIFS('Cálculos de cessação'!$AA$6:$AA$105,'Cálculos de cessação'!$H$6:$H$105,">="&DATE($C$5,ROWS($H$7:H15),1),'Cálculos de cessação'!$H$6:$H$105,"<"&EDATE(DATE($C$5,ROWS($H$7:H15),1),1),'Cálculos de cessação'!$AM$6:$AM$105,"<>Anulado"),SUMIFS('Cálculos de cessação'!$AA$6:$AA$105,'Cálculos de cessação'!$H$6:$H$105,">="&DATE($C$5,ROWS($H$7:H15),1),'Cálculos de cessação'!$H$6:$H$105,"<"&EDATE(DATE($C$5,ROWS($H$7:H15),1),1),'Cálculos de cessação'!$AM$6:$AM$105,$C$6))),0) | J15: =IFERROR(IF($C$6="Todos",SUMIFS('Cálculos de cessação'!$AK$6:$AK$105,'Cálculos de cessação'!$H$6:$H$105,">="&DATE($C$5,ROWS($H$7:H15),1),'Cálculos de cessação'!$H$6:$H$105,"<"&EDATE(DATE($C$5,ROWS($H$7:H15),1),1)),IF($C$6="Todos exceto anulados",SUMIFS('Cálculos de cessação'!$AK$6:$AK$105,'Cálculos de cessação'!$H$6:$H$105,">="&DATE($C$5,ROWS($H$7:H15),1),'Cálculos de cessação'!$H$6:$H$105,"<"&EDATE(DATE($C$5,ROWS($H$7:H15),1),1),'Cálculos de cessação'!$AM$6:$AM$105,"<>Anulado"),SUMIFS('Cálculos de cessação'!$AK$6:$AK$105,'Cálculos de cessação'!$H$6:$H$105,">="&DATE($C$5,ROWS($H$7:H15),1),'Cálculos de cessação'!$H$6:$H$105,"<"&EDATE(DATE($C$5,ROWS($H$7:H15),1),1),'Cálculos de cessação'!$AM$6:$AM$105,$C$6))),0) | K15: =IFERROR(IF($C$6="Todos",SUMIFS('Cálculos de cessação'!$AL$6:$AL$105,'Cálculos de cessação'!$H$6:$H$105,">="&DATE($C$5,ROWS($H$7:H15),1),'Cálculos de cessação'!$H$6:$H$105,"<"&EDATE(DATE($C$5,ROWS($H$7:H15),1),1)),IF($C$6="Todos exceto anulados",SUMIFS('Cálculos de cessação'!$AL$6:$AL$105,'Cálculos de cessação'!$H$6:$H$105,">="&DATE($C$5,ROWS($H$7:H15),1),'Cálculos de cessação'!$H$6:$H$105,"<"&EDATE(DATE($C$5,ROWS($H$7:H15),1),1),'Cálculos de cessação'!$AM$6:$AM$105,"<>Anulado"),SUMIFS('Cálculos de cessação'!$AL$6:$AL$105,'Cálculos de cessação'!$H$6:$H$105,">="&DATE($C$5,ROWS($H$7:H15),1),'Cálculos de cessação'!$H$6:$H$105,"<"&EDATE(DATE($C$5,ROWS($H$7:H15),1),1),'Cálculos de cessação'!$AM$6:$AM$105,$C$6))),0) | L15: =IFERROR(IF($C$6="Todos",COUNTIFS('Cálculos de cessação'!$A$6:$A$105,"<>",'Cálculos de cessação'!$H$6:$H$105,">="&DATE($C$5,ROWS($H$7:H15),1),'Cálculos de cessação'!$H$6:$H$105,"<"&EDATE(DATE($C$5,ROWS($H$7:H15),1),1)),IF($C$6="Todos exceto anulados",COUNTIFS('Cálculos de cessação'!$A$6:$A$105,"<>",'Cálculos de cessação'!$H$6:$H$105,">="&DATE($C$5,ROWS($H$7:H15),1),'Cálculos de cessação'!$H$6:$H$105,"<"&EDATE(DATE($C$5,ROWS($H$7:H15),1),1),'Cálculos de cessação'!$AM$6:$AM$105,"<>Anulado"),COUNTIFS('Cálculos de cessação'!$A$6:$A$105,"<>",'Cálculos de cessação'!$H$6:$H$105,">="&DATE($C$5,ROWS($H$7:H15),1),'Cálculos de cessação'!$H$6:$H$105,"<"&EDATE(DATE($C$5,ROWS($H$7:H15),1),1),'Cálculos de cessação'!$AM$6:$AM$105,$C$6))),0) | O15: =""
B16: Processos com controlo pendente | C16: =IFERROR(IF($C$6="Todos",COUNTIFS('Cálculos de cessação'!$A$6:$A$105,"<>",'Cálculos de cessação'!$H$6:$H$105,">="&DATE($C$5,1,1),'Cálculos de cessação'!$H$6:$H$105,"<"&DATE($C$5+1,1,1),'Cálculos de cessação'!$AP$6:$AP$105,"<>OK"),IF($C$6="Todos exceto anulados",COUNTIFS('Cálculos de cessação'!$A$6:$A$105,"<>",'Cálculos de cessação'!$H$6:$H$105,">="&DATE($C$5,1,1),'Cálculos de cessação'!$H$6:$H$105,"<"&DATE($C$5+1,1,1),'Cálculos de cessação'!$AM$6:$AM$105,"<>Anulado",'Cálculos de cessação'!$AP$6:$AP$105,"<>OK"),COUNTIFS('Cálculos de cessação'!$A$6:$A$105,"<>",'Cálculos de cessação'!$H$6:$H$105,">="&DATE($C$5,1,1),'Cálculos de cessação'!$H$6:$H$105,"<"&DATE($C$5+1,1,1),'Cálculos de cessação'!$AM$6:$AM$105,$C$6,'Cálculos de cessação'!$AP$6:$AP$105,"<>OK"))),0) | H16: Outubro | I16: =IFERROR(IF($C$6="Todos",SUMIFS('Cálculos de cessação'!$AA$6:$AA$105,'Cálculos de cessação'!$H$6:$H$105,">="&DATE($C$5,ROWS($H$7:H16),1),'Cálculos de cessação'!$H$6:$H$105,"<"&EDATE(DATE($C$5,ROWS($H$7:H16),1),1)),IF($C$6="Todos exceto anulados",SUMIFS('Cálculos de cessação'!$AA$6:$AA$105,'Cálculos de cessação'!$H$6:$H$105,">="&DATE($C$5,ROWS($H$7:H16),1),'Cálculos de cessação'!$H$6:$H$105,"<"&EDATE(DATE($C$5,ROWS($H$7:H16),1),1),'Cálculos de cessação'!$AM$6:$AM$105,"<>Anulado"),SUMIFS('Cálculos de cessação'!$AA$6:$AA$105,'Cálculos de cessação'!$H$6:$H$105,">="&DATE($C$5,ROWS($H$7:H16),1),'Cálculos de cessação'!$H$6:$H$105,"<"&EDATE(DATE($C$5,ROWS($H$7:H16),1),1),'Cálculos de cessação'!$AM$6:$AM$105,$C$6))),0) | J16: =IFERROR(IF($C$6="Todos",SUMIFS('Cálculos de cessação'!$AK$6:$AK$105,'Cálculos de cessação'!$H$6:$H$105,">="&DATE($C$5,ROWS($H$7:H16),1),'Cálculos de cessação'!$H$6:$H$105,"<"&EDATE(DATE($C$5,ROWS($H$7:H16),1),1)),IF($C$6="Todos exceto anulados",SUMIFS('Cálculos de cessação'!$AK$6:$AK$105,'Cálculos de cessação'!$H$6:$H$105,">="&DATE($C$5,ROWS($H$7:H16),1),'Cálculos de cessação'!$H$6:$H$105,"<"&EDATE(DATE($C$5,ROWS($H$7:H16),1),1),'Cálculos de cessação'!$AM$6:$AM$105,"<>Anulado"),SUMIFS('Cálculos de cessação'!$AK$6:$AK$105,'Cálculos de cessação'!$H$6:$H$105,">="&DATE($C$5,ROWS($H$7:H16),1),'Cálculos de cessação'!$H$6:$H$105,"<"&EDATE(DATE($C$5,ROWS($H$7:H16),1),1),'Cálculos de cessação'!$AM$6:$AM$105,$C$6))),0) | K16: =IFERROR(IF($C$6="Todos",SUMIFS('Cálculos de cessação'!$AL$6:$AL$105,'Cálculos de cessação'!$H$6:$H$105,">="&DATE($C$5,ROWS($H$7:H16),1),'Cálculos de cessação'!$H$6:$H$105,"<"&EDATE(DATE($C$5,ROWS($H$7:H16),1),1)),IF($C$6="Todos exceto anulados",SUMIFS('Cálculos de cessação'!$AL$6:$AL$105,'Cálculos de cessação'!$H$6:$H$105,">="&DATE($C$5,ROWS($H$7:H16),1),'Cálculos de cessação'!$H$6:$H$105,"<"&EDATE(DATE($C$5,ROWS($H$7:H16),1),1),'Cálculos de cessação'!$AM$6:$AM$105,"<>Anulado"),SUMIFS('Cálculos de cessação'!$AL$6:$AL$105,'Cálculos de cessação'!$H$6:$H$105,">="&DATE($C$5,ROWS($H$7:H16),1),'Cálculos de cessação'!$H$6:$H$105,"<"&EDATE(DATE($C$5,ROWS($H$7:H16),1),1),'Cálculos de cessação'!$AM$6:$AM$105,$C$6))),0) | L16: =IFERROR(IF($C$6="Todos",COUNTIFS('Cálculos de cessação'!$A$6:$A$105,"<>",'Cálculos de cessação'!$H$6:$H$105,">="&DATE($C$5,ROWS($H$7:H16),1),'Cálculos de cessação'!$H$6:$H$105,"<"&EDATE(DATE($C$5,ROWS($H$7:H16),1),1)),IF($C$6="Todos exceto anulados",COUNTIFS('Cálculos de cessação'!$A$6:$A$105,"<>",'Cálculos de cessação'!$H$6:$H$105,">="&DATE($C$5,ROWS($H$7:H16),1),'Cálculos de cessação'!$H$6:$H$105,"<"&EDATE(DATE($C$5,ROWS($H$7:H16),1),1),'Cálculos de cessação'!$AM$6:$AM$105,"<>Anulado"),COUNTIFS('Cálculos de cessação'!$A$6:$A$105,"<>",'Cálculos de cessação'!$H$6:$H$105,">="&DATE($C$5,ROWS($H$7:H16),1),'Cálculos de cessação'!$H$6:$H$105,"<"&EDATE(DATE($C$5,ROWS($H$7:H16),1),1),'Cálculos de cessação'!$AM$6:$AM$105,$C$6))),0) | O16: =""
C17: ="" | H17: Novembro | I17: =IFERROR(IF($C$6="Todos",SUMIFS('Cálculos de cessação'!$AA$6:$AA$105,'Cálculos de cessação'!$H$6:$H$105,">="&DATE($C$5,ROWS($H$7:H17),1),'Cálculos de cessação'!$H$6:$H$105,"<"&EDATE(DATE($C$5,ROWS($H$7:H17),1),1)),IF($C$6="Todos exceto anulados",SUMIFS('Cálculos de cessação'!$AA$6:$AA$105,'Cálculos de cessação'!$H$6:$H$105,">="&DATE($C$5,ROWS($H$7:H17),1),'Cálculos de cessação'!$H$6:$H$105,"<"&EDATE(DATE($C$5,ROWS($H$7:H17),1),1),'Cálculos de cessação'!$AM$6:$AM$105,"<>Anulado"),SUMIFS('Cálculos de cessação'!$AA$6:$AA$105,'Cálculos de cessação'!$H$6:$H$105,">="&DATE($C$5,ROWS($H$7:H17),1),'Cálculos de cessação'!$H$6:$H$105,"<"&EDATE(DATE($C$5,ROWS($H$7:H17),1),1),'Cálculos de cessação'!$AM$6:$AM$105,$C$6))),0) | J17: =IFERROR(IF($C$6="Todos",SUMIFS('Cálculos de cessação'!$AK$6:$AK$105,'Cálculos de cessação'!$H$6:$H$105,">="&DATE($C$5,ROWS($H$7:H17),1),'Cálculos de cessação'!$H$6:$H$105,"<"&EDATE(DATE($C$5,ROWS($H$7:H17),1),1)),IF($C$6="Todos exceto anulados",SUMIFS('Cálculos de cessação'!$AK$6:$AK$105,'Cálculos de cessação'!$H$6:$H$105,">="&DATE($C$5,ROWS($H$7:H17),1),'Cálculos de cessação'!$H$6:$H$105,"<"&EDATE(DATE($C$5,ROWS($H$7:H17),1),1),'Cálculos de cessação'!$AM$6:$AM$105,"<>Anulado"),SUMIFS('Cálculos de cessação'!$AK$6:$AK$105,'Cálculos de cessação'!$H$6:$H$105,">="&DATE($C$5,ROWS($H$7:H17),1),'Cálculos de cessação'!$H$6:$H$105,"<"&EDATE(DATE($C$5,ROWS($H$7:H17),1),1),'Cálculos de cessação'!$AM$6:$AM$105,$C$6))),0) | K17: =IFERROR(IF($C$6="Todos",SUMIFS('Cálculos de cessação'!$AL$6:$AL$105,'Cálculos de cessação'!$H$6:$H$105,">="&DATE($C$5,ROWS($H$7:H17),1),'Cálculos de cessação'!$H$6:$H$105,"<"&EDATE(DATE($C$5,ROWS($H$7:H17),1),1)),IF($C$6="Todos exceto anulados",SUMIFS('Cálculos de cessação'!$AL$6:$AL$105,'Cálculos de cessação'!$H$6:$H$105,">="&DATE($C$5,ROWS($H$7:H17),1),'Cálculos de cessação'!$H$6:$H$105,"<"&EDATE(DATE($C$5,ROWS($H$7:H17),1),1),'Cálculos de cessação'!$AM$6:$AM$105,"<>Anulado"),SUMIFS('Cálculos de cessação'!$AL$6:$AL$105,'Cálculos de cessação'!$H$6:$H$105,">="&DATE($C$5,ROWS($H$7:H17),1),'Cálculos de cessação'!$H$6:$H$105,"<"&EDATE(DATE($C$5,ROWS($H$7:H17),1),1),'Cálculos de cessação'!$AM$6:$AM$105,$C$6))),0) | L17: =IFERROR(IF($C$6="Todos",COUNTIFS('Cálculos de cessação'!$A$6:$A$105,"<>",'Cálculos de cessação'!$H$6:$H$105,">="&DATE($C$5,ROWS($H$7:H17),1),'Cálculos de cessação'!$H$6:$H$105,"<"&EDATE(DATE($C$5,ROWS($H$7:H17),1),1)),IF($C$6="Todos exceto anulados",COUNTIFS('Cálculos de cessação'!$A$6:$A$105,"<>",'Cálculos de cessação'!$H$6:$H$105,">="&DATE($C$5,ROWS($H$7:H17),1),'Cálculos de cessação'!$H$6:$H$105,"<"&EDATE(DATE($C$5,ROWS($H$7:H17),1),1),'Cálculos de cessação'!$AM$6:$AM$105,"<>Anulado"),COUNTIFS('Cálculos de cessação'!$A$6:$A$105,"<>",'Cálculos de cessação'!$H$6:$H$105,">="&DATE($C$5,ROWS($H$7:H17),1),'Cálculos de cessação'!$H$6:$H$105,"<"&EDATE(DATE($C$5,ROWS($H$7:H17),1),1),'Cálculos de cessação'!$AM$6:$AM$105,$C$6))),0) | O17: =""
C18: ="" | H18: Dezembro | I18: =IFERROR(IF($C$6="Todos",SUMIFS('Cálculos de cessação'!$AA$6:$AA$105,'Cálculos de cessação'!$H$6:$H$105,">="&DATE($C$5,ROWS($H$7:H18),1),'Cálculos de cessação'!$H$6:$H$105,"<"&EDATE(DATE($C$5,ROWS($H$7:H18),1),1)),IF($C$6="Todos exceto anulados",SUMIFS('Cálculos de cessação'!$AA$6:$AA$105,'Cálculos de cessação'!$H$6:$H$105,">="&DATE($C$5,ROWS($H$7:H18),1),'Cálculos de cessação'!$H$6:$H$105,"<"&EDATE(DATE($C$5,ROWS($H$7:H18),1),1),'Cálculos de cessação'!$AM$6:$AM$105,"<>Anulado"),SUMIFS('Cálculos de cessação'!$AA$6:$AA$105,'Cálculos de cessação'!$H$6:$H$105,">="&DATE($C$5,ROWS($H$7:H18),1),'Cálculos de cessação'!$H$6:$H$105,"<"&EDATE(DATE($C$5,ROWS($H$7:H18),1),1),'Cálculos de cessação'!$AM$6:$AM$105,$C$6))),0) | J18: =IFERROR(IF($C$6="Todos",SUMIFS('Cálculos de cessação'!$AK$6:$AK$105,'Cálculos de cessação'!$H$6:$H$105,">="&DATE($C$5,ROWS($H$7:H18),1),'Cálculos de cessação'!$H$6:$H$105,"<"&EDATE(DATE($C$5,ROWS($H$7:H18),1),1)),IF($C$6="Todos exceto anulados",SUMIFS('Cálculos de cessação'!$AK$6:$AK$105,'Cálculos de cessação'!$H$6:$H$105,">="&DATE($C$5,ROWS($H$7:H18),1),'Cálculos de cessação'!$H$6:$H$105,"<"&EDATE(DATE($C$5,ROWS($H$7:H18),1),1),'Cálculos de cessação'!$AM$6:$AM$105,"<>Anulado"),SUMIFS('Cálculos de cessação'!$AK$6:$AK$105,'Cálculos de cessação'!$H$6:$H$105,">="&DATE($C$5,ROWS($H$7:H18),1),'Cálculos de cessação'!$H$6:$H$105,"<"&EDATE(DATE($C$5,ROWS($H$7:H18),1),1),'Cálculos de cessação'!$AM$6:$AM$105,$C$6))),0) | K18: =IFERROR(IF($C$6="Todos",SUMIFS('Cálculos de cessação'!$AL$6:$AL$105,'Cálculos de cessação'!$H$6:$H$105,">="&DATE($C$5,ROWS($H$7:H18),1),'Cálculos de cessação'!$H$6:$H$105,"<"&EDATE(DATE($C$5,ROWS($H$7:H18),1),1)),IF($C$6="Todos exceto anulados",SUMIFS('Cálculos de cessação'!$AL$6:$AL$105,'Cálculos de cessação'!$H$6:$H$105,">="&DATE($C$5,ROWS($H$7:H18),1),'Cálculos de cessação'!$H$6:$H$105,"<"&EDATE(DATE($C$5,ROWS($H$7:H18),1),1),'Cálculos de cessação'!$AM$6:$AM$105,"<>Anulado"),SUMIFS('Cálculos de cessação'!$AL$6:$AL$105,'Cálculos de cessação'!$H$6:$H$105,">="&DATE($C$5,ROWS($H$7:H18),1),'Cálculos de cessação'!$H$6:$H$105,"<"&EDATE(DATE($C$5,ROWS($H$7:H18),1),1),'Cálculos de cessação'!$AM$6:$AM$105,$C$6))),0) | L18: =IFERROR(IF($C$6="Todos",COUNTIFS('Cálculos de cessação'!$A$6:$A$105,"<>",'Cálculos de cessação'!$H$6:$H$105,">="&DATE($C$5,ROWS($H$7:H18),1),'Cálculos de cessação'!$H$6:$H$105,"<"&EDATE(DATE($C$5,ROWS($H$7:H18),1),1)),IF($C$6="Todos exceto anulados",COUNTIFS('Cálculos de cessação'!$A$6:$A$105,"<>",'Cálculos de cessação'!$H$6:$H$105,">="&DATE($C$5,ROWS($H$7:H18),1),'Cálculos de cessação'!$H$6:$H$105,"<"&EDATE(DATE($C$5,ROWS($H$7:H18),1),1),'Cálculos de cessação'!$AM$6:$AM$105,"<>Anulado"),COUNTIFS('Cálculos de cessação'!$A$6:$A$105,"<>",'Cálculos de cessação'!$H$6:$H$105,">="&DATE($C$5,ROWS($H$7:H18),1),'Cálculos de cessação'!$H$6:$H$105,"<"&EDATE(DATE($C$5,ROWS($H$7:H18),1),1),'Cálculos de cessação'!$AM$6:$AM$105,$C$6))),0) | O18: =""
C19: ="" | I19: ="" | J19: ="" | K19: ="" | L19: ="" | O19: =""
C20: ="" | I20: ="" | J20: ="" | K20: ="" | L20: ="" | O20: =""
C21: ="" | I21: ="" | J21: ="" | K21: ="" | L21: ="" | O21: =""
C22: ="" | I22: ="" | J22: ="" | K22: ="" | L22: ="" | O22: =""
C23: ="" | I23: ="" | J23: ="" | K23: ="" | L23: ="" | O23: =""
C24: ="" | I24: ="" | J24: ="" | K24: ="" | L24: ="" | O24: =""
C25: ="" | I25: ="" | J25: ="" | K25: ="" | L25: ="" | O25: =""
C26: ="" | I26: ="" | J26: ="" | K26: ="" | L26: ="" | O26: =""
C27: ="" | I27: ="" | J27: ="" | K27: ="" | L27: ="" | O27: =""
C28: ="" | I28: ="" | J28: ="" | K28: ="" | L28: ="" | O28: =""
C29: ="" | I29: ="" | J29: ="" | K29: ="" | L29: ="" | O29: =""
C30: ="" | I30: ="" | J30: ="" | K30: ="" | L30: ="" | O30: =""
... C101: ="" | I101: ="" | J101: ="" | K101: ="" | L101: ="" | O101: =""

Sheet Cálculos de cessação
A1: Registo de compensação por cessação
A2: As células amarelas são editáveis. As células cinzentas são calculadas. Os valores devem ser confirmados com a documentação e o enquadramento aplicáveis ao processo.
A4: A contagem técnica de dias entre datas é apenas informativa e não determina antiguidade, compensação, incidência fiscal ou contributiva.
A5: ID do processo | B5: Trabalhador / titular | C5: NIF opcional | D5: Entidade empregadora | E5: Tipo de vínculo | F5: Motivo de cessação | G5: Data de início | H5: Data de cessação | I5: Dias de serviço calculados | J5: Remuneração base mensal | K5: Diuturnidades mensais | L5: Outros componentes mensais relevantes | M5: Base mensal calculada | N5: Base diária confirmada | O5: Dias de compensação confirmados | P5: Limite específico confirmado | Q5: Limite aplicado | R5: Compensação antes de limite | S5: Compensação calculada após limite | T5: Compensação bruta confirmada, substituir | U5: Compensação bruta utilizada | V5: Férias e subsídio de férias | W5: Proporcionais e duodécimos | X5: Retribuições e créditos | Y5: Aviso prévio e outros abonos | Z5: Total de outros créditos | AA5: Total bruto de cessação | AB5: Parcela sujeita a IRS confirmada | AC5: Taxa de IRS específica | AD5: Taxa de IRS aplicada | AE5: Retenção de IRS estimada | AF5: Parcela sujeita a Segurança Social confirmada | AG5: Taxa de Segurança Social específica | AH5: Taxa de Segurança Social aplicada | AI5: Dedução de Segurança Social estimada | AJ5: Outras deduções | AK5: Total de deduções | AL5: Líquido estimado | AM5: Estado | AN5: Referência do documento / acordo | AO5: Observações e confirmação | AP5: Controlo
A6: CESS-2026-001 | B6: Ana Martins | D6: Atlântico Claro, Lda. | E6: Sem termo | F6: Revogação por acordo | G6: 43194 | H6: 46053 | I6: =IF($A6="","",IFERROR(IF(OR($G6="",$H6=""),"",IF($H6<$G6,"Verificar datas",$H6-$G6+1)),"")) | J6: 1450 | K6: 0 | L6: 0 | M6: =IF($A6="","",IFERROR(SUM($J6:$L6),0)) | N6: 52.1 | O6: 68 | Q6: =IF($A6="","",IFERROR(IF($P6<>"",$P6,IF('Parâmetros'!$C$8="Sim",IF(COUNT('Parâmetros'!$C$9)=0,"",'Parâmetros'!$C$9),"")),"")) | R6: =IF($A6="","",IFERROR(IF(OR($N6="",$O6=""),"",$N6*$O6),"")) | S6: =IF($A6="","",IFERROR(IF($R6="","",IF($Q6="",$R6,MIN($R6,$Q6))),"")) | U6: =IF($A6="","",IFERROR(IF($T6<>"",$T6,$S6),"")) | V6: 1200 | W6: 850 | X6: 0 | Y6: 0 | Z6: =IF($A6="","",IFERROR(SUM($V6:$Y6),0)) | AA6: =IF($A6="","",IFERROR(SUM($U6,$Z6),0)) | AB6: 1000 | AC6: 0.12 | AD6: =IF($A6="","",IFERROR(IF($AB6="","",IF($AB6=0,0,IF($AC6<>"",$AC6,IF(COUNT('Parâmetros'!$C$6)=0,"",'Parâmetros'!$C$6)))),"")) | AE6: =IF($A6="","",IFERROR(IF($AB6="","",IF($AB6=0,0,IF($AD6="","",$AB6*$AD6))),"")) | AF6: 0 | AH6: =IF($A6="","",IFERROR(IF($AF6="","",IF($AF6=0,0,IF($AG6<>"",$AG6,IF(COUNT('Parâmetros'!$C$7)=0,"",'Parâmetros'!$C$7)))),"")) | AI6: =IF($A6="","",IFERROR(IF($AF6="","",IF($AF6=0,0,IF($AH6="","",$AF6*$AH6))),"")) | AJ6: 0 | AK6: =IF($A6="","",IFERROR(SUM($AE6,$AI6,$AJ6),0)) | AL6: =IF($A6="","",IFERROR(IF(OR(AND($AB6<>"",$AE6=""),AND($AF6<>"",$AI6="")),"",$AA6-$AK6),"")) | AM6: A confirmar | AN6: ACR-2026-001 | AO6: Cenário de teste fictício — confirmar valores, incidências e documentação antes de utilizar. | AP6: =IF($A6="","",IFERROR(IF(OR($B6="",$D6="",$G6="",$H6=""),"Dados a completar",IF(OR($I6="Verificar datas",$H6<$G6),"Verificar datas",IF(AND($T6="",$S6=""),"Apurar compensação",IF(OR($AB6="",$AF6=""),"Confirmar bases IRS/SS",IF(OR(AND($AB6>0,$AE6=""),AND($AF6>0,$AI6="")),"Confirmar taxas",IF(ROUND($AA6-$AK6-$AL6,2)<>0,"Erro de total","OK")))))),"Verificar"))
A7: CESS-2026-002 | B7: Bruno Silva | D7: Horizonte Prático, Lda. | E7: A termo certo | F7: Caducidade | G7: 42614 | H7: 46081 | I7: =IF($A7="","",IFERROR(IF(OR($G7="",$H7=""),"",IF($H7<$G7,"Verificar datas",$H7-$G7+1)),"")) | J7: 2180 | K7: 85 | L7: 0 | M7: =IF($A7="","",IFERROR(SUM($J7:$L7),0)) | N7: 78.4 | O7: 120 | P7: 9000 | Q7: =IF($A7="","",IFERROR(IF($P7<>"",$P7,IF('Parâmetros'!$C$8="Sim",IF(COUNT('Parâmetros'!$C$9)=0,"",'Parâmetros'!$C$9),"")),"")) | R7: =IF($A7="","",IFERROR(IF(OR($N7="",$O7=""),"",$N7*$O7),"")) | S7: =IF($A7="","",IFERROR(IF($R7="","",IF($Q7="",$R7,MIN($R7,$Q7))),"")) | U7: =IF($A7="","",IFERROR(IF($T7<>"",$T7,$S7),"")) | V7: 2500 | W7: 1200 | X7: 300 | Y7: 0 | Z7: =IF($A7="","",IFERROR(SUM($V7:$Y7),0)) | AA7: =IF($A7="","",IFERROR(SUM($U7,$Z7),0)) | AB7: 0 | AD7: =IF($A7="","",IFERROR(IF($AB7="","",IF($AB7=0,0,IF($AC7<>"",$AC7,IF(COUNT('Parâmetros'!$C$6)=0,"",'Parâmetros'!$C$6)))),"")) | AE7: =IF($A7="","",IFERROR(IF($AB7="","",IF($AB7=0,0,IF($AD7="","",$AB7*$AD7))),"")) | AF7: 0 | AH7: =IF($A7="","",IFERROR(IF($AF7="","",IF($AF7=0,0,IF($AG7<>"",$AG7,IF(COUNT('Parâmetros'!$C$7)=0,"",'Parâmetros'!$C$7)))),"")) | AI7: =IF($A7="","",IFERROR(IF($AF7="","",IF($AF7=0,0,IF($AH7="","",$AF7*$AH7))),"")) | AJ7: 50 | AK7: =IF($A7="","",IFERROR(SUM($AE7,$AI7,$AJ7),0)) | AL7: =IF($A7="","",IFERROR(IF(OR(AND($AB7<>"",$AE7=""),AND($AF7<>"",$AI7="")),"",$AA7-$AK7),"")) | AM7: Pago | AN7: ACR-2026-002 | AO7: Cenário de teste fictício — confirmar valores, incidências e documentação antes de utilizar. | AP7: =IF($A7="","",IFERROR(IF(OR($B7="",$D7="",$G7="",$H7=""),"Dados a completar",IF(OR($I7="Verificar datas",$H7<$G7),"Verificar datas",IF(AND($T7="",$S7=""),"Apurar compensação",IF(OR($AB7="",$AF7=""),"Confirmar bases IRS/SS",IF(OR(AND($AB7>0,$AE7=""),AND($AF7>0,$AI7="")),"Confirmar taxas",IF(ROUND($AA7-$AK7-$AL7,2)<>0,"Erro de total","OK")))))),"Verificar"))
A8: CESS-2026-003 | B8: Carla Neves | D8: Oficina Norte, Unipessoal Lda. | E8: Comissão de serviço | F8: Outro / confirmar | G8: 44563 | H8: 46112 | I8: =IF($A8="","",IFERROR(IF(OR($G8="",$H8=""),"",IF($H8<$G8,"Verificar datas",$H8-$G8+1)),"")) | J8: 1260 | K8: 0 | L8: 0 | M8: =IF($A8="","",IFERROR(SUM($J8:$L8),0)) | N8: 45 | O8: 45 | Q8: =IF($A8="","",IFERROR(IF($P8<>"",$P8,IF('Parâmetros'!$C$8="Sim",IF(COUNT('Parâmetros'!$C$9)=0,"",'Parâmetros'!$C$9),"")),"")) | R8: =IF($A8="","",IFERROR(IF(OR($N8="",$O8=""),"",$N8*$O8),"")) | S8: =IF($A8="","",IFERROR(IF($R8="","",IF($Q8="",$R8,MIN($R8,$Q8))),"")) | T8: 2100 | U8: =IF($A8="","",IFERROR(IF($T8<>"",$T8,$S8),"")) | V8: 0 | W8: 750 | X8: 120 | Y8: 0 | Z8: =IF($A8="","",IFERROR(SUM($V8:$Y8),0)) | AA8: =IF($A8="","",IFERROR(SUM($U8,$Z8),0)) | AB8: 500 | AC8: 0.1 | AD8: =IF($A8="","",IFERROR(IF($AB8="","",IF($AB8=0,0,IF($AC8<>"",$AC8,IF(COUNT('Parâmetros'!$C$6)=0,"",'Parâmetros'!$C$6)))),"")) | AE8: =IF($A8="","",IFERROR(IF($AB8="","",IF($AB8=0,0,IF($AD8="","",$AB8*$AD8))),"")) | AF8: 500 | AG8: 0.08 | AH8: =IF($A8="","",IFERROR(IF($AF8="","",IF($AF8=0,0,IF($AG8<>"",$AG8,IF(COUNT('Parâmetros'!$C$7)=0,"",'Parâmetros'!$C$7)))),"")) | AI8: =IF($A8="","",IFERROR(IF($AF8="","",IF($AF8=0,0,IF($AH8="","",$AF8*$AH8))),"")) | AJ8: 0 | AK8: =IF($A8="","",IFERROR(SUM($AE8,$AI8,$AJ8),0)) | AL8: =IF($A8="","",IFERROR(IF(OR(AND($AB8<>"",$AE8=""),AND($AF8<>"",$AI8="")),"",$AA8-$AK8),"")) | AM8: Aprovado internamente | AN8: ACR-2026-003 | AO8: Cenário de teste fictício — confirmar valores, incidências e documentação antes de utilizar. | AP8: =IF($A8="","",IFERROR(IF(OR($B8="",$D8="",$G8="",$H8=""),"Dados a completar",IF(OR($I8="Verificar datas",$H8<$G8),"Verificar datas",IF(AND($T8="",$S8=""),"Apurar compensação",IF(OR($AB8="",$AF8=""),"Confirmar bases IRS/SS",IF(OR(AND($AB8>0,$AE8=""),AND($AF8>0,$AI8="")),"Confirmar taxas",IF(ROUND($AA8-$AK8-$AL8,2)<>0,"Erro de total","OK")))))),"Verificar"))
A9: CESS-2026-004 | B9: Diogo Ribeiro | D9: Litoral Técnico, Lda. | E9: Sem termo | F9: Iniciativa da entidade empregadora | G9: 41075 | H9: 46142 | I9: =IF($A9="","",IFERROR(IF(OR($G9="",$H9=""),"",IF($H9<$G9,"Verificar datas",$H9-$G9+1)),"")) | J9: 2850 | K9: 145 | L9: 150 | M9: =IF($A9="","",IFERROR(SUM($J9:$L9),0)) | N9: 96.5 | O9: 180 | Q9: =IF($A9="","",IFERROR(IF($P9<>"",$P9,IF('Parâmetros'!$C$8="Sim",IF(COUNT('Parâmetros'!$C$9)=0,"",'Parâmetros'!$C$9),"")),"")) | R9: =IF($A9="","",IFERROR(IF(OR($N9="",$O9=""),"",$N9*$O9),"")) | S9: =IF($A9="","",IFERROR(IF($R9="","",IF($Q9="",$R9,MIN($R9,$Q9))),"")) | U9: =IF($A9="","",IFERROR(IF($T9<>"",$T9,$S9),"")) | V9: 1900 | W9: 900 | X9: 0 | Y9: 600 | Z9: =IF($A9="","",IFERROR(SUM($V9:$Y9),0)) | AA9: =IF($A9="","",IFERROR(SUM($U9,$Z9),0)) | AB9: 2000 | AC9: 0.18 | AD9: =IF($A9="","",IFERROR(IF($AB9="","",IF($AB9=0,0,IF($AC9<>"",$AC9,IF(COUNT('Parâmetros'!$C$6)=0,"",'Parâmetros'!$C$6)))),"")) | AE9: =IF($A9="","",IFERROR(IF($AB9="","",IF($AB9=0,0,IF($AD9="","",$AB9*$AD9))),"")) | AF9: 0 | AH9: =IF($A9="","",IFERROR(IF($AF9="","",IF($AF9=0,0,IF($AG9<>"",$AG9,IF(COUNT('Parâmetros'!$C$7)=0,"",'Parâmetros'!$C$7)))),"")) | AI9: =IF($A9="","",IFERROR(IF($AF9="","",IF($AF9=0,0,IF($AH9="","",$AF9*$AH9))),"")) | AJ9: 0 | AK9: =IF($A9="","",IFERROR(SUM($AE9,$AI9,$AJ9),0)) | AL9: =IF($A9="","",IFERROR(IF(OR(AND($AB9<>"",$AE9=""),AND($AF9<>"",$AI9="")),"",$AA9-$AK9),"")) | AM9: Pago | AN9: ACR-2026-004 | AO9: Cenário de teste fictício — confirmar valores, incidências e documentação antes de utilizar. | AP9: =IF($A9="","",IFERROR(IF(OR($B9="",$D9="",$G9="",$H9=""),"Dados a completar",IF(OR($I9="Verificar datas",$H9<$G9),"Verificar datas",IF(AND($T9="",$S9=""),"Apurar compensação",IF(OR($AB9="",$AF9=""),"Confirmar bases IRS/SS",IF(OR(AND($AB9>0,$AE9=""),AND($AF9>0,$AI9="")),"Confirmar taxas",IF(ROUND($AA9-$AK9-$AL9,2)<>0,"Erro de total","OK")))))),"Verificar"))
A10: CESS-2026-005 | B10: Elsa Costa | D10: Ponto Verde, Lda. | E10: A termo incerto | F10: Caducidade | G10: 44105 | H10: 46173 | I10: =IF($A10="","",IFERROR(IF(OR($G10="",$H10=""),"",IF($H10<$G10,"Verificar datas",$H10-$G10+1)),"")) | J10: 1680 | K10: 0 | L10: 0 | M10: =IF($A10="","",IFERROR(SUM($J10:$L10),0)) | N10: 60 | O10: 30 | Q10: =IF($A10="","",IFERROR(IF($P10<>"",$P10,IF('Parâmetros'!$C$8="Sim",IF(COUNT('Parâmetros'!$C$9)=0,"",'Parâmetros'!$C$9),"")),"")) | R10: =IF($A10="","",IFERROR(IF(OR($N10="",$O10=""),"",$N10*$O10),"")) | S10: =IF($A10="","",IFERROR(IF($R10="","",IF($Q10="",$R10,MIN($R10,$Q10))),"")) | U10: =IF($A10="","",IFERROR(IF($T10<>"",$T10,$S10),"")) | V10: 1600 | W10: 600 | X10: 0 | Y10: 0 | Z10: =IF($A10="","",IFERROR(SUM($V10:$Y10),0)) | AA10: =IF($A10="","",IFERROR(SUM($U10,$Z10),0)) | AB10: 0 | AD10: =IF($A10="","",IFERROR(IF($AB10="","",IF($AB10=0,0,IF($AC10<>"",$AC10,IF(COUNT('Parâmetros'!$C$6)=0,"",'Parâmetros'!$C$6)))),"")) | AE10: =IF($A10="","",IFERROR(IF($AB10="","",IF($AB10=0,0,IF($AD10="","",$AB10*$AD10))),"")) | AF10: 0 | AH10: =IF($A10="","",IFERROR(IF($AF10="","",IF($AF10=0,0,IF($AG10<>"",$AG10,IF(COUNT('Parâmetros'!$C$7)=0,"",'Parâmetros'!$C$7)))),"")) | AI10: =IF($A10="","",IFERROR(IF($AF10="","",IF($AF10=0,0,IF($AH10="","",$AF10*$AH10))),"")) | AJ10: 0 | AK10: =IF($A10="","",IFERROR(SUM($AE10,$AI10,$AJ10),0)) | AL10: =IF($A10="","",IFERROR(IF(OR(AND($AB10<>"",$AE10=""),AND($AF10<>"",$AI10="")),"",$AA10-$AK10),"")) | AM10: Pago | AN10: ACR-2026-005 | AO10: Cenário de teste fictício — confirmar valores, incidências e documentação antes de utilizar. | AP10: =IF($A10="","",IFERROR(IF(OR($B10="",$D10="",$G10="",$H10=""),"Dados a completar",IF(OR($I10="Verificar datas",$H10<$G10),"Verificar datas",IF(AND($T10="",$S10=""),"Apurar compensação",IF(OR($AB10="",$AF10=""),"Confirmar bases IRS/SS",IF(OR(AND($AB10>0,$AE10=""),AND($AF10>0,$AI10="")),"Confirmar taxas",IF(ROUND($AA10-$AK10-$AL10,2)<>0,"Erro de total","OK")))))),"Verificar"))
A11: CESS-2026-006 | B11: Fábio Correia | D11: Rota Segura, Lda. | E11: Sem termo | F11: Iniciativa do trabalhador | G11: 43650 | H11: 46203 | I11: =IF($A11="","",IFERROR(IF(OR($G11="",$H11=""),"",IF($H11<$G11,"Verificar datas",$H11-$G11+1)),"")) | J11: 1960 | K11: 50 | L11: 0 | M11: =IF($A11="","",IFERROR(SUM($J11:$L11),0)) | N11: 70 | O11: 90 | Q11: =IF($A11="","",IFERROR(IF($P11<>"",$P11,IF('Parâmetros'!$C$8="Sim",IF(COUNT('Parâmetros'!$C$9)=0,"",'Parâmetros'!$C$9),"")),"")) | R11: =IF($A11="","",IFERROR(IF(OR($N11="",$O11=""),"",$N11*$O11),"")) | S11: =IF($A11="","",IFERROR(IF($R11="","",IF($Q11="",$R11,MIN($R11,$Q11))),"")) | U11: =IF($A11="","",IFERROR(IF($T11<>"",$T11,$S11),"")) | V11: 1800 | W11: 1000 | X11: 450 | Y11: 0 | Z11: =IF($A11="","",IFERROR(SUM($V11:$Y11),0)) | AA11: =IF($A11="","",IFERROR(SUM($U11,$Z11),0)) | AB11: 1200 | AC11: 0.15 | AD11: =IF($A11="","",IFERROR(IF($AB11="","",IF($AB11=0,0,IF($AC11<>"",$AC11,IF(COUNT('Parâmetros'!$C$6)=0,"",'Parâmetros'!$C$6)))),"")) | AE11: =IF($A11="","",IFERROR(IF($AB11="","",IF($AB11=0,0,IF($AD11="","",$AB11*$AD11))),"")) | AF11: 0 | AH11: =IF($A11="","",IFERROR(IF($AF11="","",IF($AF11=0,0,IF($AG11<>"",$AG11,IF(COUNT('Parâmetros'!$C$7)=0,"",'Parâmetros'!$C$7)))),"")) | AI11: =IF($A11="","",IFERROR(IF($AF11="","",IF($AF11=0,0,IF($AH11="","",$AF11*$AH11))),"")) | AJ11: 0 | AK11: =IF($A11="","",IFERROR(SUM($AE11,$AI11,$AJ11),0)) | AL11: =IF($A11="","",IFERROR(IF(OR(AND($AB11<>"",$AE11=""),AND($AF11<>"",$AI11="")),"",$AA11-$AK11),"")) | AM11: A confirmar | AN11: ACR-2026-006 | AO11: Cenário de teste fictício — confirmar valores, incidências e documentação antes de utilizar. | AP11: =IF($A11="","",IFERROR(IF(OR($B11="",$D11="",$G11="",$H11=""),"Dados a completar",IF(OR($I11="Verificar datas",$H11<$G11),"Verificar datas",IF(AND($T11="",$S11=""),"Apurar compensação",IF(OR($AB11="",$AF11=""),"Confirmar bases IRS/SS",IF(OR(AND($AB11>0,$AE11=""),AND($AF11>0,$AI11="")),"Confirmar taxas",IF(ROUND($AA11-$AK11-$AL11,2)<>0,"Erro de total","OK")))))),"Verificar"))
A12: CESS-2026-007 | B12: Graça Almeida | D12: Mosaico Urbano, Lda. | E12: Outro / confirmar | F12: Outro / confirmar | G12: 44958 | H12: 46234 | I12: =IF($A12="","",IFERROR(IF(OR($G12="",$H12=""),"",IF($H12<$G12,"Verificar datas",$H12-$G12+1)),"")) | J12: 1120 | K12: 0 | L12: 0 | M12: =IF($A12="","",IFERROR(SUM($J12:$L12),0)) | N12: 40 | O12: 24 | Q12: =IF($A12="","",IFERROR(IF($P12<>"",$P12,IF('Parâmetros'!$C$8="Sim",IF(COUNT('Parâmetros'!$C$9)=0,"",'Parâmetros'!$C$9),"")),"")) | R12: =IF($A12="","",IFERROR(IF(OR($N12="",$O12=""),"",$N12*$O12),"")) | S12: =IF($A12="","",IFERROR(IF($R12="","",IF($Q12="",$R12,MIN($R12,$Q12))),"")) | U12: =IF($A12="","",IFERROR(IF($T12<>"",$T12,$S12),"")) | V12: 900 | W12: 420 | X12: 0 | Y12: 0 | Z12: =IF($A12="","",IFERROR(SUM($V12:$Y12),0)) | AA12: =IF($A12="","",IFERROR(SUM($U12,$Z12),0)) | AB12: 0 | AD12: =IF($A12="","",IFERROR(IF($AB12="","",IF($AB12=0,0,IF($AC12<>"",$AC12,IF(COUNT('Parâmetros'!$C$6)=0,"",'Parâmetros'!$C$6)))),"")) | AE12: =IF($A12="","",IFERROR(IF($AB12="","",IF($AB12=0,0,IF($AD12="","",$AB12*$AD12))),"")) | AF12: 0 | AH12: =IF($A12="","",IFERROR(IF($AF12="","",IF($AF12=0,0,IF($AG12<>"",$AG12,IF(COUNT('Parâmetros'!$C$7)=0,"",'Parâmetros'!$C$7)))),"")) | AI12: =IF($A12="","",IFERROR(IF($AF12="","",IF($AF12=0,0,IF($AH12="","",$AF12*$AH12))),"")) | AJ12: 0 | AK12: =IF($A12="","",IFERROR(SUM($AE12,$AI12,$AJ12),0)) | AL12: =IF($A12="","",IFERROR(IF(OR(AND($AB12<>"",$AE12=""),AND($AF12<>"",$AI12="")),"",$AA12-$AK12),"")) | AM12: Em preparação | AN12: ACR-2026-007 | AO12: Cenário de teste fictício — confirmar valores, incidências e documentação antes de utilizar. | AP12: =IF($A12="","",IFERROR(IF(OR($B12="",$D12="",$G12="",$H12=""),"Dados a completar",IF(OR($I12="Verificar datas",$H12<$G12),"Verificar datas",IF(AND($T12="",$S12=""),"Apurar compensação",IF(OR($AB12="",$AF12=""),"Confirmar bases IRS/SS",IF(OR(AND($AB12>0,$AE12=""),AND($AF12>0,$AI12="")),"Confirmar taxas",IF(ROUND($AA12-$AK12-$AL12,2)<>0,"Erro de total","OK")))))),"Verificar"))
A13: CESS-2026-008 | B13: Henrique Lopes | D13: Círculo Digital, Lda. | E13: Sem termo | F13: Iniciativa da entidade empregadora | G13: 42318 | H13: 46265 | I13: =IF($A13="","",IFERROR(IF(OR($G13="",$H13=""),"",IF($H13<$G13,"Verificar datas",$H13-$G13+1)),"")) | J13: 3350 | K13: 180 | L13: 0 | M13: =IF($A13="","",IFERROR(SUM($J13:$L13),0)) | N13: 118 | O13: 200 | P13: 22000 | Q13: =IF($A13="","",IFERROR(IF($P13<>"",$P13,IF('Parâmetros'!$C$8="Sim",IF(COUNT('Parâmetros'!$C$9)=0,"",'Parâmetros'!$C$9),"")),"")) | R13: =IF($A13="","",IFERROR(IF(OR($N13="",$O13=""),"",$N13*$O13),"")) | S13: =IF($A13="","",IFERROR(IF($R13="","",IF($Q13="",$R13,MIN($R13,$Q13))),"")) | U13: =IF($A13="","",IFERROR(IF($T13<>"",$T13,$S13),"")) | V13: 2900 | W13: 1500 | X13: 0 | Y13: 850 | Z13: =IF($A13="","",IFERROR(SUM($V13:$Y13),0)) | AA13: =IF($A13="","",IFERROR(SUM($U13,$Z13),0)) | AB13: 4000 | AC13: 0.22 | AD13: =IF($A13="","",IFERROR(IF($AB13="","",IF($AB13=0,0,IF($AC13<>"",$AC13,IF(COUNT('Parâmetros'!$C$6)=0,"",'Parâmetros'!$C$6)))),"")) | AE13: =IF($A13="","",IFERROR(IF($AB13="","",IF($AB13=0,0,IF($AD13="","",$AB13*$AD13))),"")) | AF13: 0 | AH13: =IF($A13="","",IFERROR(IF($AF13="","",IF($AF13=0,0,IF($AG13<>"",$AG13,IF(COUNT('Parâmetros'!$C$7)=0,"",'Parâmetros'!$C$7)))),"")) | AI13: =IF($A13="","",IFERROR(IF($AF13="","",IF($AF13=0,0,IF($AH13="","",$AF13*$AH13))),"")) | AJ13: 100 | AK13: =IF($A13="","",IFERROR(SUM($AE13,$AI13,$AJ13),0)) | AL13: =IF($A13="","",IFERROR(IF(OR(AND($AB13<>"",$AE13=""),AND($AF13<>"",$AI13="")),"",$AA13-$AK13),"")) | AM13: Pago | AN13: ACR-2026-008 | AO13: Cenário de teste fictício — confirmar valores, incidências e documentação antes de utilizar. | AP13: =IF($A13="","",IFERROR(IF(OR($B13="",$D13="",$G13="",$H13=""),"Dados a completar",IF(OR($I13="Verificar datas",$H13<$G13),"Verificar datas",IF(AND($T13="",$S13=""),"Apurar compensação",IF(OR($AB13="",$AF13=""),"Confirmar bases IRS/SS",IF(OR(AND($AB13>0,$AE13=""),AND($AF13>0,$AI13="")),"Confirmar taxas",IF(ROUND($AA13-$AK13-$AL13,2)<>0,"Erro de total","OK")))))),"Verificar"))
