Workbook

Sheet Painel
A1: IRS de Casal — Comparação entre Tributação Conjunta e Separada
A3: Ano de referência | B3: ='Parâmetros e Cálculo'!$B$3 | D3: Estado do modelo | E3: ='Parâmetros e Cálculo'!$B$42
A5: Comparação de saldos estimados | D5: Indicadores de base
A6: Tributação conjunta — saldo estimado | B6: ='Parâmetros e Cálculo'!$E$28 | D6: Opção com menor saldo nesta estimativa | E6: =IF(OR(B6="",B7=""),"Dados insuficientes",IF(B6<B7,"Tributação conjunta",IF(B7<B6,"Tributação separada","Sem diferença")))
A7: Tributação separada — saldo estimado | B7: ='Parâmetros e Cálculo'!$D$28 | D7: Rendimentos a considerar registados | E7: ='Parâmetros e Cálculo'!$E$21
A8: Diferença entre saldos estimados | B8: =IF(OR(B6="",B7=""),"",ABS(B6-B7)) | D8: Retenções na fonte registadas | E8: ='Parâmetros e Cálculo'!$E$25
D9: Deduções registadas | E9: ='Parâmetros e Cálculo'!$E$24
E10: =""
A11: =IF($E$3<>"PRONTO PARA COMPARAÇÃO","Não interprete a comparação enquanto existirem parâmetros em falta ou controlos por rever.","Resultado aritmético configurável. Confirme pressupostos, valores e resultado na fonte oficial aplicável.") | E11: =""
E12: =""
E13: =""
E14: =""
E15: =""
E16: =""
E17: =""
E18: =""
E19: =""
E20: =""
E21: =""
E22: =""
E23: =""
... E31: =""
A32: Base do gráfico | E32: =""
A33: Regime | B33: Imposto estimado após deduções | C33: Retenções registadas | E33: =""
A34: Tributação separada | B34: ='Parâmetros e Cálculo'!$D$27 | C34: ='Parâmetros e Cálculo'!$D$25 | E34: =""
A35: Tributação conjunta | B35: ='Parâmetros e Cálculo'!$E$27 | C35: ='Parâmetros e Cálculo'!$E$25 | E35: =""
B36: ="" | E36: =""
B37: ="" | E37: =""
B38: ="" | E38: =""
B39: ="" | E39: =""
B40: ="" | E40: =""
B41: ="" | E41: =""
B42: ="" | E42: =""
B43: ="" | E43: =""
B44: ="" | E44: =""
B45: ="" | E45: =""
B46: ="" | E46: =""
B47: ="" | E47: =""
... B101: ="" | E101: =""

Sheet Dados do Casal
A1: Registo de valores para comparação de tributação conjunta e separada
A2: Introduza um movimento por linha. As percentagens são hipóteses de repartição para a simulação e devem ser confirmadas pelo utilizador.
A5: Nº | B5: Titular de origem | C5: Natureza | D5: Data | E5: Descrição | F5: Referência / observação | G5: Valor | H5: % para conjunta | I5: % para separada — Titular A | J5: % para separada — Titular B | K5: Valor para conjunta | L5: Valor para separada — Titular A | M5: Valor para separada — Titular B | N5: Controlo da repartição separada | O5: Controlo da repartição conjunta
A6: =IF($C6="","",ROW()-5) | B6: A | C6: Rendimento a considerar | D6: 46053 | E6: Trabalho por conta de outrem | F6: Rendimentos anuais introduzidos | G6: 26500 | H6: 1 | I6: 1 | J6: 0 | K6: =IF(OR($C6="",$G6="",$H6=""),"",IFERROR($G6*$H6,0)) | L6: =IF(OR($C6="",$G6="",$I6=""),"",IFERROR($G6*$I6,0)) | M6: =IF(OR($C6="",$G6="",$J6=""),"",IFERROR($G6*$J6,0)) | N6: =IF(OR($C6="",$G6="",$I6="",$J6=""),"",IFERROR(IF(ABS($I6+$J6-1)<0.000001,"OK","REVER"),"REVER")) | O6: =IF(OR($C6="",$G6="",$H6=""),"",IFERROR(IF(ABS($H6-1)<0.000001,"OK","REVER"),"REVER"))
A7: =IF($C7="","",ROW()-5) | B7: B | C7: Rendimento a considerar | D7: 46081 | E7: Prestação de serviços | F7: Actividade independente | G7: 18700 | H7: 1 | I7: 0 | J7: 1 | K7: =IF(OR($C7="",$G7="",$H7=""),"",IFERROR($G7*$H7,0)) | L7: =IF(OR($C7="",$G7="",$I7=""),"",IFERROR($G7*$I7,0)) | M7: =IF(OR($C7="",$G7="",$J7=""),"",IFERROR($G7*$J7,0)) | N7: =IF(OR($C7="",$G7="",$I7="",$J7=""),"",IFERROR(IF(ABS($I7+$J7-1)<0.000001,"OK","REVER"),"REVER")) | O7: =IF(OR($C7="",$G7="",$H7=""),"",IFERROR(IF(ABS($H7-1)<0.000001,"OK","REVER"),"REVER"))
A8: =IF($C8="","",ROW()-5) | B8: A | C8: Retenção na fonte | D8: 46387 | E8: Retenção na fonte | F8: Total anual registado | G8: 3200 | H8: 1 | I8: 1 | J8: 0 | K8: =IF(OR($C8="",$G8="",$H8=""),"",IFERROR($G8*$H8,0)) | L8: =IF(OR($C8="",$G8="",$I8=""),"",IFERROR($G8*$I8,0)) | M8: =IF(OR($C8="",$G8="",$J8=""),"",IFERROR($G8*$J8,0)) | N8: =IF(OR($C8="",$G8="",$I8="",$J8=""),"",IFERROR(IF(ABS($I8+$J8-1)<0.000001,"OK","REVER"),"REVER")) | O8: =IF(OR($C8="",$G8="",$H8=""),"",IFERROR(IF(ABS($H8-1)<0.000001,"OK","REVER"),"REVER"))
A9: =IF($C9="","",ROW()-5) | B9: B | C9: Retenção na fonte | D9: 46387 | E9: Retenção na fonte | F9: Total anual registado | G9: 2100 | H9: 1 | I9: 0 | J9: 1 | K9: =IF(OR($C9="",$G9="",$H9=""),"",IFERROR($G9*$H9,0)) | L9: =IF(OR($C9="",$G9="",$I9=""),"",IFERROR($G9*$I9,0)) | M9: =IF(OR($C9="",$G9="",$J9=""),"",IFERROR($G9*$J9,0)) | N9: =IF(OR($C9="",$G9="",$I9="",$J9=""),"",IFERROR(IF(ABS($I9+$J9-1)<0.000001,"OK","REVER"),"REVER")) | O9: =IF(OR($C9="",$G9="",$H9=""),"",IFERROR(IF(ABS($H9-1)<0.000001,"OK","REVER"),"REVER"))
A10: =IF($C10="","",ROW()-5) | B10: Comum | C10: Dedução à coleta | D10: 46387 | E10: Despesas elegíveis a confirmar | F10: Repartição ilustrativa | G10: 1050 | H10: 1 | I10: 0.5 | J10: 0.5 | K10: =IF(OR($C10="",$G10="",$H10=""),"",IFERROR($G10*$H10,0)) | L10: =IF(OR($C10="",$G10="",$I10=""),"",IFERROR($G10*$I10,0)) | M10: =IF(OR($C10="",$G10="",$J10=""),"",IFERROR($G10*$J10,0)) | N10: =IF(OR($C10="",$G10="",$I10="",$J10=""),"",IFERROR(IF(ABS($I10+$J10-1)<0.000001,"OK","REVER"),"REVER")) | O10: =IF(OR($C10="",$G10="",$H10=""),"",IFERROR(IF(ABS($H10-1)<0.000001,"OK","REVER"),"REVER"))
A11: =IF($C11="","",ROW()-5) | B11: A | C11: Ajustamento à base | D11: 46387 | E11: Correcção manual da base | F11: Exemplo de ajustamento negativo | G11: -500 | H11: 1 | I11: 1 | J11: 0 | K11: =IF(OR($C11="",$G11="",$H11=""),"",IFERROR($G11*$H11,0)) | L11: =IF(OR($C11="",$G11="",$I11=""),"",IFERROR($G11*$I11,0)) | M11: =IF(OR($C11="",$G11="",$J11=""),"",IFERROR($G11*$J11,0)) | N11: =IF(OR($C11="",$G11="",$I11="",$J11=""),"",IFERROR(IF(ABS($I11+$J11-1)<0.000001,"OK","REVER"),"REVER")) | O11: =IF(OR($C11="",$G11="",$H11=""),"",IFERROR(IF(ABS($H11-1)<0.000001,"OK","REVER"),"REVER"))
A12: =IF($C12="","",ROW()-5) | B12: B | C12: Dedução à coleta | D12: 46387 | E12: Dedução a confirmar | F12: Afetação individual | G12: 300 | H12: 1 | I12: 0 | J12: 1 | K12: =IF(OR($C12="",$G12="",$H12=""),"",IFERROR($G12*$H12,0)) | L12: =IF(OR($C12="",$G12="",$I12=""),"",IFERROR($G12*$I12,0)) | M12: =IF(OR($C12="",$G12="",$J12=""),"",IFERROR($G12*$J12,0)) | N12: =IF(OR($C12="",$G12="",$I12="",$J12=""),"",IFERROR(IF(ABS($I12+$J12-1)<0.000001,"OK","REVER"),"REVER")) | O12: =IF(OR($C12="",$G12="",$H12=""),"",IFERROR(IF(ABS($H12-1)<0.000001,"OK","REVER"),"REVER"))
A13: =IF($C13="","",ROW()-5) | B13: A | C13: Rendimento a considerar | D13: 46203 | E13: Prémio anual | F13: Rendimento a considerar | G13: 1250 | H13: 1 | I13: 1 | J13: 0 | K13: =IF(OR($C13="",$G13="",$H13=""),"",IFERROR($G13*$H13,0)) | L13: =IF(OR($C13="",$G13="",$I13=""),"",IFERROR($G13*$I13,0)) | M13: =IF(OR($C13="",$G13="",$J13=""),"",IFERROR($G13*$J13,0)) | N13: =IF(OR($C13="",$G13="",$I13="",$J13=""),"",IFERROR(IF(ABS($I13+$J13-1)<0.000001,"OK","REVER"),"REVER")) | O13: =IF(OR($C13="",$G13="",$H13=""),"",IFERROR(IF(ABS($H13-1)<0.000001,"OK","REVER"),"REVER"))
A14: =IF($C14="","",ROW()-5) | B14: B | C14: Ajustamento à base | D14: 46387 | E14: Correcção manual da base | F14: Exemplo de ajustamento positivo | G14: 250 | H14: 1 | I14: 0 | J14: 1 | K14: =IF(OR($C14="",$G14="",$H14=""),"",IFERROR($G14*$H14,0)) | L14: =IF(OR($C14="",$G14="",$I14=""),"",IFERROR($G14*$I14,0)) | M14: =IF(OR($C14="",$G14="",$J14=""),"",IFERROR($G14*$J14,0)) | N14: =IF(OR($C14="",$G14="",$I14="",$J14=""),"",IFERROR(IF(ABS($I14+$J14-1)<0.000001,"OK","REVER"),"REVER")) | O14: =IF(OR($C14="",$G14="",$H14=""),"",IFERROR(IF(ABS($H14-1)<0.000001,"OK","REVER"),"REVER"))
A15: =IF($C15="","",ROW()-5) | K15: =IF(OR($C15="",$G15="",$H15=""),"",IFERROR($G15*$H15,0)) | L15: =IF(OR($C15="",$G15="",$I15=""),"",IFERROR($G15*$I15,0)) | M15: =IF(OR($C15="",$G15="",$J15=""),"",IFERROR($G15*$J15,0)) | N15: =IF(OR($C15="",$G15="",$I15="",$J15=""),"",IFERROR(IF(ABS($I15+$J15-1)<0.000001,"OK","REVER"),"REVER")) | O15: =IF(OR($C15="",$G15="",$H15=""),"",IFERROR(IF(ABS($H15-1)<0.000001,"OK","REVER"),"REVER"))
A16: =IF($C16="","",ROW()-5) | K16: =IF(OR($C16="",$G16="",$H16=""),"",IFERROR($G16*$H16,0)) | L16: =IF(OR($C16="",$G16="",$I16=""),"",IFERROR($G16*$I16,0)) | M16: =IF(OR($C16="",$G16="",$J16=""),"",IFERROR($G16*$J16,0)) | N16: =IF(OR($C16="",$G16="",$I16="",$J16=""),"",IFERROR(IF(ABS($I16+$J16-1)<0.000001,"OK","REVER"),"REVER")) | O16: =IF(OR($C16="",$G16="",$H16=""),"",IFERROR(IF(ABS($H16-1)<0.000001,"OK","REVER"),"REVER"))
A17: =IF($C17="","",ROW()-5) | K17: =IF(OR($C17="",$G17="",$H17=""),"",IFERROR($G17*$H17,0)) | L17: =IF(OR($C17="",$G17="",$I17=""),"",IFERROR($G17*$I17,0)) | M17: =IF(OR($C17="",$G17="",$J17=""),"",IFERROR($G17*$J17,0)) | N17: =IF(OR($C17="",$G17="",$I17="",$J17=""),"",IFERROR(IF(ABS($I17+$J17-1)<0.000001,"OK","REVER"),"REVER")) | O17: =IF(OR($C17="",$G17="",$H17=""),"",IFERROR(IF(ABS($H17-1)<0.000001,"OK","REVER"),"REVER"))
A18: =IF($C18="","",ROW()-5) | K18: =IF(OR($C18="",$G18="",$H18=""),"",IFERROR($G18*$H18,0)) | L18: =IF(OR($C18="",$G18="",$I18=""),"",IFERROR($G18*$I18,0)) | M18: =IF(OR($C18="",$G18="",$J18=""),"",IFERROR($G18*$J18,0)) | N18: =IF(OR($C18="",$G18="",$I18="",$J18=""),"",IFERROR(IF(ABS($I18+$J18-1)<0.000001,"OK","REVER"),"REVER")) | O18: =IF(OR($C18="",$G18="",$H18=""),"",IFERROR(IF(ABS($H18-1)<0.000001,"OK","REVER"),"REVER"))
A19: =IF($C19="","",ROW()-5) | K19: =IF(OR($C19="",$G19="",$H19=""),"",IFERROR($G19*$H19,0)) | L19: =IF(OR($C19="",$G19="",$I19=""),"",IFERROR($G19*$I19,0)) | M19: =IF(OR($C19="",$G19="",$J19=""),"",IFERROR($G19*$J19,0)) | N19: =IF(OR($C19="",$G19="",$I19="",$J19=""),"",IFERROR(IF(ABS($I19+$J19-1)<0.000001,"OK","REVER"),"REVER")) | O19: =IF(OR($C19="",$G19="",$H19=""),"",IFERROR(IF(ABS($H19-1)<0.000001,"OK","REVER"),"REVER"))
A20: =IF($C20="","",ROW()-5) | K20: =IF(OR($C20="",$G20="",$H20=""),"",IFERROR($G20*$H20,0)) | L20: =IF(OR($C20="",$G20="",$I20=""),"",IFERROR($G20*$I20,0)) | M20: =IF(OR($C20="",$G20="",$J20=""),"",IFERROR($G20*$J20,0)) | N20: =IF(OR($C20="",$G20="",$I20="",$J20=""),"",IFERROR(IF(ABS($I20+$J20-1)<0.000001,"OK","REVER"),"REVER")) | O20: =IF(OR($C20="",$G20="",$H20=""),"",IFERROR(IF(ABS($H20-1)<0.000001,"OK","REVER"),"REVER"))
A21: =IF($C21="","",ROW()-5) | K21: =IF(OR($C21="",$G21="",$H21=""),"",IFERROR($G21*$H21,0)) | L21: =IF(OR($C21="",$G21="",$I21=""),"",IFERROR($G21*$I21,0)) | M21: =IF(OR($C21="",$G21="",$J21=""),"",IFERROR($G21*$J21,0)) | N21: =IF(OR($C21="",$G21="",$I21="",$J21=""),"",IFERROR(IF(ABS($I21+$J21-1)<0.000001,"OK","REVER"),"REVER")) | O21: =IF(OR($C21="",$G21="",$H21=""),"",IFERROR(IF(ABS($H21-1)<0.000001,"OK","REVER"),"REVER"))
A22: =IF($C22="","",ROW()-5) | K22: =IF(OR($C22="",$G22="",$H22=""),"",IFERROR($G22*$H22,0)) | L22: =IF(OR($C22="",$G22="",$I22=""),"",IFERROR($G22*$I22,0)) | M22: =IF(OR($C22="",$G22="",$J22=""),"",IFERROR($G22*$J22,0)) | N22: =IF(OR($C22="",$G22="",$I22="",$J22=""),"",IFERROR(IF(ABS($I22+$J22-1)<0.000001,"OK","REVER"),"REVER")) | O22: =IF(OR($C22="",$G22="",$H22=""),"",IFERROR(IF(ABS($H22-1)<0.000001,"OK","REVER"),"REVER"))
A23: =IF($C23="","",ROW()-5) | K23: =IF(OR($C23="",$G23="",$H23=""),"",IFERROR($G23*$H23,0)) | L23: =IF(OR($C23="",$G23="",$I23=""),"",IFERROR($G23*$I23,0)) | M23: =IF(OR($C23="",$G23="",$J23=""),"",IFERROR($G23*$J23,0)) | N23: =IF(OR($C23="",$G23="",$I23="",$J23=""),"",IFERROR(IF(ABS($I23+$J23-1)<0.000001,"OK","REVER"),"REVER")) | O23: =IF(OR($C23="",$G23="",$H23=""),"",IFERROR(IF(ABS($H23-1)<0.000001,"OK","REVER"),"REVER"))
A24: =IF($C24="","",ROW()-5) | K24: =IF(OR($C24="",$G24="",$H24=""),"",IFERROR($G24*$H24,0)) | L24: =IF(OR($C24="",$G24="",$I24=""),"",IFERROR($G24*$I24,0)) | M24: =IF(OR($C24="",$G24="",$J24=""),"",IFERROR($G24*$J24,0)) | N24: =IF(OR($C24="",$G24="",$I24="",$J24=""),"",IFERROR(IF(ABS($I24+$J24-1)<0.000001,"OK","REVER"),"REVER")) | O24: =IF(OR($C24="",$G24="",$H24=""),"",IFERROR(IF(ABS($H24-1)<0.000001,"OK","REVER"),"REVER"))
A25: =IF($C25="","",ROW()-5) | K25: =IF(OR($C25="",$G25="",$H25=""),"",IFERROR($G25*$H25,0)) | L25: =IF(OR($C25="",$G25="",$I25=""),"",IFERROR($G25*$I25,0)) | M25: =IF(OR($C25="",$G25="",$J25=""),"",IFERROR($G25*$J25,0)) | N25: =IF(OR($C25="",$G25="",$I25="",$J25=""),"",IFERROR(IF(ABS($I25+$J25-1)<0.000001,"OK","REVER"),"REVER")) | O25: =IF(OR($C25="",$G25="",$H25=""),"",IFERROR(IF(ABS($H25-1)<0.000001,"OK","REVER"),"REVER"))
A26: =IF($C26="","",ROW()-5) | K26: =IF(OR($C26="",$G26="",$H26=""),"",IFERROR($G26*$H26,0)) | L26: =IF(OR($C26="",$G26="",$I26=""),"",IFERROR($G26*$I26,0)) | M26: =IF(OR($C26="",$G26="",$J26=""),"",IFERROR($G26*$J26,0)) | N26: =IF(OR($C26="",$G26="",$I26="",$J26=""),"",IFERROR(IF(ABS($I26+$J26-1)<0.000001,"OK","REVER"),"REVER")) | O26: =IF(OR($C26="",$G26="",$H26=""),"",IFERROR(IF(ABS($H26-1)<0.000001,"OK","REVER"),"REVER"))
... A105: =IF($C105="","",ROW()-5) | K105: =IF(OR($C105="",$G105="",$H105=""),"",IFERROR($G105*$H105,0)) | L105: =IF(OR($C105="",$G105="",$I105=""),"",IFERROR($G105*$I105,0)) | M105: =IF(OR($C105="",$G105="",$J105=""),"",IFERROR($G105*$J105,0)) | N105: =IF(OR($C105="",$G105="",$I105="",$J105=""),"",IFERROR(IF(ABS($I105+$J105-1)<0.000001,"OK","REVER"),"REVER")) | O105: =IF(OR($C105="",$G105="",$H105=""),"",IFERROR(IF(ABS($H105-1)<0.000001,"OK","REVER"),"REVER"))

Sheet Parâmetros e Cálculo
A1: Parâmetros editáveis e cálculo comparativo
A3: Ano de referência | B3: 2026 | D3: Escolha apenas um método. Em “Taxa configurável”, introduza as taxas estimadas que decidiu utilizar. Em “Imposto final externo”, introduza o imposto final estimado antes de retenções, obtido ou confirmado externamente. O ficheiro não fornece taxas, escalões, limites ou regras fiscais. | H3: A | I3: Rendimento a considerar | J3: Taxa configurável
A4: Identificação do Titular A | B4: Titular A | H4: B | I4: Ajustamento à base | J4: Imposto final externo
A5: Identificação do Titular B | B5: Titular B | H5: Comum | I5: Dedução à coleta
A6: Método de cálculo | B6: Taxa configurável | I6: Retenção na fonte
A8: Taxa estimada — separada, Titular A
A9: Taxa estimada — separada, Titular B
A10: Taxa estimada — conjunta
A12: Imposto final externo — separada, Titular A | D12: No método “Imposto final externo”, as deduções registadas mantêm-se como informação de controlo, mas não são novamente subtraídas ao imposto final introduzido.
A13: Imposto final externo — separada, Titular B
A14: Imposto final externo — conjunta
A16: Fonte e data de confirmação dos parâmetros
A20: Indicador | B20: Separada — Titular A | C20: Separada — Titular B | D20: Separada — total casal | E20: Conjunta | F20: Observação
A21: Rendimentos a considerar | B21: =IF(COUNTIF('Dados do Casal'!$C$6:$C$105,"Rendimento a considerar")=0,"",SUMIFS('Dados do Casal'!$L$6:$L$105,'Dados do Casal'!$C$6:$C$105,"Rendimento a considerar")) | C21: =IF(COUNTIF('Dados do Casal'!$C$6:$C$105,"Rendimento a considerar")=0,"",SUMIFS('Dados do Casal'!$M$6:$M$105,'Dados do Casal'!$C$6:$C$105,"Rendimento a considerar")) | D21: =IF(AND(B21="",C21=""),"",SUM(B21,C21)) | E21: =IF(COUNTIF('Dados do Casal'!$C$6:$C$105,"Rendimento a considerar")=0,"",SUMIFS('Dados do Casal'!$K$6:$K$105,'Dados do Casal'!$C$6:$C$105,"Rendimento a considerar")) | F21: Valores introduzidos como rendimento
A22: Ajustamentos à base | B22: =IF(B21="","",SUMIFS('Dados do Casal'!$L$6:$L$105,'Dados do Casal'!$C$6:$C$105,"Ajustamento à base")) | C22: =IF(C21="","",SUMIFS('Dados do Casal'!$M$6:$M$105,'Dados do Casal'!$C$6:$C$105,"Ajustamento à base")) | D22: =IF(AND(B22="",C22=""),"",SUM(B22,C22)) | E22: =IF(E21="","",SUMIFS('Dados do Casal'!$K$6:$K$105,'Dados do Casal'!$C$6:$C$105,"Ajustamento à base")) | F22: Podem ser positivos ou negativos
A23: Base indicativa | B23: =IF(B21="","",MAX(0,B21+B22)) | C23: =IF(C21="","",MAX(0,C21+C22)) | D23: =IF(AND(B23="",C23=""),"",SUM(B23,C23)) | E23: =IF(E21="","",MAX(0,E21+E22)) | F23: Nunca inferior a zero neste modelo
A24: Deduções registadas | B24: =IF(B21="","",SUMIFS('Dados do Casal'!$L$6:$L$105,'Dados do Casal'!$C$6:$C$105,"Dedução à coleta")) | C24: =IF(C21="","",SUMIFS('Dados do Casal'!$M$6:$M$105,'Dados do Casal'!$C$6:$C$105,"Dedução à coleta")) | D24: =IF(AND(B24="",C24=""),"",SUM(B24,C24)) | E24: =IF(E21="","",SUMIFS('Dados do Casal'!$K$6:$K$105,'Dados do Casal'!$C$6:$C$105,"Dedução à coleta")) | F24: Apenas valores registados
A25: Retenções na fonte registadas | B25: =IF(B21="","",SUMIFS('Dados do Casal'!$L$6:$L$105,'Dados do Casal'!$C$6:$C$105,"Retenção na fonte")) | C25: =IF(C21="","",SUMIFS('Dados do Casal'!$M$6:$M$105,'Dados do Casal'!$C$6:$C$105,"Retenção na fonte")) | D25: =IF(AND(B25="",C25=""),"",SUM(B25,C25)) | E25: =IF(E21="","",SUMIFS('Dados do Casal'!$K$6:$K$105,'Dados do Casal'!$C$6:$C$105,"Retenção na fonte")) | F25: Valores registados
A26: Imposto bruto indicativo | B26: =IF('Parâmetros e Cálculo'!$B$6<>"Taxa configurável","",IF(OR(B23="",'Parâmetros e Cálculo'!$B$8=""),"",IFERROR(B23*'Parâmetros e Cálculo'!$B$8,0))) | C26: =IF('Parâmetros e Cálculo'!$B$6<>"Taxa configurável","",IF(OR(C23="",'Parâmetros e Cálculo'!$B$9=""),"",IFERROR(C23*'Parâmetros e Cálculo'!$B$9,0))) | D26: =IF(OR(B26="",C26=""),"",SUM(B26,C26)) | E26: =IF('Parâmetros e Cálculo'!$B$6<>"Taxa configurável","",IF(OR(E23="",'Parâmetros e Cálculo'!$B$10=""),"",IFERROR(E23*'Parâmetros e Cálculo'!$B$10,0))) | F26: Apenas no método de taxa
A27: Imposto estimado após deduções | B27: =IF(B23="","",IF('Parâmetros e Cálculo'!$B$6="Taxa configurável",IF(B26="","",MAX(0,B26-B24)),IF('Parâmetros e Cálculo'!$B$6="Imposto final externo",IF('Parâmetros e Cálculo'!$B$12="","",'Parâmetros e Cálculo'!$B$12),""))) | C27: =IF(C23="","",IF('Parâmetros e Cálculo'!$B$6="Taxa configurável",IF(C26="","",MAX(0,C26-C24)),IF('Parâmetros e Cálculo'!$B$6="Imposto final externo",IF('Parâmetros e Cálculo'!$B$13="","",'Parâmetros e Cálculo'!$B$13),""))) | D27: =IF(OR(AND(B23<>"",B27=""),AND(C23<>"",C27="")),"",SUM(B27,C27)) | E27: =IF(E23="","",IF('Parâmetros e Cálculo'!$B$6="Taxa configurável",IF(E26="","",MAX(0,E26-E24)),IF('Parâmetros e Cálculo'!$B$6="Imposto final externo",IF('Parâmetros e Cálculo'!$B$14="","",'Parâmetros e Cálculo'!$B$14),""))) | F27: Ou valor externo introduzido
A28: Saldo estimado | B28: =IF(OR(B27="",B25=""),"",B27-B25) | C28: =IF(OR(C27="",C25=""),"",C27-C25) | D28: =IF(OR(D27="",D25=""),"",D27-D25) | E28: =IF(OR(E27="",E25=""),"",E27-E25) | F28: A pagar positivo / a receber negativo
D29: =""
D30: =""
D31: =""
A32: Controlos finais | D32: =""
A33: Linhas de movimentos registadas | B33: =COUNTIF('Dados do Casal'!$C$6:$C$105,"<>") | D33: =""
A34: Linhas com repartição separada a rever | B34: =COUNTIF('Dados do Casal'!$N$6:$N$105,"REVER") | D34: =""
A35: Linhas com repartição conjunta a rever | B35: =COUNTIF('Dados do Casal'!$O$6:$O$105,"REVER") | D35: =""
A36: Linhas incompletas | B36: =SUMPRODUCT(--('Dados do Casal'!$C$6:$C$105<>""),--((('Dados do Casal'!$B$6:$B$105="")+('Dados do Casal'!$D$6:$D$105="")+('Dados do Casal'!$E$6:$E$105="")+('Dados do Casal'!$G$6:$G$105="")+('Dados do Casal'!$H$6:$H$105="")+('Dados do Casal'!$I$6:$I$105="")+('Dados do Casal'!$J$6:$J$105=""))>0)) | D36: =""
A37: Parâmetros obrigatórios em falta | B37: =IF('Parâmetros e Cálculo'!$B$6="Taxa configurável",COUNTBLANK('Parâmetros e Cálculo'!$B$8:$B$10),IF('Parâmetros e Cálculo'!$B$6="Imposto final externo",COUNTBLANK('Parâmetros e Cálculo'!$B$12:$B$14),1)) | D37: =""
D38: =""
A39: Controlo dos rendimentos totais | B39: =IF(OR(D21="",E21=""),"A confirmar",IF(ABS(D21-E21)<0.01,"OK","REVER")) | D39: =""
A40: Controlo das deduções totais | B40: =IF(OR(D24="",E24=""),"A confirmar",IF(ABS(D24-E24)<0.01,"OK","REVER")) | D40: =""
A41: Controlo das retenções totais | B41: =IF(OR(D25="",E25=""),"A confirmar",IF(ABS(D25-E25)<0.01,"OK","REVER")) | D41: =""
A42: Estado final | B42: =IF(B33=0,"SEM MOVIMENTOS",IF(OR(B34>0,B35>0,B36>0,B37>0,B39<>"OK",B40<>"OK",B41<>"OK"),"REVER DADOS","PRONTO PARA COMPARAÇÃO")) | D42: =""
D43: =""
D44: =""
D45: =""
D46: =""
D47: =""
D48: =""
D49: =""
D50: =""
D51: =""
D52: =""
D53: =""
D54: =""
... D101: =""

Sheet Instruções
A1: Instruções de utilização
A3: 1. Objectivo do ficheiro
A4: Este ficheiro organiza valores introduzidos pelo utilizador e compara, de forma aritmética e configurável, um cenário de tributação conjunta com um cenário de tributação separada. Não substitui a declaração aplicável, uma simulação oficial, aconselhamento fiscal ou validação de obrigações.
A6: 2. Sequência de utilização
A7: 1. Na folha «Parâmetros e Cálculo», indique o ano de referência e identifique os titulares apenas para organização interna.
A8: 2. Escolha o método de cálculo.
A9: 3. Se escolher «Taxa configurável», introduza as três taxas estimadas que decidiu utilizar.
A10: 4. Se escolher «Imposto final externo», introduza o imposto final antes de retenções para cada cenário.
A11: 5. Na folha «Dados do Casal», registe um movimento por linha.
A12: 6. Introduza percentagens de afetação para tributação conjunta e para cada titular na tributação separada.
A13: 7. Confirme que os controlos de repartição apresentam OK.
A14: 8. Confirme que o estado final é PRONTO PARA COMPARAÇÃO.
... A18: 3. Significado das naturezas de movimento
A19: Natureza | B19: Utilização no ficheiro
A20: Rendimento a considerar | B20: Valor que o utilizador pretende incluir na base indicativa do cenário.
A21: Ajustamento à base | B21: Correcção manual positiva ou negativa à base indicativa.
A22: Dedução à coleta | B22: Valor registado apenas para efeitos de organização e, no método de taxa, de abatimento aritmético ao imposto bruto indicativo.
A23: Retenção na fonte | B23: Valor usado para apurar o saldo estimado.
A25: A classificação e a afetação dos valores são decisões do utilizador. O ficheiro não determina automaticamente se um valor deve ser considerado, repartido, deduzido ou excluído.
A27: 4. Métodos de cálculo
A28: Taxa configurável: A base indicativa corresponde à soma dos rendimentos a considerar e dos ajustamentos à base. O imposto bruto indicativo resulta da multiplicação da base pela taxa introduzida. O imposto estimado após deduções corresponde ao imposto bruto indicativo menos as deduções registadas, nunca abaixo de zero.
A30: Imposto final externo: Neste método, o utilizador introduz directamente o imposto final estimado antes de retenções para cada cenário. As deduções registadas permanecem visíveis para controlo, mas não são novamente subtraídas pelo ficheiro.
A32: 5. Leitura do saldo estimado
A33: Saldo estimado = imposto estimado após deduções menos retenções na fonte registadas. Um saldo positivo representa um montante estimado a pagar; um saldo negativo representa um montante estimado a receber. Trata-se apenas de um resultado aritmético baseado nos dados e parâmetros introduzidos.
A35: 6. Exceções e controlos a resolver
A36: • REVER na repartição separada: as percentagens dos Titulares A e B não totalizam 100%. • REVER na repartição conjunta: a percentagem para conjunta não é 100%. • Linhas incompletas: existe natureza preenchida sem todos os campos necessários. • Parâmetros em falta: o método escolhido não tem todos os valores necessários. • Controlos de totais por rever: os totais entre cenários não são consistentes com as percentagens introduzidas. • Estado SEM MOVIMENTOS: não existem dados suficientes para calcular qualquer comparação.
A39: 7. Limites do modelo
A40: O ficheiro não contém taxas, escalões, limites, prazos, regras de dedução, regras de repartição, regras de dependentes, regras de englobamento, validações de declaração ou conclusões legais. Não assume que uma opção seja mais favorável em todos os casos. Utilize valores confirmados e valide sempre o resultado na fonte oficial aplicável.
A42: 8. Protecção e edição
A43: As células amarelas são destinadas à introdução manual. As células com fórmulas estão assinaladas para reduzir o risco de alteração acidental. Para substituir os exemplos, edite ou elimine os valores nas células amarelas da folha «Dados do Casal», sem apagar fórmulas, validações ou cabeçalhos.
