Workbook

Sheet Painel
A1: Mapa de Duodécimos — Painel de controlo
A2: Planeamento e controlo de subsídios de férias e de Natal processados em duodécimos
A4: Ano do mapa | B4: ='Parâmetros'!$B$4 | D4: Fonte de confirmação registada | E4: =IF('Parâmetros'!$B$15="","Por indicar","Indicada")
A7: Registos introduzidos no ano | B7: =IFERROR(COUNTIFS('Mapa de Duodécimos'!$B$8:$B$107,">="&DATE('Parâmetros'!$B$4,1,1),'Mapa de Duodécimos'!$B$8:$B$107,"<"&DATE('Parâmetros'!$B$4+1,1,1)),0) | D7: Registos prontos | E7: =IFERROR(COUNTIFS('Mapa de Duodécimos'!$B$8:$B$107,">="&DATE('Parâmetros'!$B$4,1,1),'Mapa de Duodécimos'!$B$8:$B$107,"<"&DATE('Parâmetros'!$B$4+1,1,1),'Mapa de Duodécimos'!$AI$8:$AI$107,"Pronto"),0) | G7: Registos a rever | H7: =IFERROR(B7-E7-COUNTIFS('Mapa de Duodécimos'!$B$8:$B$107,">="&DATE('Parâmetros'!$B$4,1,1),'Mapa de Duodécimos'!$B$8:$B$107,"<"&DATE('Parâmetros'!$B$4+1,1,1),'Mapa de Duodécimos'!$AI$8:$AI$107,"Excluído")-COUNTIFS('Mapa de Duodécimos'!$B$8:$B$107,">="&DATE('Parâmetros'!$B$4,1,1),'Mapa de Duodécimos'!$B$8:$B$107,"<"&DATE('Parâmetros'!$B$4+1,1,1),'Mapa de Duodécimos'!$AI$8:$AI$107,"Fora do mapa"),0)
A11: Duodécimos de férias brutos | B11: =IFERROR(SUMIFS('Mapa de Duodécimos'!$W$8:$W$107,'Mapa de Duodécimos'!$B$8:$B$107,">="&DATE('Parâmetros'!$B$4,1,1),'Mapa de Duodécimos'!$B$8:$B$107,"<"&DATE('Parâmetros'!$B$4+1,1,1),'Mapa de Duodécimos'!$AI$8:$AI$107,"Pronto"),0) | D11: Duodécimos de Natal brutos | E11: =IFERROR(SUMIFS('Mapa de Duodécimos'!$X$8:$X$107,'Mapa de Duodécimos'!$B$8:$B$107,">="&DATE('Parâmetros'!$B$4,1,1),'Mapa de Duodécimos'!$B$8:$B$107,"<"&DATE('Parâmetros'!$B$4+1,1,1),'Mapa de Duodécimos'!$AI$8:$AI$107,"Pronto"),0) | G11: Total de duodécimos brutos | H11: =IFERROR(B11+E11,0)
A15: Custo total estimado | B15: =IFERROR(IF(COUNTIFS('Mapa de Duodécimos'!$B$8:$B$107,">="&DATE('Parâmetros'!$B$4,1,1),'Mapa de Duodécimos'!$B$8:$B$107,"<"&DATE('Parâmetros'!$B$4+1,1,1),'Mapa de Duodécimos'!$AI$8:$AI$107,"Pronto",'Mapa de Duodécimos'!$AH$8:$AH$107,">=0")=0,"",SUMIFS('Mapa de Duodécimos'!$AH$8:$AH$107,'Mapa de Duodécimos'!$B$8:$B$107,">="&DATE('Parâmetros'!$B$4,1,1),'Mapa de Duodécimos'!$B$8:$B$107,"<"&DATE('Parâmetros'!$B$4+1,1,1),'Mapa de Duodécimos'!$AI$8:$AI$107,"Pronto")),"") | D15: Taxas padrão configuradas | E15: =IF(AND('Parâmetros'!$B$10="",'Parâmetros'!$B$11="",'Parâmetros'!$B$12=""),"Não","Parcialmente ou totalmente")
A21: Período | B21: Remuneração de referência | C21: Duodécimos de férias | D21: Duodécimos de Natal | E21: Total de duodécimos | F21: Custo total estimado
A22: =IFERROR(DATE('Parâmetros'!$B$4,ROW()-21,1),"") | B22: =IFERROR(SUMIFS('Mapa de Duodécimos'!$K$8:$K$107,'Mapa de Duodécimos'!$B$8:$B$107,">="&A22,'Mapa de Duodécimos'!$B$8:$B$107,"<"&DATE(YEAR(A22),MONTH(A22)+1,1),'Mapa de Duodécimos'!$AI$8:$AI$107,"Pronto"),0) | C22: =IFERROR(SUMIFS('Mapa de Duodécimos'!$W$8:$W$107,'Mapa de Duodécimos'!$B$8:$B$107,">="&A22,'Mapa de Duodécimos'!$B$8:$B$107,"<"&DATE(YEAR(A22),MONTH(A22)+1,1),'Mapa de Duodécimos'!$AI$8:$AI$107,"Pronto"),0) | D22: =IFERROR(SUMIFS('Mapa de Duodécimos'!$X$8:$X$107,'Mapa de Duodécimos'!$B$8:$B$107,">="&A22,'Mapa de Duodécimos'!$B$8:$B$107,"<"&DATE(YEAR(A22),MONTH(A22)+1,1),'Mapa de Duodécimos'!$AI$8:$AI$107,"Pronto"),0) | E22: =IFERROR(C22+D22,0) | F22: =IFERROR(IF(COUNTIFS('Mapa de Duodécimos'!$B$8:$B$107,">="&A22,'Mapa de Duodécimos'!$B$8:$B$107,"<"&DATE(YEAR(A22),MONTH(A22)+1,1),'Mapa de Duodécimos'!$AI$8:$AI$107,"Pronto",'Mapa de Duodécimos'!$AH$8:$AH$107,">=0")=0,"",SUMIFS('Mapa de Duodécimos'!$AH$8:$AH$107,'Mapa de Duodécimos'!$B$8:$B$107,">="&A22,'Mapa de Duodécimos'!$B$8:$B$107,"<"&DATE(YEAR(A22),MONTH(A22)+1,1),'Mapa de Duodécimos'!$AI$8:$AI$107,"Pronto")),"") | H22: Estado de controlo | I22: Nº de registos
A23: =IFERROR(DATE('Parâmetros'!$B$4,ROW()-21,1),"") | B23: =IFERROR(SUMIFS('Mapa de Duodécimos'!$K$8:$K$107,'Mapa de Duodécimos'!$B$8:$B$107,">="&A23,'Mapa de Duodécimos'!$B$8:$B$107,"<"&DATE(YEAR(A23),MONTH(A23)+1,1),'Mapa de Duodécimos'!$AI$8:$AI$107,"Pronto"),0) | C23: =IFERROR(SUMIFS('Mapa de Duodécimos'!$W$8:$W$107,'Mapa de Duodécimos'!$B$8:$B$107,">="&A23,'Mapa de Duodécimos'!$B$8:$B$107,"<"&DATE(YEAR(A23),MONTH(A23)+1,1),'Mapa de Duodécimos'!$AI$8:$AI$107,"Pronto"),0) | D23: =IFERROR(SUMIFS('Mapa de Duodécimos'!$X$8:$X$107,'Mapa de Duodécimos'!$B$8:$B$107,">="&A23,'Mapa de Duodécimos'!$B$8:$B$107,"<"&DATE(YEAR(A23),MONTH(A23)+1,1),'Mapa de Duodécimos'!$AI$8:$AI$107,"Pronto"),0) | E23: =IFERROR(C23+D23,0) | F23: =IFERROR(IF(COUNTIFS('Mapa de Duodécimos'!$B$8:$B$107,">="&A23,'Mapa de Duodécimos'!$B$8:$B$107,"<"&DATE(YEAR(A23),MONTH(A23)+1,1),'Mapa de Duodécimos'!$AI$8:$AI$107,"Pronto",'Mapa de Duodécimos'!$AH$8:$AH$107,">=0")=0,"",SUMIFS('Mapa de Duodécimos'!$AH$8:$AH$107,'Mapa de Duodécimos'!$B$8:$B$107,">="&A23,'Mapa de Duodécimos'!$B$8:$B$107,"<"&DATE(YEAR(A23),MONTH(A23)+1,1),'Mapa de Duodécimos'!$AI$8:$AI$107,"Pronto")),"") | H23: Pronto | I23: =IFERROR(COUNTIFS('Mapa de Duodécimos'!$B$8:$B$107,">="&DATE('Parâmetros'!$B$4,1,1),'Mapa de Duodécimos'!$B$8:$B$107,"<"&DATE('Parâmetros'!$B$4+1,1,1),'Mapa de Duodécimos'!$AI$8:$AI$107,H23),0)
A24: =IFERROR(DATE('Parâmetros'!$B$4,ROW()-21,1),"") | B24: =IFERROR(SUMIFS('Mapa de Duodécimos'!$K$8:$K$107,'Mapa de Duodécimos'!$B$8:$B$107,">="&A24,'Mapa de Duodécimos'!$B$8:$B$107,"<"&DATE(YEAR(A24),MONTH(A24)+1,1),'Mapa de Duodécimos'!$AI$8:$AI$107,"Pronto"),0) | C24: =IFERROR(SUMIFS('Mapa de Duodécimos'!$W$8:$W$107,'Mapa de Duodécimos'!$B$8:$B$107,">="&A24,'Mapa de Duodécimos'!$B$8:$B$107,"<"&DATE(YEAR(A24),MONTH(A24)+1,1),'Mapa de Duodécimos'!$AI$8:$AI$107,"Pronto"),0) | D24: =IFERROR(SUMIFS('Mapa de Duodécimos'!$X$8:$X$107,'Mapa de Duodécimos'!$B$8:$B$107,">="&A24,'Mapa de Duodécimos'!$B$8:$B$107,"<"&DATE(YEAR(A24),MONTH(A24)+1,1),'Mapa de Duodécimos'!$AI$8:$AI$107,"Pronto"),0) | E24: =IFERROR(C24+D24,0) | F24: =IFERROR(IF(COUNTIFS('Mapa de Duodécimos'!$B$8:$B$107,">="&A24,'Mapa de Duodécimos'!$B$8:$B$107,"<"&DATE(YEAR(A24),MONTH(A24)+1,1),'Mapa de Duodécimos'!$AI$8:$AI$107,"Pronto",'Mapa de Duodécimos'!$AH$8:$AH$107,">=0")=0,"",SUMIFS('Mapa de Duodécimos'!$AH$8:$AH$107,'Mapa de Duodécimos'!$B$8:$B$107,">="&A24,'Mapa de Duodécimos'!$B$8:$B$107,"<"&DATE(YEAR(A24),MONTH(A24)+1,1),'Mapa de Duodécimos'!$AI$8:$AI$107,"Pronto")),"") | H24: Dados em falta | I24: =IFERROR(COUNTIFS('Mapa de Duodécimos'!$B$8:$B$107,">="&DATE('Parâmetros'!$B$4,1,1),'Mapa de Duodécimos'!$B$8:$B$107,"<"&DATE('Parâmetros'!$B$4+1,1,1),'Mapa de Duodécimos'!$AI$8:$AI$107,H24),0)
A25: =IFERROR(DATE('Parâmetros'!$B$4,ROW()-21,1),"") | B25: =IFERROR(SUMIFS('Mapa de Duodécimos'!$K$8:$K$107,'Mapa de Duodécimos'!$B$8:$B$107,">="&A25,'Mapa de Duodécimos'!$B$8:$B$107,"<"&DATE(YEAR(A25),MONTH(A25)+1,1),'Mapa de Duodécimos'!$AI$8:$AI$107,"Pronto"),0) | C25: =IFERROR(SUMIFS('Mapa de Duodécimos'!$W$8:$W$107,'Mapa de Duodécimos'!$B$8:$B$107,">="&A25,'Mapa de Duodécimos'!$B$8:$B$107,"<"&DATE(YEAR(A25),MONTH(A25)+1,1),'Mapa de Duodécimos'!$AI$8:$AI$107,"Pronto"),0) | D25: =IFERROR(SUMIFS('Mapa de Duodécimos'!$X$8:$X$107,'Mapa de Duodécimos'!$B$8:$B$107,">="&A25,'Mapa de Duodécimos'!$B$8:$B$107,"<"&DATE(YEAR(A25),MONTH(A25)+1,1),'Mapa de Duodécimos'!$AI$8:$AI$107,"Pronto"),0) | E25: =IFERROR(C25+D25,0) | F25: =IFERROR(IF(COUNTIFS('Mapa de Duodécimos'!$B$8:$B$107,">="&A25,'Mapa de Duodécimos'!$B$8:$B$107,"<"&DATE(YEAR(A25),MONTH(A25)+1,1),'Mapa de Duodécimos'!$AI$8:$AI$107,"Pronto",'Mapa de Duodécimos'!$AH$8:$AH$107,">=0")=0,"",SUMIFS('Mapa de Duodécimos'!$AH$8:$AH$107,'Mapa de Duodécimos'!$B$8:$B$107,">="&A25,'Mapa de Duodécimos'!$B$8:$B$107,"<"&DATE(YEAR(A25),MONTH(A25)+1,1),'Mapa de Duodécimos'!$AI$8:$AI$107,"Pronto")),"") | H25: Duplicado | I25: =IFERROR(COUNTIFS('Mapa de Duodécimos'!$B$8:$B$107,">="&DATE('Parâmetros'!$B$4,1,1),'Mapa de Duodécimos'!$B$8:$B$107,"<"&DATE('Parâmetros'!$B$4+1,1,1),'Mapa de Duodécimos'!$AI$8:$AI$107,H25),0)
A26: =IFERROR(DATE('Parâmetros'!$B$4,ROW()-21,1),"") | B26: =IFERROR(SUMIFS('Mapa de Duodécimos'!$K$8:$K$107,'Mapa de Duodécimos'!$B$8:$B$107,">="&A26,'Mapa de Duodécimos'!$B$8:$B$107,"<"&DATE(YEAR(A26),MONTH(A26)+1,1),'Mapa de Duodécimos'!$AI$8:$AI$107,"Pronto"),0) | C26: =IFERROR(SUMIFS('Mapa de Duodécimos'!$W$8:$W$107,'Mapa de Duodécimos'!$B$8:$B$107,">="&A26,'Mapa de Duodécimos'!$B$8:$B$107,"<"&DATE(YEAR(A26),MONTH(A26)+1,1),'Mapa de Duodécimos'!$AI$8:$AI$107,"Pronto"),0) | D26: =IFERROR(SUMIFS('Mapa de Duodécimos'!$X$8:$X$107,'Mapa de Duodécimos'!$B$8:$B$107,">="&A26,'Mapa de Duodécimos'!$B$8:$B$107,"<"&DATE(YEAR(A26),MONTH(A26)+1,1),'Mapa de Duodécimos'!$AI$8:$AI$107,"Pronto"),0) | E26: =IFERROR(C26+D26,0) | F26: =IFERROR(IF(COUNTIFS('Mapa de Duodécimos'!$B$8:$B$107,">="&A26,'Mapa de Duodécimos'!$B$8:$B$107,"<"&DATE(YEAR(A26),MONTH(A26)+1,1),'Mapa de Duodécimos'!$AI$8:$AI$107,"Pronto",'Mapa de Duodécimos'!$AH$8:$AH$107,">=0")=0,"",SUMIFS('Mapa de Duodécimos'!$AH$8:$AH$107,'Mapa de Duodécimos'!$B$8:$B$107,">="&A26,'Mapa de Duodécimos'!$B$8:$B$107,"<"&DATE(YEAR(A26),MONTH(A26)+1,1),'Mapa de Duodécimos'!$AI$8:$AI$107,"Pronto")),"") | H26: Rever valores | I26: =IFERROR(COUNTIFS('Mapa de Duodécimos'!$B$8:$B$107,">="&DATE('Parâmetros'!$B$4,1,1),'Mapa de Duodécimos'!$B$8:$B$107,"<"&DATE('Parâmetros'!$B$4+1,1,1),'Mapa de Duodécimos'!$AI$8:$AI$107,H26),0)
A27: =IFERROR(DATE('Parâmetros'!$B$4,ROW()-21,1),"") | B27: =IFERROR(SUMIFS('Mapa de Duodécimos'!$K$8:$K$107,'Mapa de Duodécimos'!$B$8:$B$107,">="&A27,'Mapa de Duodécimos'!$B$8:$B$107,"<"&DATE(YEAR(A27),MONTH(A27)+1,1),'Mapa de Duodécimos'!$AI$8:$AI$107,"Pronto"),0) | C27: =IFERROR(SUMIFS('Mapa de Duodécimos'!$W$8:$W$107,'Mapa de Duodécimos'!$B$8:$B$107,">="&A27,'Mapa de Duodécimos'!$B$8:$B$107,"<"&DATE(YEAR(A27),MONTH(A27)+1,1),'Mapa de Duodécimos'!$AI$8:$AI$107,"Pronto"),0) | D27: =IFERROR(SUMIFS('Mapa de Duodécimos'!$X$8:$X$107,'Mapa de Duodécimos'!$B$8:$B$107,">="&A27,'Mapa de Duodécimos'!$B$8:$B$107,"<"&DATE(YEAR(A27),MONTH(A27)+1,1),'Mapa de Duodécimos'!$AI$8:$AI$107,"Pronto"),0) | E27: =IFERROR(C27+D27,0) | F27: =IFERROR(IF(COUNTIFS('Mapa de Duodécimos'!$B$8:$B$107,">="&A27,'Mapa de Duodécimos'!$B$8:$B$107,"<"&DATE(YEAR(A27),MONTH(A27)+1,1),'Mapa de Duodécimos'!$AI$8:$AI$107,"Pronto",'Mapa de Duodécimos'!$AH$8:$AH$107,">=0")=0,"",SUMIFS('Mapa de Duodécimos'!$AH$8:$AH$107,'Mapa de Duodécimos'!$B$8:$B$107,">="&A27,'Mapa de Duodécimos'!$B$8:$B$107,"<"&DATE(YEAR(A27),MONTH(A27)+1,1),'Mapa de Duodécimos'!$AI$8:$AI$107,"Pronto")),"") | H27: Rever período | I27: =IFERROR(COUNTIFS('Mapa de Duodécimos'!$B$8:$B$107,">="&DATE('Parâmetros'!$B$4,1,1),'Mapa de Duodécimos'!$B$8:$B$107,"<"&DATE('Parâmetros'!$B$4+1,1,1),'Mapa de Duodécimos'!$AI$8:$AI$107,H27),0)
A28: =IFERROR(DATE('Parâmetros'!$B$4,ROW()-21,1),"") | B28: =IFERROR(SUMIFS('Mapa de Duodécimos'!$K$8:$K$107,'Mapa de Duodécimos'!$B$8:$B$107,">="&A28,'Mapa de Duodécimos'!$B$8:$B$107,"<"&DATE(YEAR(A28),MONTH(A28)+1,1),'Mapa de Duodécimos'!$AI$8:$AI$107,"Pronto"),0) | C28: =IFERROR(SUMIFS('Mapa de Duodécimos'!$W$8:$W$107,'Mapa de Duodécimos'!$B$8:$B$107,">="&A28,'Mapa de Duodécimos'!$B$8:$B$107,"<"&DATE(YEAR(A28),MONTH(A28)+1,1),'Mapa de Duodécimos'!$AI$8:$AI$107,"Pronto"),0) | D28: =IFERROR(SUMIFS('Mapa de Duodécimos'!$X$8:$X$107,'Mapa de Duodécimos'!$B$8:$B$107,">="&A28,'Mapa de Duodécimos'!$B$8:$B$107,"<"&DATE(YEAR(A28),MONTH(A28)+1,1),'Mapa de Duodécimos'!$AI$8:$AI$107,"Pronto"),0) | E28: =IFERROR(C28+D28,0) | F28: =IFERROR(IF(COUNTIFS('Mapa de Duodécimos'!$B$8:$B$107,">="&A28,'Mapa de Duodécimos'!$B$8:$B$107,"<"&DATE(YEAR(A28),MONTH(A28)+1,1),'Mapa de Duodécimos'!$AI$8:$AI$107,"Pronto",'Mapa de Duodécimos'!$AH$8:$AH$107,">=0")=0,"",SUMIFS('Mapa de Duodécimos'!$AH$8:$AH$107,'Mapa de Duodécimos'!$B$8:$B$107,">="&A28,'Mapa de Duodécimos'!$B$8:$B$107,"<"&DATE(YEAR(A28),MONTH(A28)+1,1),'Mapa de Duodécimos'!$AI$8:$AI$107,"Pronto")),"") | H28: Fora do mapa | I28: =IFERROR(COUNTIFS('Mapa de Duodécimos'!$B$8:$B$107,">="&DATE('Parâmetros'!$B$4,1,1),'Mapa de Duodécimos'!$B$8:$B$107,"<"&DATE('Parâmetros'!$B$4+1,1,1),'Mapa de Duodécimos'!$AI$8:$AI$107,H28),0)
A29: =IFERROR(DATE('Parâmetros'!$B$4,ROW()-21,1),"") | B29: =IFERROR(SUMIFS('Mapa de Duodécimos'!$K$8:$K$107,'Mapa de Duodécimos'!$B$8:$B$107,">="&A29,'Mapa de Duodécimos'!$B$8:$B$107,"<"&DATE(YEAR(A29),MONTH(A29)+1,1),'Mapa de Duodécimos'!$AI$8:$AI$107,"Pronto"),0) | C29: =IFERROR(SUMIFS('Mapa de Duodécimos'!$W$8:$W$107,'Mapa de Duodécimos'!$B$8:$B$107,">="&A29,'Mapa de Duodécimos'!$B$8:$B$107,"<"&DATE(YEAR(A29),MONTH(A29)+1,1),'Mapa de Duodécimos'!$AI$8:$AI$107,"Pronto"),0) | D29: =IFERROR(SUMIFS('Mapa de Duodécimos'!$X$8:$X$107,'Mapa de Duodécimos'!$B$8:$B$107,">="&A29,'Mapa de Duodécimos'!$B$8:$B$107,"<"&DATE(YEAR(A29),MONTH(A29)+1,1),'Mapa de Duodécimos'!$AI$8:$AI$107,"Pronto"),0) | E29: =IFERROR(C29+D29,0) | F29: =IFERROR(IF(COUNTIFS('Mapa de Duodécimos'!$B$8:$B$107,">="&A29,'Mapa de Duodécimos'!$B$8:$B$107,"<"&DATE(YEAR(A29),MONTH(A29)+1,1),'Mapa de Duodécimos'!$AI$8:$AI$107,"Pronto",'Mapa de Duodécimos'!$AH$8:$AH$107,">=0")=0,"",SUMIFS('Mapa de Duodécimos'!$AH$8:$AH$107,'Mapa de Duodécimos'!$B$8:$B$107,">="&A29,'Mapa de Duodécimos'!$B$8:$B$107,"<"&DATE(YEAR(A29),MONTH(A29)+1,1),'Mapa de Duodécimos'!$AI$8:$AI$107,"Pronto")),"") | H29: Excluído | I29: =IFERROR(COUNTIFS('Mapa de Duodécimos'!$B$8:$B$107,">="&DATE('Parâmetros'!$B$4,1,1),'Mapa de Duodécimos'!$B$8:$B$107,"<"&DATE('Parâmetros'!$B$4+1,1,1),'Mapa de Duodécimos'!$AI$8:$AI$107,H29),0)
A30: =IFERROR(DATE('Parâmetros'!$B$4,ROW()-21,1),"") | B30: =IFERROR(SUMIFS('Mapa de Duodécimos'!$K$8:$K$107,'Mapa de Duodécimos'!$B$8:$B$107,">="&A30,'Mapa de Duodécimos'!$B$8:$B$107,"<"&DATE(YEAR(A30),MONTH(A30)+1,1),'Mapa de Duodécimos'!$AI$8:$AI$107,"Pronto"),0) | C30: =IFERROR(SUMIFS('Mapa de Duodécimos'!$W$8:$W$107,'Mapa de Duodécimos'!$B$8:$B$107,">="&A30,'Mapa de Duodécimos'!$B$8:$B$107,"<"&DATE(YEAR(A30),MONTH(A30)+1,1),'Mapa de Duodécimos'!$AI$8:$AI$107,"Pronto"),0) | D30: =IFERROR(SUMIFS('Mapa de Duodécimos'!$X$8:$X$107,'Mapa de Duodécimos'!$B$8:$B$107,">="&A30,'Mapa de Duodécimos'!$B$8:$B$107,"<"&DATE(YEAR(A30),MONTH(A30)+1,1),'Mapa de Duodécimos'!$AI$8:$AI$107,"Pronto"),0) | E30: =IFERROR(C30+D30,0) | F30: =IFERROR(IF(COUNTIFS('Mapa de Duodécimos'!$B$8:$B$107,">="&A30,'Mapa de Duodécimos'!$B$8:$B$107,"<"&DATE(YEAR(A30),MONTH(A30)+1,1),'Mapa de Duodécimos'!$AI$8:$AI$107,"Pronto",'Mapa de Duodécimos'!$AH$8:$AH$107,">=0")=0,"",SUMIFS('Mapa de Duodécimos'!$AH$8:$AH$107,'Mapa de Duodécimos'!$B$8:$B$107,">="&A30,'Mapa de Duodécimos'!$B$8:$B$107,"<"&DATE(YEAR(A30),MONTH(A30)+1,1),'Mapa de Duodécimos'!$AI$8:$AI$107,"Pronto")),"") | I30: =""
A31: =IFERROR(DATE('Parâmetros'!$B$4,ROW()-21,1),"") | B31: =IFERROR(SUMIFS('Mapa de Duodécimos'!$K$8:$K$107,'Mapa de Duodécimos'!$B$8:$B$107,">="&A31,'Mapa de Duodécimos'!$B$8:$B$107,"<"&DATE(YEAR(A31),MONTH(A31)+1,1),'Mapa de Duodécimos'!$AI$8:$AI$107,"Pronto"),0) | C31: =IFERROR(SUMIFS('Mapa de Duodécimos'!$W$8:$W$107,'Mapa de Duodécimos'!$B$8:$B$107,">="&A31,'Mapa de Duodécimos'!$B$8:$B$107,"<"&DATE(YEAR(A31),MONTH(A31)+1,1),'Mapa de Duodécimos'!$AI$8:$AI$107,"Pronto"),0) | D31: =IFERROR(SUMIFS('Mapa de Duodécimos'!$X$8:$X$107,'Mapa de Duodécimos'!$B$8:$B$107,">="&A31,'Mapa de Duodécimos'!$B$8:$B$107,"<"&DATE(YEAR(A31),MONTH(A31)+1,1),'Mapa de Duodécimos'!$AI$8:$AI$107,"Pronto"),0) | E31: =IFERROR(C31+D31,0) | F31: =IFERROR(IF(COUNTIFS('Mapa de Duodécimos'!$B$8:$B$107,">="&A31,'Mapa de Duodécimos'!$B$8:$B$107,"<"&DATE(YEAR(A31),MONTH(A31)+1,1),'Mapa de Duodécimos'!$AI$8:$AI$107,"Pronto",'Mapa de Duodécimos'!$AH$8:$AH$107,">=0")=0,"",SUMIFS('Mapa de Duodécimos'!$AH$8:$AH$107,'Mapa de Duodécimos'!$B$8:$B$107,">="&A31,'Mapa de Duodécimos'!$B$8:$B$107,"<"&DATE(YEAR(A31),MONTH(A31)+1,1),'Mapa de Duodécimos'!$AI$8:$AI$107,"Pronto")),"") | I31: =""
A32: =IFERROR(DATE('Parâmetros'!$B$4,ROW()-21,1),"") | B32: =IFERROR(SUMIFS('Mapa de Duodécimos'!$K$8:$K$107,'Mapa de Duodécimos'!$B$8:$B$107,">="&A32,'Mapa de Duodécimos'!$B$8:$B$107,"<"&DATE(YEAR(A32),MONTH(A32)+1,1),'Mapa de Duodécimos'!$AI$8:$AI$107,"Pronto"),0) | C32: =IFERROR(SUMIFS('Mapa de Duodécimos'!$W$8:$W$107,'Mapa de Duodécimos'!$B$8:$B$107,">="&A32,'Mapa de Duodécimos'!$B$8:$B$107,"<"&DATE(YEAR(A32),MONTH(A32)+1,1),'Mapa de Duodécimos'!$AI$8:$AI$107,"Pronto"),0) | D32: =IFERROR(SUMIFS('Mapa de Duodécimos'!$X$8:$X$107,'Mapa de Duodécimos'!$B$8:$B$107,">="&A32,'Mapa de Duodécimos'!$B$8:$B$107,"<"&DATE(YEAR(A32),MONTH(A32)+1,1),'Mapa de Duodécimos'!$AI$8:$AI$107,"Pronto"),0) | E32: =IFERROR(C32+D32,0) | F32: =IFERROR(IF(COUNTIFS('Mapa de Duodécimos'!$B$8:$B$107,">="&A32,'Mapa de Duodécimos'!$B$8:$B$107,"<"&DATE(YEAR(A32),MONTH(A32)+1,1),'Mapa de Duodécimos'!$AI$8:$AI$107,"Pronto",'Mapa de Duodécimos'!$AH$8:$AH$107,">=0")=0,"",SUMIFS('Mapa de Duodécimos'!$AH$8:$AH$107,'Mapa de Duodécimos'!$B$8:$B$107,">="&A32,'Mapa de Duodécimos'!$B$8:$B$107,"<"&DATE(YEAR(A32),MONTH(A32)+1,1),'Mapa de Duodécimos'!$AI$8:$AI$107,"Pronto")),"") | I32: =""
A33: =IFERROR(DATE('Parâmetros'!$B$4,ROW()-21,1),"") | B33: =IFERROR(SUMIFS('Mapa de Duodécimos'!$K$8:$K$107,'Mapa de Duodécimos'!$B$8:$B$107,">="&A33,'Mapa de Duodécimos'!$B$8:$B$107,"<"&DATE(YEAR(A33),MONTH(A33)+1,1),'Mapa de Duodécimos'!$AI$8:$AI$107,"Pronto"),0) | C33: =IFERROR(SUMIFS('Mapa de Duodécimos'!$W$8:$W$107,'Mapa de Duodécimos'!$B$8:$B$107,">="&A33,'Mapa de Duodécimos'!$B$8:$B$107,"<"&DATE(YEAR(A33),MONTH(A33)+1,1),'Mapa de Duodécimos'!$AI$8:$AI$107,"Pronto"),0) | D33: =IFERROR(SUMIFS('Mapa de Duodécimos'!$X$8:$X$107,'Mapa de Duodécimos'!$B$8:$B$107,">="&A33,'Mapa de Duodécimos'!$B$8:$B$107,"<"&DATE(YEAR(A33),MONTH(A33)+1,1),'Mapa de Duodécimos'!$AI$8:$AI$107,"Pronto"),0) | E33: =IFERROR(C33+D33,0) | F33: =IFERROR(IF(COUNTIFS('Mapa de Duodécimos'!$B$8:$B$107,">="&A33,'Mapa de Duodécimos'!$B$8:$B$107,"<"&DATE(YEAR(A33),MONTH(A33)+1,1),'Mapa de Duodécimos'!$AI$8:$AI$107,"Pronto",'Mapa de Duodécimos'!$AH$8:$AH$107,">=0")=0,"",SUMIFS('Mapa de Duodécimos'!$AH$8:$AH$107,'Mapa de Duodécimos'!$B$8:$B$107,">="&A33,'Mapa de Duodécimos'!$B$8:$B$107,"<"&DATE(YEAR(A33),MONTH(A33)+1,1),'Mapa de Duodécimos'!$AI$8:$AI$107,"Pronto")),"") | I33: =""
A34: Total anual | B34: =IFERROR(SUM(B22:B33),0) | C34: =IFERROR(SUM(C22:C33),0) | D34: =IFERROR(SUM(D22:D33),0) | E34: =IFERROR(SUM(E22:E33),0) | F34: =IFERROR(SUM(F22:F33),0) | I34: =""
A35: ="" | C35: ="" | D35: ="" | E35: ="" | F35: ="" | I35: =""
A36: ="" | C36: ="" | D36: ="" | E36: ="" | F36: ="" | I36: =""
A37: Controlo final dos totais | C37: ="" | D37: ="" | E37: ="" | F37: ="" | I37: =""
A38: Total de duodécimos no detalhe | B38: ='Mapa de Duodécimos'!$Y$109 | C38: ="" | D38: ="" | E38: ="" | F38: ="" | I38: =""
A39: Total de duodécimos no resumo mensal | B39: =IFERROR(SUM($E$22:$E$33),0) | C39: ="" | D39: ="" | E39: ="" | F39: ="" | I39: =""
A40: Diferença | B40: =IFERROR(B38-B39,0) | C40: ="" | D40: ="" | E40: ="" | F40: ="" | I40: =""
A41: Estado do controlo | B41: =IF(B40=0,"OK","Rever") | C41: ="" | D41: ="" | E41: ="" | F41: ="" | I41: =""
A42: ="" | B42: ="" | C42: ="" | D42: ="" | E42: ="" | F42: ="" | I42: =""
A43: ="" | B43: ="" | C43: ="" | D43: ="" | E43: ="" | F43: ="" | I43: =""
A44: ="" | B44: ="" | C44: ="" | D44: ="" | E44: ="" | F44: ="" | I44: =""
A45: ="" | B45: ="" | C45: ="" | D45: ="" | E45: ="" | F45: ="" | I45: =""
A46: ="" | B46: ="" | C46: ="" | D46: ="" | E46: ="" | F46: ="" | I46: =""
A47: ="" | B47: ="" | C47: ="" | D47: ="" | E47: ="" | F47: ="" | I47: =""
A48: ="" | B48: ="" | C48: ="" | D48: ="" | E48: ="" | F48: ="" | I48: =""
A49: ="" | B49: ="" | C49: ="" | D49: ="" | E49: ="" | F49: ="" | I49: =""
A50: ="" | B50: ="" | C50: ="" | D50: ="" | E50: ="" | F50: ="" | I50: =""
A51: ="" | B51: ="" | C51: ="" | D51: ="" | E51: ="" | F51: ="" | I51: =""
A52: ="" | B52: ="" | C52: ="" | D52: ="" | E52: ="" | F52: ="" | I52: =""
A53: ="" | B53: ="" | C53: ="" | D53: ="" | E53: ="" | F53: ="" | I53: =""
... A101: ="" | B101: ="" | C101: ="" | D101: ="" | E101: ="" | F101: ="" | I101: =""

Sheet Mapa de Duodécimos
A1: Mapa operacional de duodécimos
A2: Introduza um registo por pessoa e por período. Os cálculos são estimativos e dependem dos parâmetros confirmados.
A7: Nº | B7: Período | C7: Código | D7: Pessoa / colaborador | E7: Tipo de relação | F7: Centro de custo | G7: Subsídio de férias — modalidade | H7: Subsídio de Natal — modalidade | I7: Fator férias manual | J7: Fator Natal manual | K7: Remuneração mensal de referência | L7: Fração férias manual | M7: Fração Natal manual | N7: Taxa SS trabalhador manual | O7: Taxa IRS manual | P7: Taxa SS entidade manual | Q7: Estado operacional | R7: Observações | S7: Fator férias aplicado | T7: Fator Natal aplicado | U7: Fração férias aplicada | V7: Fração Natal aplicada | W7: Duodécimo férias bruto | X7: Duodécimo Natal bruto | Y7: Total duodécimos brutos | Z7: Remuneração bruta processada | AA7: Taxa SS trabalhador aplicada | AB7: Taxa IRS aplicada | AC7: Taxa SS entidade aplicada | AD7: SS trabalhador estimada | AE7: Retenção IRS estimada | AF7: Líquido estimado | AG7: SS entidade estimada | AH7: Custo total estimado | AI7: Estado de controlo
A8: =IF(B8="","",ROW()-7) | B8: 46023 | C8: COL-001 | D8: Ana Mota | E8: Trabalhador por conta de outrem | F8: Administração | G8: Duodécimos | H8: Duodécimos | K8: 1250 | Q8: Previsto | R8: Exemplo fictício | S8: =IF(B8="","",IFERROR(IF(I8<>"",I8,'Parâmetros'!$B$8),"")) | T8: =IF(B8="","",IFERROR(IF(J8<>"",J8,'Parâmetros'!$B$9),"")) | U8: =IF(B8="","",IFERROR(IF(L8<>"",L8,'Parâmetros'!$B$6),"")) | V8: =IF(B8="","",IFERROR(IF(M8<>"",M8,'Parâmetros'!$B$7),"")) | W8: =IF(OR(B8="",K8="",G8<>"Duodécimos"),"",IFERROR(ROUND(K8*S8*U8,'Parâmetros'!$B$13),"")) | X8: =IF(OR(B8="",K8="",H8<>"Duodécimos"),"",IFERROR(ROUND(K8*T8*V8,'Parâmetros'!$B$13),"")) | Y8: =IF(B8="","",IFERROR(ROUND(SUM(W8:X8),'Parâmetros'!$B$13),"")) | Z8: =IF(OR(B8="",K8=""),"",IFERROR(ROUND(K8+Y8,'Parâmetros'!$B$13),"")) | AA8: =IF(B8="","",IFERROR(IF(N8<>"",N8,'Parâmetros'!$B$10),"")) | AB8: =IF(B8="","",IFERROR(IF(O8<>"",O8,'Parâmetros'!$B$11),"")) | AC8: =IF(B8="","",IFERROR(IF(P8<>"",P8,'Parâmetros'!$B$12),"")) | AD8: =IF(OR(B8="",Z8="",AA8=""),"",IFERROR(ROUND(Z8*AA8,'Parâmetros'!$B$13),"")) | AE8: =IF(OR(B8="",Z8="",AB8=""),"",IFERROR(ROUND(Z8*AB8,'Parâmetros'!$B$13),"")) | AF8: =IF(OR(B8="",Z8="",AD8="",AE8=""),"",IFERROR(ROUND(Z8-AD8-AE8,'Parâmetros'!$B$13),"")) | AG8: =IF(OR(B8="",Z8="",AC8=""),"",IFERROR(ROUND(Z8*AC8,'Parâmetros'!$B$13),"")) | AH8: =IF(OR(B8="",Z8="",AG8=""),"",IFERROR(ROUND(Z8+AG8,'Parâmetros'!$B$13),"")) | AI8: =IF(B8="","",IFERROR(IF(Q8="Excluído","Excluído",IF(YEAR(B8)<>'Parâmetros'!$B$4,"Fora do ano",IF(OR(C8="",D8="",E8="",G8="",H8="",K8="",Q8=""),"Dados em falta",IF(OR(IFERROR(COUNTIF('Parâmetros'!$F$4:$F$6,G8),0)=0,IFERROR(COUNTIF('Parâmetros'!$F$4:$F$6,H8),0)=0,IFERROR(COUNTIF('Parâmetros'!$H$4:$H$7,Q8),0)=0),"Rever valores",IF(IFERROR(COUNTIFS($B$8:$B$107,B8,$C$8:$C$107,C8),0)>1,"Duplicado",IF(OR(K8<0,S8="",T8="",U8="",V8="",S8<0,S8>1,T8<0,T8>1,U8<0,U8>1,V8<0,V8>1,AND(AA8<>"",OR(AA8<0,AA8>1)),AND(AB8<>"",OR(AB8<0,AB8>1)),AND(AC8<>"",OR(AC8<0,AC8>1))),"Rever valores",IF(AND(G8<>"Duodécimos",H8<>"Duodécimos"),"Fora do mapa","Pronto"))))))),"Rever período"))
A9: =IF(B9="","",ROW()-7) | B9: 46023 | C9: COL-002 | D9: Bruno Silva | E9: Trabalhador por conta de outrem | F9: Comercial | G9: Duodécimos | H9: Duodécimos | K9: 1650 | Q9: Previsto | R9: Exemplo fictício | S9: =IF(B9="","",IFERROR(IF(I9<>"",I9,'Parâmetros'!$B$8),"")) | T9: =IF(B9="","",IFERROR(IF(J9<>"",J9,'Parâmetros'!$B$9),"")) | U9: =IF(B9="","",IFERROR(IF(L9<>"",L9,'Parâmetros'!$B$6),"")) | V9: =IF(B9="","",IFERROR(IF(M9<>"",M9,'Parâmetros'!$B$7),"")) | W9: =IF(OR(B9="",K9="",G9<>"Duodécimos"),"",IFERROR(ROUND(K9*S9*U9,'Parâmetros'!$B$13),"")) | X9: =IF(OR(B9="",K9="",H9<>"Duodécimos"),"",IFERROR(ROUND(K9*T9*V9,'Parâmetros'!$B$13),"")) | Y9: =IF(B9="","",IFERROR(ROUND(SUM(W9:X9),'Parâmetros'!$B$13),"")) | Z9: =IF(OR(B9="",K9=""),"",IFERROR(ROUND(K9+Y9,'Parâmetros'!$B$13),"")) | AA9: =IF(B9="","",IFERROR(IF(N9<>"",N9,'Parâmetros'!$B$10),"")) | AB9: =IF(B9="","",IFERROR(IF(O9<>"",O9,'Parâmetros'!$B$11),"")) | AC9: =IF(B9="","",IFERROR(IF(P9<>"",P9,'Parâmetros'!$B$12),"")) | AD9: =IF(OR(B9="",Z9="",AA9=""),"",IFERROR(ROUND(Z9*AA9,'Parâmetros'!$B$13),"")) | AE9: =IF(OR(B9="",Z9="",AB9=""),"",IFERROR(ROUND(Z9*AB9,'Parâmetros'!$B$13),"")) | AF9: =IF(OR(B9="",Z9="",AD9="",AE9=""),"",IFERROR(ROUND(Z9-AD9-AE9,'Parâmetros'!$B$13),"")) | AG9: =IF(OR(B9="",Z9="",AC9=""),"",IFERROR(ROUND(Z9*AC9,'Parâmetros'!$B$13),"")) | AH9: =IF(OR(B9="",Z9="",AG9=""),"",IFERROR(ROUND(Z9+AG9,'Parâmetros'!$B$13),"")) | AI9: =IF(B9="","",IFERROR(IF(Q9="Excluído","Excluído",IF(YEAR(B9)<>'Parâmetros'!$B$4,"Fora do ano",IF(OR(C9="",D9="",E9="",G9="",H9="",K9="",Q9=""),"Dados em falta",IF(OR(IFERROR(COUNTIF('Parâmetros'!$F$4:$F$6,G9),0)=0,IFERROR(COUNTIF('Parâmetros'!$F$4:$F$6,H9),0)=0,IFERROR(COUNTIF('Parâmetros'!$H$4:$H$7,Q9),0)=0),"Rever valores",IF(IFERROR(COUNTIFS($B$8:$B$107,B9,$C$8:$C$107,C9),0)>1,"Duplicado",IF(OR(K9<0,S9="",T9="",U9="",V9="",S9<0,S9>1,T9<0,T9>1,U9<0,U9>1,V9<0,V9>1,AND(AA9<>"",OR(AA9<0,AA9>1)),AND(AB9<>"",OR(AB9<0,AB9>1)),AND(AC9<>"",OR(AC9<0,AC9>1))),"Rever valores",IF(AND(G9<>"Duodécimos",H9<>"Duodécimos"),"Fora do mapa","Pronto"))))))),"Rever período"))
A10: =IF(B10="","",ROW()-7) | B10: 46023 | C10: COL-003 | D10: Carla Neves | E10: Trabalhador por conta de outrem | F10: Operações | G10: Duodécimos | H10: Duodécimos | K10: 980 | Q10: Validado | R10: Exemplo fictício | S10: =IF(B10="","",IFERROR(IF(I10<>"",I10,'Parâmetros'!$B$8),"")) | T10: =IF(B10="","",IFERROR(IF(J10<>"",J10,'Parâmetros'!$B$9),"")) | U10: =IF(B10="","",IFERROR(IF(L10<>"",L10,'Parâmetros'!$B$6),"")) | V10: =IF(B10="","",IFERROR(IF(M10<>"",M10,'Parâmetros'!$B$7),"")) | W10: =IF(OR(B10="",K10="",G10<>"Duodécimos"),"",IFERROR(ROUND(K10*S10*U10,'Parâmetros'!$B$13),"")) | X10: =IF(OR(B10="",K10="",H10<>"Duodécimos"),"",IFERROR(ROUND(K10*T10*V10,'Parâmetros'!$B$13),"")) | Y10: =IF(B10="","",IFERROR(ROUND(SUM(W10:X10),'Parâmetros'!$B$13),"")) | Z10: =IF(OR(B10="",K10=""),"",IFERROR(ROUND(K10+Y10,'Parâmetros'!$B$13),"")) | AA10: =IF(B10="","",IFERROR(IF(N10<>"",N10,'Parâmetros'!$B$10),"")) | AB10: =IF(B10="","",IFERROR(IF(O10<>"",O10,'Parâmetros'!$B$11),"")) | AC10: =IF(B10="","",IFERROR(IF(P10<>"",P10,'Parâmetros'!$B$12),"")) | AD10: =IF(OR(B10="",Z10="",AA10=""),"",IFERROR(ROUND(Z10*AA10,'Parâmetros'!$B$13),"")) | AE10: =IF(OR(B10="",Z10="",AB10=""),"",IFERROR(ROUND(Z10*AB10,'Parâmetros'!$B$13),"")) | AF10: =IF(OR(B10="",Z10="",AD10="",AE10=""),"",IFERROR(ROUND(Z10-AD10-AE10,'Parâmetros'!$B$13),"")) | AG10: =IF(OR(B10="",Z10="",AC10=""),"",IFERROR(ROUND(Z10*AC10,'Parâmetros'!$B$13),"")) | AH10: =IF(OR(B10="",Z10="",AG10=""),"",IFERROR(ROUND(Z10+AG10,'Parâmetros'!$B$13),"")) | AI10: =IF(B10="","",IFERROR(IF(Q10="Excluído","Excluído",IF(YEAR(B10)<>'Parâmetros'!$B$4,"Fora do ano",IF(OR(C10="",D10="",E10="",G10="",H10="",K10="",Q10=""),"Dados em falta",IF(OR(IFERROR(COUNTIF('Parâmetros'!$F$4:$F$6,G10),0)=0,IFERROR(COUNTIF('Parâmetros'!$F$4:$F$6,H10),0)=0,IFERROR(COUNTIF('Parâmetros'!$H$4:$H$7,Q10),0)=0),"Rever valores",IF(IFERROR(COUNTIFS($B$8:$B$107,B10,$C$8:$C$107,C10),0)>1,"Duplicado",IF(OR(K10<0,S10="",T10="",U10="",V10="",S10<0,S10>1,T10<0,T10>1,U10<0,U10>1,V10<0,V10>1,AND(AA10<>"",OR(AA10<0,AA10>1)),AND(AB10<>"",OR(AB10<0,AB10>1)),AND(AC10<>"",OR(AC10<0,AC10>1))),"Rever valores",IF(AND(G10<>"Duodécimos",H10<>"Duodécimos"),"Fora do mapa","Pronto"))))))),"Rever período"))
A11: =IF(B11="","",ROW()-7) | B11: 46054 | C11: COL-001 | D11: Ana Mota | E11: Trabalhador por conta de outrem | F11: Administração | G11: Duodécimos | H11: Duodécimos | K11: 1250 | Q11: Previsto | R11: Exemplo fictício | S11: =IF(B11="","",IFERROR(IF(I11<>"",I11,'Parâmetros'!$B$8),"")) | T11: =IF(B11="","",IFERROR(IF(J11<>"",J11,'Parâmetros'!$B$9),"")) | U11: =IF(B11="","",IFERROR(IF(L11<>"",L11,'Parâmetros'!$B$6),"")) | V11: =IF(B11="","",IFERROR(IF(M11<>"",M11,'Parâmetros'!$B$7),"")) | W11: =IF(OR(B11="",K11="",G11<>"Duodécimos"),"",IFERROR(ROUND(K11*S11*U11,'Parâmetros'!$B$13),"")) | X11: =IF(OR(B11="",K11="",H11<>"Duodécimos"),"",IFERROR(ROUND(K11*T11*V11,'Parâmetros'!$B$13),"")) | Y11: =IF(B11="","",IFERROR(ROUND(SUM(W11:X11),'Parâmetros'!$B$13),"")) | Z11: =IF(OR(B11="",K11=""),"",IFERROR(ROUND(K11+Y11,'Parâmetros'!$B$13),"")) | AA11: =IF(B11="","",IFERROR(IF(N11<>"",N11,'Parâmetros'!$B$10),"")) | AB11: =IF(B11="","",IFERROR(IF(O11<>"",O11,'Parâmetros'!$B$11),"")) | AC11: =IF(B11="","",IFERROR(IF(P11<>"",P11,'Parâmetros'!$B$12),"")) | AD11: =IF(OR(B11="",Z11="",AA11=""),"",IFERROR(ROUND(Z11*AA11,'Parâmetros'!$B$13),"")) | AE11: =IF(OR(B11="",Z11="",AB11=""),"",IFERROR(ROUND(Z11*AB11,'Parâmetros'!$B$13),"")) | AF11: =IF(OR(B11="",Z11="",AD11="",AE11=""),"",IFERROR(ROUND(Z11-AD11-AE11,'Parâmetros'!$B$13),"")) | AG11: =IF(OR(B11="",Z11="",AC11=""),"",IFERROR(ROUND(Z11*AC11,'Parâmetros'!$B$13),"")) | AH11: =IF(OR(B11="",Z11="",AG11=""),"",IFERROR(ROUND(Z11+AG11,'Parâmetros'!$B$13),"")) | AI11: =IF(B11="","",IFERROR(IF(Q11="Excluído","Excluído",IF(YEAR(B11)<>'Parâmetros'!$B$4,"Fora do ano",IF(OR(C11="",D11="",E11="",G11="",H11="",K11="",Q11=""),"Dados em falta",IF(OR(IFERROR(COUNTIF('Parâmetros'!$F$4:$F$6,G11),0)=0,IFERROR(COUNTIF('Parâmetros'!$F$4:$F$6,H11),0)=0,IFERROR(COUNTIF('Parâmetros'!$H$4:$H$7,Q11),0)=0),"Rever valores",IF(IFERROR(COUNTIFS($B$8:$B$107,B11,$C$8:$C$107,C11),0)>1,"Duplicado",IF(OR(K11<0,S11="",T11="",U11="",V11="",S11<0,S11>1,T11<0,T11>1,U11<0,U11>1,V11<0,V11>1,AND(AA11<>"",OR(AA11<0,AA11>1)),AND(AB11<>"",OR(AB11<0,AB11>1)),AND(AC11<>"",OR(AC11<0,AC11>1))),"Rever valores",IF(AND(G11<>"Duodécimos",H11<>"Duodécimos"),"Fora do mapa","Pronto"))))))),"Rever período"))
A12: =IF(B12="","",ROW()-7) | B12: 46054 | C12: COL-002 | D12: Bruno Silva | E12: Trabalhador por conta de outrem | F12: Comercial | G12: Duodécimos | H12: Duodécimos | K12: 1650 | Q12: Previsto | R12: Exemplo fictício | S12: =IF(B12="","",IFERROR(IF(I12<>"",I12,'Parâmetros'!$B$8),"")) | T12: =IF(B12="","",IFERROR(IF(J12<>"",J12,'Parâmetros'!$B$9),"")) | U12: =IF(B12="","",IFERROR(IF(L12<>"",L12,'Parâmetros'!$B$6),"")) | V12: =IF(B12="","",IFERROR(IF(M12<>"",M12,'Parâmetros'!$B$7),"")) | W12: =IF(OR(B12="",K12="",G12<>"Duodécimos"),"",IFERROR(ROUND(K12*S12*U12,'Parâmetros'!$B$13),"")) | X12: =IF(OR(B12="",K12="",H12<>"Duodécimos"),"",IFERROR(ROUND(K12*T12*V12,'Parâmetros'!$B$13),"")) | Y12: =IF(B12="","",IFERROR(ROUND(SUM(W12:X12),'Parâmetros'!$B$13),"")) | Z12: =IF(OR(B12="",K12=""),"",IFERROR(ROUND(K12+Y12,'Parâmetros'!$B$13),"")) | AA12: =IF(B12="","",IFERROR(IF(N12<>"",N12,'Parâmetros'!$B$10),"")) | AB12: =IF(B12="","",IFERROR(IF(O12<>"",O12,'Parâmetros'!$B$11),"")) | AC12: =IF(B12="","",IFERROR(IF(P12<>"",P12,'Parâmetros'!$B$12),"")) | AD12: =IF(OR(B12="",Z12="",AA12=""),"",IFERROR(ROUND(Z12*AA12,'Parâmetros'!$B$13),"")) | AE12: =IF(OR(B12="",Z12="",AB12=""),"",IFERROR(ROUND(Z12*AB12,'Parâmetros'!$B$13),"")) | AF12: =IF(OR(B12="",Z12="",AD12="",AE12=""),"",IFERROR(ROUND(Z12-AD12-AE12,'Parâmetros'!$B$13),"")) | AG12: =IF(OR(B12="",Z12="",AC12=""),"",IFERROR(ROUND(Z12*AC12,'Parâmetros'!$B$13),"")) | AH12: =IF(OR(B12="",Z12="",AG12=""),"",IFERROR(ROUND(Z12+AG12,'Parâmetros'!$B$13),"")) | AI12: =IF(B12="","",IFERROR(IF(Q12="Excluído","Excluído",IF(YEAR(B12)<>'Parâmetros'!$B$4,"Fora do ano",IF(OR(C12="",D12="",E12="",G12="",H12="",K12="",Q12=""),"Dados em falta",IF(OR(IFERROR(COUNTIF('Parâmetros'!$F$4:$F$6,G12),0)=0,IFERROR(COUNTIF('Parâmetros'!$F$4:$F$6,H12),0)=0,IFERROR(COUNTIF('Parâmetros'!$H$4:$H$7,Q12),0)=0),"Rever valores",IF(IFERROR(COUNTIFS($B$8:$B$107,B12,$C$8:$C$107,C12),0)>1,"Duplicado",IF(OR(K12<0,S12="",T12="",U12="",V12="",S12<0,S12>1,T12<0,T12>1,U12<0,U12>1,V12<0,V12>1,AND(AA12<>"",OR(AA12<0,AA12>1)),AND(AB12<>"",OR(AB12<0,AB12>1)),AND(AC12<>"",OR(AC12<0,AC12>1))),"Rever valores",IF(AND(G12<>"Duodécimos",H12<>"Duodécimos"),"Fora do mapa","Pronto"))))))),"Rever período"))
A13: =IF(B13="","",ROW()-7) | B13: 46054 | C13: COL-003 | D13: Carla Neves | E13: Trabalhador por conta de outrem | F13: Operações | G13: Duodécimos | H13: Duodécimos | K13: 980 | Q13: Validado | R13: Exemplo fictício | S13: =IF(B13="","",IFERROR(IF(I13<>"",I13,'Parâmetros'!$B$8),"")) | T13: =IF(B13="","",IFERROR(IF(J13<>"",J13,'Parâmetros'!$B$9),"")) | U13: =IF(B13="","",IFERROR(IF(L13<>"",L13,'Parâmetros'!$B$6),"")) | V13: =IF(B13="","",IFERROR(IF(M13<>"",M13,'Parâmetros'!$B$7),"")) | W13: =IF(OR(B13="",K13="",G13<>"Duodécimos"),"",IFERROR(ROUND(K13*S13*U13,'Parâmetros'!$B$13),"")) | X13: =IF(OR(B13="",K13="",H13<>"Duodécimos"),"",IFERROR(ROUND(K13*T13*V13,'Parâmetros'!$B$13),"")) | Y13: =IF(B13="","",IFERROR(ROUND(SUM(W13:X13),'Parâmetros'!$B$13),"")) | Z13: =IF(OR(B13="",K13=""),"",IFERROR(ROUND(K13+Y13,'Parâmetros'!$B$13),"")) | AA13: =IF(B13="","",IFERROR(IF(N13<>"",N13,'Parâmetros'!$B$10),"")) | AB13: =IF(B13="","",IFERROR(IF(O13<>"",O13,'Parâmetros'!$B$11),"")) | AC13: =IF(B13="","",IFERROR(IF(P13<>"",P13,'Parâmetros'!$B$12),"")) | AD13: =IF(OR(B13="",Z13="",AA13=""),"",IFERROR(ROUND(Z13*AA13,'Parâmetros'!$B$13),"")) | AE13: =IF(OR(B13="",Z13="",AB13=""),"",IFERROR(ROUND(Z13*AB13,'Parâmetros'!$B$13),"")) | AF13: =IF(OR(B13="",Z13="",AD13="",AE13=""),"",IFERROR(ROUND(Z13-AD13-AE13,'Parâmetros'!$B$13),"")) | AG13: =IF(OR(B13="",Z13="",AC13=""),"",IFERROR(ROUND(Z13*AC13,'Parâmetros'!$B$13),"")) | AH13: =IF(OR(B13="",Z13="",AG13=""),"",IFERROR(ROUND(Z13+AG13,'Parâmetros'!$B$13),"")) | AI13: =IF(B13="","",IFERROR(IF(Q13="Excluído","Excluído",IF(YEAR(B13)<>'Parâmetros'!$B$4,"Fora do ano",IF(OR(C13="",D13="",E13="",G13="",H13="",K13="",Q13=""),"Dados em falta",IF(OR(IFERROR(COUNTIF('Parâmetros'!$F$4:$F$6,G13),0)=0,IFERROR(COUNTIF('Parâmetros'!$F$4:$F$6,H13),0)=0,IFERROR(COUNTIF('Parâmetros'!$H$4:$H$7,Q13),0)=0),"Rever valores",IF(IFERROR(COUNTIFS($B$8:$B$107,B13,$C$8:$C$107,C13),0)>1,"Duplicado",IF(OR(K13<0,S13="",T13="",U13="",V13="",S13<0,S13>1,T13<0,T13>1,U13<0,U13>1,V13<0,V13>1,AND(AA13<>"",OR(AA13<0,AA13>1)),AND(AB13<>"",OR(AB13<0,AB13>1)),AND(AC13<>"",OR(AC13<0,AC13>1))),"Rever valores",IF(AND(G13<>"Duodécimos",H13<>"Duodécimos"),"Fora do mapa","Pronto"))))))),"Rever período"))
A14: =IF(B14="","",ROW()-7) | B14: 46082 | C14: COL-001 | D14: Ana Mota | E14: Trabalhador por conta de outrem | F14: Administração | G14: Duodécimos | H14: Duodécimos | K14: 1250 | Q14: Processado | R14: Exemplo fictício | S14: =IF(B14="","",IFERROR(IF(I14<>"",I14,'Parâmetros'!$B$8),"")) | T14: =IF(B14="","",IFERROR(IF(J14<>"",J14,'Parâmetros'!$B$9),"")) | U14: =IF(B14="","",IFERROR(IF(L14<>"",L14,'Parâmetros'!$B$6),"")) | V14: =IF(B14="","",IFERROR(IF(M14<>"",M14,'Parâmetros'!$B$7),"")) | W14: =IF(OR(B14="",K14="",G14<>"Duodécimos"),"",IFERROR(ROUND(K14*S14*U14,'Parâmetros'!$B$13),"")) | X14: =IF(OR(B14="",K14="",H14<>"Duodécimos"),"",IFERROR(ROUND(K14*T14*V14,'Parâmetros'!$B$13),"")) | Y14: =IF(B14="","",IFERROR(ROUND(SUM(W14:X14),'Parâmetros'!$B$13),"")) | Z14: =IF(OR(B14="",K14=""),"",IFERROR(ROUND(K14+Y14,'Parâmetros'!$B$13),"")) | AA14: =IF(B14="","",IFERROR(IF(N14<>"",N14,'Parâmetros'!$B$10),"")) | AB14: =IF(B14="","",IFERROR(IF(O14<>"",O14,'Parâmetros'!$B$11),"")) | AC14: =IF(B14="","",IFERROR(IF(P14<>"",P14,'Parâmetros'!$B$12),"")) | AD14: =IF(OR(B14="",Z14="",AA14=""),"",IFERROR(ROUND(Z14*AA14,'Parâmetros'!$B$13),"")) | AE14: =IF(OR(B14="",Z14="",AB14=""),"",IFERROR(ROUND(Z14*AB14,'Parâmetros'!$B$13),"")) | AF14: =IF(OR(B14="",Z14="",AD14="",AE14=""),"",IFERROR(ROUND(Z14-AD14-AE14,'Parâmetros'!$B$13),"")) | AG14: =IF(OR(B14="",Z14="",AC14=""),"",IFERROR(ROUND(Z14*AC14,'Parâmetros'!$B$13),"")) | AH14: =IF(OR(B14="",Z14="",AG14=""),"",IFERROR(ROUND(Z14+AG14,'Parâmetros'!$B$13),"")) | AI14: =IF(B14="","",IFERROR(IF(Q14="Excluído","Excluído",IF(YEAR(B14)<>'Parâmetros'!$B$4,"Fora do ano",IF(OR(C14="",D14="",E14="",G14="",H14="",K14="",Q14=""),"Dados em falta",IF(OR(IFERROR(COUNTIF('Parâmetros'!$F$4:$F$6,G14),0)=0,IFERROR(COUNTIF('Parâmetros'!$F$4:$F$6,H14),0)=0,IFERROR(COUNTIF('Parâmetros'!$H$4:$H$7,Q14),0)=0),"Rever valores",IF(IFERROR(COUNTIFS($B$8:$B$107,B14,$C$8:$C$107,C14),0)>1,"Duplicado",IF(OR(K14<0,S14="",T14="",U14="",V14="",S14<0,S14>1,T14<0,T14>1,U14<0,U14>1,V14<0,V14>1,AND(AA14<>"",OR(AA14<0,AA14>1)),AND(AB14<>"",OR(AB14<0,AB14>1)),AND(AC14<>"",OR(AC14<0,AC14>1))),"Rever valores",IF(AND(G14<>"Duodécimos",H14<>"Duodécimos"),"Fora do mapa","Pronto"))))))),"Rever período"))
A15: =IF(B15="","",ROW()-7) | B15: 46082 | C15: COL-002 | D15: Bruno Silva | E15: Trabalhador por conta de outrem | F15: Comercial | G15: Fora do mapa | H15: Duodécimos | K15: 1650 | Q15: Validado | R15: Exemplo de modalidades distintas; confirmar enquadramento | S15: =IF(B15="","",IFERROR(IF(I15<>"",I15,'Parâmetros'!$B$8),"")) | T15: =IF(B15="","",IFERROR(IF(J15<>"",J15,'Parâmetros'!$B$9),"")) | U15: =IF(B15="","",IFERROR(IF(L15<>"",L15,'Parâmetros'!$B$6),"")) | V15: =IF(B15="","",IFERROR(IF(M15<>"",M15,'Parâmetros'!$B$7),"")) | W15: =IF(OR(B15="",K15="",G15<>"Duodécimos"),"",IFERROR(ROUND(K15*S15*U15,'Parâmetros'!$B$13),"")) | X15: =IF(OR(B15="",K15="",H15<>"Duodécimos"),"",IFERROR(ROUND(K15*T15*V15,'Parâmetros'!$B$13),"")) | Y15: =IF(B15="","",IFERROR(ROUND(SUM(W15:X15),'Parâmetros'!$B$13),"")) | Z15: =IF(OR(B15="",K15=""),"",IFERROR(ROUND(K15+Y15,'Parâmetros'!$B$13),"")) | AA15: =IF(B15="","",IFERROR(IF(N15<>"",N15,'Parâmetros'!$B$10),"")) | AB15: =IF(B15="","",IFERROR(IF(O15<>"",O15,'Parâmetros'!$B$11),"")) | AC15: =IF(B15="","",IFERROR(IF(P15<>"",P15,'Parâmetros'!$B$12),"")) | AD15: =IF(OR(B15="",Z15="",AA15=""),"",IFERROR(ROUND(Z15*AA15,'Parâmetros'!$B$13),"")) | AE15: =IF(OR(B15="",Z15="",AB15=""),"",IFERROR(ROUND(Z15*AB15,'Parâmetros'!$B$13),"")) | AF15: =IF(OR(B15="",Z15="",AD15="",AE15=""),"",IFERROR(ROUND(Z15-AD15-AE15,'Parâmetros'!$B$13),"")) | AG15: =IF(OR(B15="",Z15="",AC15=""),"",IFERROR(ROUND(Z15*AC15,'Parâmetros'!$B$13),"")) | AH15: =IF(OR(B15="",Z15="",AG15=""),"",IFERROR(ROUND(Z15+AG15,'Parâmetros'!$B$13),"")) | AI15: =IF(B15="","",IFERROR(IF(Q15="Excluído","Excluído",IF(YEAR(B15)<>'Parâmetros'!$B$4,"Fora do ano",IF(OR(C15="",D15="",E15="",G15="",H15="",K15="",Q15=""),"Dados em falta",IF(OR(IFERROR(COUNTIF('Parâmetros'!$F$4:$F$6,G15),0)=0,IFERROR(COUNTIF('Parâmetros'!$F$4:$F$6,H15),0)=0,IFERROR(COUNTIF('Parâmetros'!$H$4:$H$7,Q15),0)=0),"Rever valores",IF(IFERROR(COUNTIFS($B$8:$B$107,B15,$C$8:$C$107,C15),0)>1,"Duplicado",IF(OR(K15<0,S15="",T15="",U15="",V15="",S15<0,S15>1,T15<0,T15>1,U15<0,U15>1,V15<0,V15>1,AND(AA15<>"",OR(AA15<0,AA15>1)),AND(AB15<>"",OR(AB15<0,AB15>1)),AND(AC15<>"",OR(AC15<0,AC15>1))),"Rever valores",IF(AND(G15<>"Duodécimos",H15<>"Duodécimos"),"Fora do mapa","Pronto"))))))),"Rever período"))
A16: =IF(B16="","",ROW()-7) | B16: 46082 | C16: COL-004 | D16: Diana Ferreira | E16: Trabalhador por conta de outrem | F16: Projetos | G16: Duodécimos | H16: Duodécimos | I16: 0.5 | J16: 0.5 | K16: 1400 | Q16: Validado | R16: Exemplo de fator manual; confirmar proporcionalidade | S16: =IF(B16="","",IFERROR(IF(I16<>"",I16,'Parâmetros'!$B$8),"")) | T16: =IF(B16="","",IFERROR(IF(J16<>"",J16,'Parâmetros'!$B$9),"")) | U16: =IF(B16="","",IFERROR(IF(L16<>"",L16,'Parâmetros'!$B$6),"")) | V16: =IF(B16="","",IFERROR(IF(M16<>"",M16,'Parâmetros'!$B$7),"")) | W16: =IF(OR(B16="",K16="",G16<>"Duodécimos"),"",IFERROR(ROUND(K16*S16*U16,'Parâmetros'!$B$13),"")) | X16: =IF(OR(B16="",K16="",H16<>"Duodécimos"),"",IFERROR(ROUND(K16*T16*V16,'Parâmetros'!$B$13),"")) | Y16: =IF(B16="","",IFERROR(ROUND(SUM(W16:X16),'Parâmetros'!$B$13),"")) | Z16: =IF(OR(B16="",K16=""),"",IFERROR(ROUND(K16+Y16,'Parâmetros'!$B$13),"")) | AA16: =IF(B16="","",IFERROR(IF(N16<>"",N16,'Parâmetros'!$B$10),"")) | AB16: =IF(B16="","",IFERROR(IF(O16<>"",O16,'Parâmetros'!$B$11),"")) | AC16: =IF(B16="","",IFERROR(IF(P16<>"",P16,'Parâmetros'!$B$12),"")) | AD16: =IF(OR(B16="",Z16="",AA16=""),"",IFERROR(ROUND(Z16*AA16,'Parâmetros'!$B$13),"")) | AE16: =IF(OR(B16="",Z16="",AB16=""),"",IFERROR(ROUND(Z16*AB16,'Parâmetros'!$B$13),"")) | AF16: =IF(OR(B16="",Z16="",AD16="",AE16=""),"",IFERROR(ROUND(Z16-AD16-AE16,'Parâmetros'!$B$13),"")) | AG16: =IF(OR(B16="",Z16="",AC16=""),"",IFERROR(ROUND(Z16*AC16,'Parâmetros'!$B$13),"")) | AH16: =IF(OR(B16="",Z16="",AG16=""),"",IFERROR(ROUND(Z16+AG16,'Parâmetros'!$B$13),"")) | AI16: =IF(B16="","",IFERROR(IF(Q16="Excluído","Excluído",IF(YEAR(B16)<>'Parâmetros'!$B$4,"Fora do ano",IF(OR(C16="",D16="",E16="",G16="",H16="",K16="",Q16=""),"Dados em falta",IF(OR(IFERROR(COUNTIF('Parâmetros'!$F$4:$F$6,G16),0)=0,IFERROR(COUNTIF('Parâmetros'!$F$4:$F$6,H16),0)=0,IFERROR(COUNTIF('Parâmetros'!$H$4:$H$7,Q16),0)=0),"Rever valores",IF(IFERROR(COUNTIFS($B$8:$B$107,B16,$C$8:$C$107,C16),0)>1,"Duplicado",IF(OR(K16<0,S16="",T16="",U16="",V16="",S16<0,S16>1,T16<0,T16>1,U16<0,U16>1,V16<0,V16>1,AND(AA16<>"",OR(AA16<0,AA16>1)),AND(AB16<>"",OR(AB16<0,AB16>1)),AND(AC16<>"",OR(AC16<0,AC16>1))),"Rever valores",IF(AND(G16<>"Duodécimos",H16<>"Duodécimos"),"Fora do mapa","Pronto"))))))),"Rever período"))
A17: =IF(B17="","",ROW()-7) | S17: =IF(B17="","",IFERROR(IF(I17<>"",I17,'Parâmetros'!$B$8),"")) | T17: =IF(B17="","",IFERROR(IF(J17<>"",J17,'Parâmetros'!$B$9),"")) | U17: =IF(B17="","",IFERROR(IF(L17<>"",L17,'Parâmetros'!$B$6),"")) | V17: =IF(B17="","",IFERROR(IF(M17<>"",M17,'Parâmetros'!$B$7),"")) | W17: =IF(OR(B17="",K17="",G17<>"Duodécimos"),"",IFERROR(ROUND(K17*S17*U17,'Parâmetros'!$B$13),"")) | X17: =IF(OR(B17="",K17="",H17<>"Duodécimos"),"",IFERROR(ROUND(K17*T17*V17,'Parâmetros'!$B$13),"")) | Y17: =IF(B17="","",IFERROR(ROUND(SUM(W17:X17),'Parâmetros'!$B$13),"")) | Z17: =IF(OR(B17="",K17=""),"",IFERROR(ROUND(K17+Y17,'Parâmetros'!$B$13),"")) | AA17: =IF(B17="","",IFERROR(IF(N17<>"",N17,'Parâmetros'!$B$10),"")) | AB17: =IF(B17="","",IFERROR(IF(O17<>"",O17,'Parâmetros'!$B$11),"")) | AC17: =IF(B17="","",IFERROR(IF(P17<>"",P17,'Parâmetros'!$B$12),"")) | AD17: =IF(OR(B17="",Z17="",AA17=""),"",IFERROR(ROUND(Z17*AA17,'Parâmetros'!$B$13),"")) | AE17: =IF(OR(B17="",Z17="",AB17=""),"",IFERROR(ROUND(Z17*AB17,'Parâmetros'!$B$13),"")) | AF17: =IF(OR(B17="",Z17="",AD17="",AE17=""),"",IFERROR(ROUND(Z17-AD17-AE17,'Parâmetros'!$B$13),"")) | AG17: =IF(OR(B17="",Z17="",AC17=""),"",IFERROR(ROUND(Z17*AC17,'Parâmetros'!$B$13),"")) | AH17: =IF(OR(B17="",Z17="",AG17=""),"",IFERROR(ROUND(Z17+AG17,'Parâmetros'!$B$13),"")) | AI17: =IF(B17="","",IFERROR(IF(Q17="Excluído","Excluído",IF(YEAR(B17)<>'Parâmetros'!$B$4,"Fora do ano",IF(OR(C17="",D17="",E17="",G17="",H17="",K17="",Q17=""),"Dados em falta",IF(OR(IFERROR(COUNTIF('Parâmetros'!$F$4:$F$6,G17),0)=0,IFERROR(COUNTIF('Parâmetros'!$F$4:$F$6,H17),0)=0,IFERROR(COUNTIF('Parâmetros'!$H$4:$H$7,Q17),0)=0),"Rever valores",IF(IFERROR(COUNTIFS($B$8:$B$107,B17,$C$8:$C$107,C17),0)>1,"Duplicado",IF(OR(K17<0,S17="",T17="",U17="",V17="",S17<0,S17>1,T17<0,T17>1,U17<0,U17>1,V17<0,V17>1,AND(AA17<>"",OR(AA17<0,AA17>1)),AND(AB17<>"",OR(AB17<0,AB17>1)),AND(AC17<>"",OR(AC17<0,AC17>1))),"Rever valores",IF(AND(G17<>"Duodécimos",H17<>"Duodécimos"),"Fora do mapa","Pronto"))))))),"Rever período"))
A18: =IF(B18="","",ROW()-7) | S18: =IF(B18="","",IFERROR(IF(I18<>"",I18,'Parâmetros'!$B$8),"")) | T18: =IF(B18="","",IFERROR(IF(J18<>"",J18,'Parâmetros'!$B$9),"")) | U18: =IF(B18="","",IFERROR(IF(L18<>"",L18,'Parâmetros'!$B$6),"")) | V18: =IF(B18="","",IFERROR(IF(M18<>"",M18,'Parâmetros'!$B$7),"")) | W18: =IF(OR(B18="",K18="",G18<>"Duodécimos"),"",IFERROR(ROUND(K18*S18*U18,'Parâmetros'!$B$13),"")) | X18: =IF(OR(B18="",K18="",H18<>"Duodécimos"),"",IFERROR(ROUND(K18*T18*V18,'Parâmetros'!$B$13),"")) | Y18: =IF(B18="","",IFERROR(ROUND(SUM(W18:X18),'Parâmetros'!$B$13),"")) | Z18: =IF(OR(B18="",K18=""),"",IFERROR(ROUND(K18+Y18,'Parâmetros'!$B$13),"")) | AA18: =IF(B18="","",IFERROR(IF(N18<>"",N18,'Parâmetros'!$B$10),"")) | AB18: =IF(B18="","",IFERROR(IF(O18<>"",O18,'Parâmetros'!$B$11),"")) | AC18: =IF(B18="","",IFERROR(IF(P18<>"",P18,'Parâmetros'!$B$12),"")) | AD18: =IF(OR(B18="",Z18="",AA18=""),"",IFERROR(ROUND(Z18*AA18,'Parâmetros'!$B$13),"")) | AE18: =IF(OR(B18="",Z18="",AB18=""),"",IFERROR(ROUND(Z18*AB18,'Parâmetros'!$B$13),"")) | AF18: =IF(OR(B18="",Z18="",AD18="",AE18=""),"",IFERROR(ROUND(Z18-AD18-AE18,'Parâmetros'!$B$13),"")) | AG18: =IF(OR(B18="",Z18="",AC18=""),"",IFERROR(ROUND(Z18*AC18,'Parâmetros'!$B$13),"")) | AH18: =IF(OR(B18="",Z18="",AG18=""),"",IFERROR(ROUND(Z18+AG18,'Parâmetros'!$B$13),"")) | AI18: =IF(B18="","",IFERROR(IF(Q18="Excluído","Excluído",IF(YEAR(B18)<>'Parâmetros'!$B$4,"Fora do ano",IF(OR(C18="",D18="",E18="",G18="",H18="",K18="",Q18=""),"Dados em falta",IF(OR(IFERROR(COUNTIF('Parâmetros'!$F$4:$F$6,G18),0)=0,IFERROR(COUNTIF('Parâmetros'!$F$4:$F$6,H18),0)=0,IFERROR(COUNTIF('Parâmetros'!$H$4:$H$7,Q18),0)=0),"Rever valores",IF(IFERROR(COUNTIFS($B$8:$B$107,B18,$C$8:$C$107,C18),0)>1,"Duplicado",IF(OR(K18<0,S18="",T18="",U18="",V18="",S18<0,S18>1,T18<0,T18>1,U18<0,U18>1,V18<0,V18>1,AND(AA18<>"",OR(AA18<0,AA18>1)),AND(AB18<>"",OR(AB18<0,AB18>1)),AND(AC18<>"",OR(AC18<0,AC18>1))),"Rever valores",IF(AND(G18<>"Duodécimos",H18<>"Duodécimos"),"Fora do mapa","Pronto"))))))),"Rever período"))
A19: =IF(B19="","",ROW()-7) | S19: =IF(B19="","",IFERROR(IF(I19<>"",I19,'Parâmetros'!$B$8),"")) | T19: =IF(B19="","",IFERROR(IF(J19<>"",J19,'Parâmetros'!$B$9),"")) | U19: =IF(B19="","",IFERROR(IF(L19<>"",L19,'Parâmetros'!$B$6),"")) | V19: =IF(B19="","",IFERROR(IF(M19<>"",M19,'Parâmetros'!$B$7),"")) | W19: =IF(OR(B19="",K19="",G19<>"Duodécimos"),"",IFERROR(ROUND(K19*S19*U19,'Parâmetros'!$B$13),"")) | X19: =IF(OR(B19="",K19="",H19<>"Duodécimos"),"",IFERROR(ROUND(K19*T19*V19,'Parâmetros'!$B$13),"")) | Y19: =IF(B19="","",IFERROR(ROUND(SUM(W19:X19),'Parâmetros'!$B$13),"")) | Z19: =IF(OR(B19="",K19=""),"",IFERROR(ROUND(K19+Y19,'Parâmetros'!$B$13),"")) | AA19: =IF(B19="","",IFERROR(IF(N19<>"",N19,'Parâmetros'!$B$10),"")) | AB19: =IF(B19="","",IFERROR(IF(O19<>"",O19,'Parâmetros'!$B$11),"")) | AC19: =IF(B19="","",IFERROR(IF(P19<>"",P19,'Parâmetros'!$B$12),"")) | AD19: =IF(OR(B19="",Z19="",AA19=""),"",IFERROR(ROUND(Z19*AA19,'Parâmetros'!$B$13),"")) | AE19: =IF(OR(B19="",Z19="",AB19=""),"",IFERROR(ROUND(Z19*AB19,'Parâmetros'!$B$13),"")) | AF19: =IF(OR(B19="",Z19="",AD19="",AE19=""),"",IFERROR(ROUND(Z19-AD19-AE19,'Parâmetros'!$B$13),"")) | AG19: =IF(OR(B19="",Z19="",AC19=""),"",IFERROR(ROUND(Z19*AC19,'Parâmetros'!$B$13),"")) | AH19: =IF(OR(B19="",Z19="",AG19=""),"",IFERROR(ROUND(Z19+AG19,'Parâmetros'!$B$13),"")) | AI19: =IF(B19="","",IFERROR(IF(Q19="Excluído","Excluído",IF(YEAR(B19)<>'Parâmetros'!$B$4,"Fora do ano",IF(OR(C19="",D19="",E19="",G19="",H19="",K19="",Q19=""),"Dados em falta",IF(OR(IFERROR(COUNTIF('Parâmetros'!$F$4:$F$6,G19),0)=0,IFERROR(COUNTIF('Parâmetros'!$F$4:$F$6,H19),0)=0,IFERROR(COUNTIF('Parâmetros'!$H$4:$H$7,Q19),0)=0),"Rever valores",IF(IFERROR(COUNTIFS($B$8:$B$107,B19,$C$8:$C$107,C19),0)>1,"Duplicado",IF(OR(K19<0,S19="",T19="",U19="",V19="",S19<0,S19>1,T19<0,T19>1,U19<0,U19>1,V19<0,V19>1,AND(AA19<>"",OR(AA19<0,AA19>1)),AND(AB19<>"",OR(AB19<0,AB19>1)),AND(AC19<>"",OR(AC19<0,AC19>1))),"Rever valores",IF(AND(G19<>"Duodécimos",H19<>"Duodécimos"),"Fora do mapa","Pronto"))))))),"Rever período"))
A20: =IF(B20="","",ROW()-7) | S20: =IF(B20="","",IFERROR(IF(I20<>"",I20,'Parâmetros'!$B$8),"")) | T20: =IF(B20="","",IFERROR(IF(J20<>"",J20,'Parâmetros'!$B$9),"")) | U20: =IF(B20="","",IFERROR(IF(L20<>"",L20,'Parâmetros'!$B$6),"")) | V20: =IF(B20="","",IFERROR(IF(M20<>"",M20,'Parâmetros'!$B$7),"")) | W20: =IF(OR(B20="",K20="",G20<>"Duodécimos"),"",IFERROR(ROUND(K20*S20*U20,'Parâmetros'!$B$13),"")) | X20: =IF(OR(B20="",K20="",H20<>"Duodécimos"),"",IFERROR(ROUND(K20*T20*V20,'Parâmetros'!$B$13),"")) | Y20: =IF(B20="","",IFERROR(ROUND(SUM(W20:X20),'Parâmetros'!$B$13),"")) | Z20: =IF(OR(B20="",K20=""),"",IFERROR(ROUND(K20+Y20,'Parâmetros'!$B$13),"")) | AA20: =IF(B20="","",IFERROR(IF(N20<>"",N20,'Parâmetros'!$B$10),"")) | AB20: =IF(B20="","",IFERROR(IF(O20<>"",O20,'Parâmetros'!$B$11),"")) | AC20: =IF(B20="","",IFERROR(IF(P20<>"",P20,'Parâmetros'!$B$12),"")) | AD20: =IF(OR(B20="",Z20="",AA20=""),"",IFERROR(ROUND(Z20*AA20,'Parâmetros'!$B$13),"")) | AE20: =IF(OR(B20="",Z20="",AB20=""),"",IFERROR(ROUND(Z20*AB20,'Parâmetros'!$B$13),"")) | AF20: =IF(OR(B20="",Z20="",AD20="",AE20=""),"",IFERROR(ROUND(Z20-AD20-AE20,'Parâmetros'!$B$13),"")) | AG20: =IF(OR(B20="",Z20="",AC20=""),"",IFERROR(ROUND(Z20*AC20,'Parâmetros'!$B$13),"")) | AH20: =IF(OR(B20="",Z20="",AG20=""),"",IFERROR(ROUND(Z20+AG20,'Parâmetros'!$B$13),"")) | AI20: =IF(B20="","",IFERROR(IF(Q20="Excluído","Excluído",IF(YEAR(B20)<>'Parâmetros'!$B$4,"Fora do ano",IF(OR(C20="",D20="",E20="",G20="",H20="",K20="",Q20=""),"Dados em falta",IF(OR(IFERROR(COUNTIF('Parâmetros'!$F$4:$F$6,G20),0)=0,IFERROR(COUNTIF('Parâmetros'!$F$4:$F$6,H20),0)=0,IFERROR(COUNTIF('Parâmetros'!$H$4:$H$7,Q20),0)=0),"Rever valores",IF(IFERROR(COUNTIFS($B$8:$B$107,B20,$C$8:$C$107,C20),0)>1,"Duplicado",IF(OR(K20<0,S20="",T20="",U20="",V20="",S20<0,S20>1,T20<0,T20>1,U20<0,U20>1,V20<0,V20>1,AND(AA20<>"",OR(AA20<0,AA20>1)),AND(AB20<>"",OR(AB20<0,AB20>1)),AND(AC20<>"",OR(AC20<0,AC20>1))),"Rever valores",IF(AND(G20<>"Duodécimos",H20<>"Duodécimos"),"Fora do mapa","Pronto"))))))),"Rever período"))
A21: =IF(B21="","",ROW()-7) | S21: =IF(B21="","",IFERROR(IF(I21<>"",I21,'Parâmetros'!$B$8),"")) | T21: =IF(B21="","",IFERROR(IF(J21<>"",J21,'Parâmetros'!$B$9),"")) | U21: =IF(B21="","",IFERROR(IF(L21<>"",L21,'Parâmetros'!$B$6),"")) | V21: =IF(B21="","",IFERROR(IF(M21<>"",M21,'Parâmetros'!$B$7),"")) | W21: =IF(OR(B21="",K21="",G21<>"Duodécimos"),"",IFERROR(ROUND(K21*S21*U21,'Parâmetros'!$B$13),"")) | X21: =IF(OR(B21="",K21="",H21<>"Duodécimos"),"",IFERROR(ROUND(K21*T21*V21,'Parâmetros'!$B$13),"")) | Y21: =IF(B21="","",IFERROR(ROUND(SUM(W21:X21),'Parâmetros'!$B$13),"")) | Z21: =IF(OR(B21="",K21=""),"",IFERROR(ROUND(K21+Y21,'Parâmetros'!$B$13),"")) | AA21: =IF(B21="","",IFERROR(IF(N21<>"",N21,'Parâmetros'!$B$10),"")) | AB21: =IF(B21="","",IFERROR(IF(O21<>"",O21,'Parâmetros'!$B$11),"")) | AC21: =IF(B21="","",IFERROR(IF(P21<>"",P21,'Parâmetros'!$B$12),"")) | AD21: =IF(OR(B21="",Z21="",AA21=""),"",IFERROR(ROUND(Z21*AA21,'Parâmetros'!$B$13),"")) | AE21: =IF(OR(B21="",Z21="",AB21=""),"",IFERROR(ROUND(Z21*AB21,'Parâmetros'!$B$13),"")) | AF21: =IF(OR(B21="",Z21="",AD21="",AE21=""),"",IFERROR(ROUND(Z21-AD21-AE21,'Parâmetros'!$B$13),"")) | AG21: =IF(OR(B21="",Z21="",AC21=""),"",IFERROR(ROUND(Z21*AC21,'Parâmetros'!$B$13),"")) | AH21: =IF(OR(B21="",Z21="",AG21=""),"",IFERROR(ROUND(Z21+AG21,'Parâmetros'!$B$13),"")) | AI21: =IF(B21="","",IFERROR(IF(Q21="Excluído","Excluído",IF(YEAR(B21)<>'Parâmetros'!$B$4,"Fora do ano",IF(OR(C21="",D21="",E21="",G21="",H21="",K21="",Q21=""),"Dados em falta",IF(OR(IFERROR(COUNTIF('Parâmetros'!$F$4:$F$6,G21),0)=0,IFERROR(COUNTIF('Parâmetros'!$F$4:$F$6,H21),0)=0,IFERROR(COUNTIF('Parâmetros'!$H$4:$H$7,Q21),0)=0),"Rever valores",IF(IFERROR(COUNTIFS($B$8:$B$107,B21,$C$8:$C$107,C21),0)>1,"Duplicado",IF(OR(K21<0,S21="",T21="",U21="",V21="",S21<0,S21>1,T21<0,T21>1,U21<0,U21>1,V21<0,V21>1,AND(AA21<>"",OR(AA21<0,AA21>1)),AND(AB21<>"",OR(AB21<0,AB21>1)),AND(AC21<>"",OR(AC21<0,AC21>1))),"Rever valores",IF(AND(G21<>"Duodécimos",H21<>"Duodécimos"),"Fora do mapa","Pronto"))))))),"Rever período"))
A22: =IF(B22="","",ROW()-7) | S22: =IF(B22="","",IFERROR(IF(I22<>"",I22,'Parâmetros'!$B$8),"")) | T22: =IF(B22="","",IFERROR(IF(J22<>"",J22,'Parâmetros'!$B$9),"")) | U22: =IF(B22="","",IFERROR(IF(L22<>"",L22,'Parâmetros'!$B$6),"")) | V22: =IF(B22="","",IFERROR(IF(M22<>"",M22,'Parâmetros'!$B$7),"")) | W22: =IF(OR(B22="",K22="",G22<>"Duodécimos"),"",IFERROR(ROUND(K22*S22*U22,'Parâmetros'!$B$13),"")) | X22: =IF(OR(B22="",K22="",H22<>"Duodécimos"),"",IFERROR(ROUND(K22*T22*V22,'Parâmetros'!$B$13),"")) | Y22: =IF(B22="","",IFERROR(ROUND(SUM(W22:X22),'Parâmetros'!$B$13),"")) | Z22: =IF(OR(B22="",K22=""),"",IFERROR(ROUND(K22+Y22,'Parâmetros'!$B$13),"")) | AA22: =IF(B22="","",IFERROR(IF(N22<>"",N22,'Parâmetros'!$B$10),"")) | AB22: =IF(B22="","",IFERROR(IF(O22<>"",O22,'Parâmetros'!$B$11),"")) | AC22: =IF(B22="","",IFERROR(IF(P22<>"",P22,'Parâmetros'!$B$12),"")) | AD22: =IF(OR(B22="",Z22="",AA22=""),"",IFERROR(ROUND(Z22*AA22,'Parâmetros'!$B$13),"")) | AE22: =IF(OR(B22="",Z22="",AB22=""),"",IFERROR(ROUND(Z22*AB22,'Parâmetros'!$B$13),"")) | AF22: =IF(OR(B22="",Z22="",AD22="",AE22=""),"",IFERROR(ROUND(Z22-AD22-AE22,'Parâmetros'!$B$13),"")) | AG22: =IF(OR(B22="",Z22="",AC22=""),"",IFERROR(ROUND(Z22*AC22,'Parâmetros'!$B$13),"")) | AH22: =IF(OR(B22="",Z22="",AG22=""),"",IFERROR(ROUND(Z22+AG22,'Parâmetros'!$B$13),"")) | AI22: =IF(B22="","",IFERROR(IF(Q22="Excluído","Excluído",IF(YEAR(B22)<>'Parâmetros'!$B$4,"Fora do ano",IF(OR(C22="",D22="",E22="",G22="",H22="",K22="",Q22=""),"Dados em falta",IF(OR(IFERROR(COUNTIF('Parâmetros'!$F$4:$F$6,G22),0)=0,IFERROR(COUNTIF('Parâmetros'!$F$4:$F$6,H22),0)=0,IFERROR(COUNTIF('Parâmetros'!$H$4:$H$7,Q22),0)=0),"Rever valores",IF(IFERROR(COUNTIFS($B$8:$B$107,B22,$C$8:$C$107,C22),0)>1,"Duplicado",IF(OR(K22<0,S22="",T22="",U22="",V22="",S22<0,S22>1,T22<0,T22>1,U22<0,U22>1,V22<0,V22>1,AND(AA22<>"",OR(AA22<0,AA22>1)),AND(AB22<>"",OR(AB22<0,AB22>1)),AND(AC22<>"",OR(AC22<0,AC22>1))),"Rever valores",IF(AND(G22<>"Duodécimos",H22<>"Duodécimos"),"Fora do mapa","Pronto"))))))),"Rever período"))
A23: =IF(B23="","",ROW()-7) | S23: =IF(B23="","",IFERROR(IF(I23<>"",I23,'Parâmetros'!$B$8),"")) | T23: =IF(B23="","",IFERROR(IF(J23<>"",J23,'Parâmetros'!$B$9),"")) | U23: =IF(B23="","",IFERROR(IF(L23<>"",L23,'Parâmetros'!$B$6),"")) | V23: =IF(B23="","",IFERROR(IF(M23<>"",M23,'Parâmetros'!$B$7),"")) | W23: =IF(OR(B23="",K23="",G23<>"Duodécimos"),"",IFERROR(ROUND(K23*S23*U23,'Parâmetros'!$B$13),"")) | X23: =IF(OR(B23="",K23="",H23<>"Duodécimos"),"",IFERROR(ROUND(K23*T23*V23,'Parâmetros'!$B$13),"")) | Y23: =IF(B23="","",IFERROR(ROUND(SUM(W23:X23),'Parâmetros'!$B$13),"")) | Z23: =IF(OR(B23="",K23=""),"",IFERROR(ROUND(K23+Y23,'Parâmetros'!$B$13),"")) | AA23: =IF(B23="","",IFERROR(IF(N23<>"",N23,'Parâmetros'!$B$10),"")) | AB23: =IF(B23="","",IFERROR(IF(O23<>"",O23,'Parâmetros'!$B$11),"")) | AC23: =IF(B23="","",IFERROR(IF(P23<>"",P23,'Parâmetros'!$B$12),"")) | AD23: =IF(OR(B23="",Z23="",AA23=""),"",IFERROR(ROUND(Z23*AA23,'Parâmetros'!$B$13),"")) | AE23: =IF(OR(B23="",Z23="",AB23=""),"",IFERROR(ROUND(Z23*AB23,'Parâmetros'!$B$13),"")) | AF23: =IF(OR(B23="",Z23="",AD23="",AE23=""),"",IFERROR(ROUND(Z23-AD23-AE23,'Parâmetros'!$B$13),"")) | AG23: =IF(OR(B23="",Z23="",AC23=""),"",IFERROR(ROUND(Z23*AC23,'Parâmetros'!$B$13),"")) | AH23: =IF(OR(B23="",Z23="",AG23=""),"",IFERROR(ROUND(Z23+AG23,'Parâmetros'!$B$13),"")) | AI23: =IF(B23="","",IFERROR(IF(Q23="Excluído","Excluído",IF(YEAR(B23)<>'Parâmetros'!$B$4,"Fora do ano",IF(OR(C23="",D23="",E23="",G23="",H23="",K23="",Q23=""),"Dados em falta",IF(OR(IFERROR(COUNTIF('Parâmetros'!$F$4:$F$6,G23),0)=0,IFERROR(COUNTIF('Parâmetros'!$F$4:$F$6,H23),0)=0,IFERROR(COUNTIF('Parâmetros'!$H$4:$H$7,Q23),0)=0),"Rever valores",IF(IFERROR(COUNTIFS($B$8:$B$107,B23,$C$8:$C$107,C23),0)>1,"Duplicado",IF(OR(K23<0,S23="",T23="",U23="",V23="",S23<0,S23>1,T23<0,T23>1,U23<0,U23>1,V23<0,V23>1,AND(AA23<>"",OR(AA23<0,AA23>1)),AND(AB23<>"",OR(AB23<0,AB23>1)),AND(AC23<>"",OR(AC23<0,AC23>1))),"Rever valores",IF(AND(G23<>"Duodécimos",H23<>"Duodécimos"),"Fora do mapa","Pronto"))))))),"Rever período"))
A24: =IF(B24="","",ROW()-7) | S24: =IF(B24="","",IFERROR(IF(I24<>"",I24,'Parâmetros'!$B$8),"")) | T24: =IF(B24="","",IFERROR(IF(J24<>"",J24,'Parâmetros'!$B$9),"")) | U24: =IF(B24="","",IFERROR(IF(L24<>"",L24,'Parâmetros'!$B$6),"")) | V24: =IF(B24="","",IFERROR(IF(M24<>"",M24,'Parâmetros'!$B$7),"")) | W24: =IF(OR(B24="",K24="",G24<>"Duodécimos"),"",IFERROR(ROUND(K24*S24*U24,'Parâmetros'!$B$13),"")) | X24: =IF(OR(B24="",K24="",H24<>"Duodécimos"),"",IFERROR(ROUND(K24*T24*V24,'Parâmetros'!$B$13),"")) | Y24: =IF(B24="","",IFERROR(ROUND(SUM(W24:X24),'Parâmetros'!$B$13),"")) | Z24: =IF(OR(B24="",K24=""),"",IFERROR(ROUND(K24+Y24,'Parâmetros'!$B$13),"")) | AA24: =IF(B24="","",IFERROR(IF(N24<>"",N24,'Parâmetros'!$B$10),"")) | AB24: =IF(B24="","",IFERROR(IF(O24<>"",O24,'Parâmetros'!$B$11),"")) | AC24: =IF(B24="","",IFERROR(IF(P24<>"",P24,'Parâmetros'!$B$12),"")) | AD24: =IF(OR(B24="",Z24="",AA24=""),"",IFERROR(ROUND(Z24*AA24,'Parâmetros'!$B$13),"")) | AE24: =IF(OR(B24="",Z24="",AB24=""),"",IFERROR(ROUND(Z24*AB24,'Parâmetros'!$B$13),"")) | AF24: =IF(OR(B24="",Z24="",AD24="",AE24=""),"",IFERROR(ROUND(Z24-AD24-AE24,'Parâmetros'!$B$13),"")) | AG24: =IF(OR(B24="",Z24="",AC24=""),"",IFERROR(ROUND(Z24*AC24,'Parâmetros'!$B$13),"")) | AH24: =IF(OR(B24="",Z24="",AG24=""),"",IFERROR(ROUND(Z24+AG24,'Parâmetros'!$B$13),"")) | AI24: =IF(B24="","",IFERROR(IF(Q24="Excluído","Excluído",IF(YEAR(B24)<>'Parâmetros'!$B$4,"Fora do ano",IF(OR(C24="",D24="",E24="",G24="",H24="",K24="",Q24=""),"Dados em falta",IF(OR(IFERROR(COUNTIF('Parâmetros'!$F$4:$F$6,G24),0)=0,IFERROR(COUNTIF('Parâmetros'!$F$4:$F$6,H24),0)=0,IFERROR(COUNTIF('Parâmetros'!$H$4:$H$7,Q24),0)=0),"Rever valores",IF(IFERROR(COUNTIFS($B$8:$B$107,B24,$C$8:$C$107,C24),0)>1,"Duplicado",IF(OR(K24<0,S24="",T24="",U24="",V24="",S24<0,S24>1,T24<0,T24>1,U24<0,U24>1,V24<0,V24>1,AND(AA24<>"",OR(AA24<0,AA24>1)),AND(AB24<>"",OR(AB24<0,AB24>1)),AND(AC24<>"",OR(AC24<0,AC24>1))),"Rever valores",IF(AND(G24<>"Duodécimos",H24<>"Duodécimos"),"Fora do mapa","Pronto"))))))),"Rever período"))
A25: =IF(B25="","",ROW()-7) | S25: =IF(B25="","",IFERROR(IF(I25<>"",I25,'Parâmetros'!$B$8),"")) | T25: =IF(B25="","",IFERROR(IF(J25<>"",J25,'Parâmetros'!$B$9),"")) | U25: =IF(B25="","",IFERROR(IF(L25<>"",L25,'Parâmetros'!$B$6),"")) | V25: =IF(B25="","",IFERROR(IF(M25<>"",M25,'Parâmetros'!$B$7),"")) | W25: =IF(OR(B25="",K25="",G25<>"Duodécimos"),"",IFERROR(ROUND(K25*S25*U25,'Parâmetros'!$B$13),"")) | X25: =IF(OR(B25="",K25="",H25<>"Duodécimos"),"",IFERROR(ROUND(K25*T25*V25,'Parâmetros'!$B$13),"")) | Y25: =IF(B25="","",IFERROR(ROUND(SUM(W25:X25),'Parâmetros'!$B$13),"")) | Z25: =IF(OR(B25="",K25=""),"",IFERROR(ROUND(K25+Y25,'Parâmetros'!$B$13),"")) | AA25: =IF(B25="","",IFERROR(IF(N25<>"",N25,'Parâmetros'!$B$10),"")) | AB25: =IF(B25="","",IFERROR(IF(O25<>"",O25,'Parâmetros'!$B$11),"")) | AC25: =IF(B25="","",IFERROR(IF(P25<>"",P25,'Parâmetros'!$B$12),"")) | AD25: =IF(OR(B25="",Z25="",AA25=""),"",IFERROR(ROUND(Z25*AA25,'Parâmetros'!$B$13),"")) | AE25: =IF(OR(B25="",Z25="",AB25=""),"",IFERROR(ROUND(Z25*AB25,'Parâmetros'!$B$13),"")) | AF25: =IF(OR(B25="",Z25="",AD25="",AE25=""),"",IFERROR(ROUND(Z25-AD25-AE25,'Parâmetros'!$B$13),"")) | AG25: =IF(OR(B25="",Z25="",AC25=""),"",IFERROR(ROUND(Z25*AC25,'Parâmetros'!$B$13),"")) | AH25: =IF(OR(B25="",Z25="",AG25=""),"",IFERROR(ROUND(Z25+AG25,'Parâmetros'!$B$13),"")) | AI25: =IF(B25="","",IFERROR(IF(Q25="Excluído","Excluído",IF(YEAR(B25)<>'Parâmetros'!$B$4,"Fora do ano",IF(OR(C25="",D25="",E25="",G25="",H25="",K25="",Q25=""),"Dados em falta",IF(OR(IFERROR(COUNTIF('Parâmetros'!$F$4:$F$6,G25),0)=0,IFERROR(COUNTIF('Parâmetros'!$F$4:$F$6,H25),0)=0,IFERROR(COUNTIF('Parâmetros'!$H$4:$H$7,Q25),0)=0),"Rever valores",IF(IFERROR(COUNTIFS($B$8:$B$107,B25,$C$8:$C$107,C25),0)>1,"Duplicado",IF(OR(K25<0,S25="",T25="",U25="",V25="",S25<0,S25>1,T25<0,T25>1,U25<0,U25>1,V25<0,V25>1,AND(AA25<>"",OR(AA25<0,AA25>1)),AND(AB25<>"",OR(AB25<0,AB25>1)),AND(AC25<>"",OR(AC25<0,AC25>1))),"Rever valores",IF(AND(G25<>"Duodécimos",H25<>"Duodécimos"),"Fora do mapa","Pronto"))))))),"Rever período"))
