Workbook

Sheet Painel
A1: Validação operacional SAF-T de faturação — Portugal
A2: Controlo de documentos extraídos sem alteração do ficheiro de origem
A4: Referência da extração | B4: =IFERROR(IF('Parâmetros'!$B$4="","Por preencher",'Parâmetros'!$B$4),"Por preencher") | D4: Versão do esquema registada | E4: =IFERROR(IF('Parâmetros'!$B$5="","Por confirmar",'Parâmetros'!$B$5),"Por confirmar") | G4: Período declarado | H4: =IFERROR(TEXT('Parâmetros'!$B$6,"d/m/yyyy")&" a "&TEXT('Parâmetros'!$B$7,"d/m/yyyy"),"Por preencher")
A5: Estado da configuração | B5: =IFERROR(IF(AND('Parâmetros'!$B$4<>"",'Parâmetros'!$B$5<>"",ISNUMBER('Parâmetros'!$B$6),ISNUMBER('Parâmetros'!$B$7),'Parâmetros'!$B$6<='Parâmetros'!$B$7),"Parâmetros preenchidos","Completar parâmetros"),"Completar parâmetros")
A7: Documentos analisados | B7: =COUNTIF('Documentos'!$B$8:$B$107,"<>") | D7: Conformes | E7: =COUNTIF('Documentos'!$W$8:$W$107,"Conforme") | G7: Com erro | H7: =COUNTIF('Documentos'!$W$8:$W$107,"Erro") | J7: Com aviso | K7: =COUNTIF('Documentos'!$W$8:$W$107,"Aviso")
A10: Duplicados | B10: =COUNTIF('Documentos'!$S$8:$S$107,"Erro: duplicado") | D10: Anulados | E10: =COUNTIF('Documentos'!$U$8:$U$107,"Aviso: anulado") | G10: Rejeitados | H10: =COUNTIF('Documentos'!$V$8:$V$107,"Erro: rejeitado") | J10: Possíveis omissões | K10: =COUNTIF('Documentos'!$T$8:$T$107,"Aviso: possível omissão anterior")
A12: Totais não conciliados | B12: =COUNTIF('Documentos'!$R$8:$R$107,"Erro: total não concilia")
A14: Controlo final dos totais | J14: Resultado | K14: N.º de documentos
A15: Documentos lidos na grelha | B15: =COUNTIF('Documentos'!$B$8:$B$107,"<>") | D15: Documentos declarados na origem | E15: =IFERROR(IF('Parâmetros'!$B$8="","",'Parâmetros'!$B$8),"") | G15: Diferença | H15: =IFERROR(IF(OR(B15="",E15=""),"",B15-E15),"") | J15: Conforme | K15: =COUNTIF('Documentos'!$W$8:$W$107,"Conforme")
A16: Total de documentos lido | B16: =IFERROR(SUM('Documentos'!$L$8:$L$107),0) | D16: Total declarado na origem | E16: =IFERROR(IF('Parâmetros'!$B$9="","",'Parâmetros'!$B$9),"") | G16: Diferença | H16: =IFERROR(IF(OR(B16="",E16=""),"",B16-E16),"") | J16: Erro | K16: =COUNTIF('Documentos'!$W$8:$W$107,"Erro")
A17: Resultado do controlo final | B17: =IFERROR(IF(OR('Parâmetros'!$B$8="",'Parâmetros'!$B$9=""),"Por preencher",IF(AND(H15=0,ABS(H16)<='Parâmetros'!$B$13),"OK — totais conciliados","Verificar — diferença nos totais")),"Verificar — parâmetros em falta") | H17: ="" | J17: Aviso | K17: =COUNTIF('Documentos'!$W$8:$W$107,"Aviso")
H18: ="" | K18: =""
H19: ="" | K19: =""
H20: ="" | K20: =""
A21: Ocorrências para tratamento (erros e avisos) | H21: ="" | K21: =""
A22: Linha na grelha | B22: Documento | C22: Tipo | D22: Série | E22: Data | F22: Resultado | G22: Detalhe | H22: ="" | K22: =""
A23: =IFERROR(AGGREGATE(15,6,ROW('Documentos'!$B$8:$B$107)/(('Documentos'!$B$8:$B$107<>"")*('Documentos'!$W$8:$W$107<>"Conforme")),ROWS($A$23:A23)),"") | B23: =IF($A23="","",IFERROR(INDEX('Documentos'!$B$8:$B$107,$A23-ROW('Documentos'!$B$8)+1),"")) | C23: =IF($A23="","",IFERROR(INDEX('Documentos'!$C$8:$C$107,$A23-ROW('Documentos'!$C$8)+1),"")) | D23: =IF($A23="","",IFERROR(INDEX('Documentos'!$D$8:$D$107,$A23-ROW('Documentos'!$D$8)+1),"")) | E23: =IF($A23="","",IFERROR(INDEX('Documentos'!$F$8:$F$107,$A23-ROW('Documentos'!$F$8)+1),"")) | F23: =IF($A23="","",IFERROR(INDEX('Documentos'!$W$8:$W$107,$A23-ROW('Documentos'!$W$8)+1),"")) | G23: =IF($A23="","",IFERROR(INDEX('Documentos'!$X$8:$X$107,$A23-ROW('Documentos'!$X$8)+1),"")) | H23: ="" | K23: =""
A24: =IFERROR(AGGREGATE(15,6,ROW('Documentos'!$B$8:$B$107)/(('Documentos'!$B$8:$B$107<>"")*('Documentos'!$W$8:$W$107<>"Conforme")),ROWS($A$23:A24)),"") | B24: =IF($A24="","",IFERROR(INDEX('Documentos'!$B$8:$B$107,$A24-ROW('Documentos'!$B$8)+1),"")) | C24: =IF($A24="","",IFERROR(INDEX('Documentos'!$C$8:$C$107,$A24-ROW('Documentos'!$C$8)+1),"")) | D24: =IF($A24="","",IFERROR(INDEX('Documentos'!$D$8:$D$107,$A24-ROW('Documentos'!$D$8)+1),"")) | E24: =IF($A24="","",IFERROR(INDEX('Documentos'!$F$8:$F$107,$A24-ROW('Documentos'!$F$8)+1),"")) | F24: =IF($A24="","",IFERROR(INDEX('Documentos'!$W$8:$W$107,$A24-ROW('Documentos'!$W$8)+1),"")) | G24: =IF($A24="","",IFERROR(INDEX('Documentos'!$X$8:$X$107,$A24-ROW('Documentos'!$X$8)+1),"")) | H24: ="" | K24: =""
A25: =IFERROR(AGGREGATE(15,6,ROW('Documentos'!$B$8:$B$107)/(('Documentos'!$B$8:$B$107<>"")*('Documentos'!$W$8:$W$107<>"Conforme")),ROWS($A$23:A25)),"") | B25: =IF($A25="","",IFERROR(INDEX('Documentos'!$B$8:$B$107,$A25-ROW('Documentos'!$B$8)+1),"")) | C25: =IF($A25="","",IFERROR(INDEX('Documentos'!$C$8:$C$107,$A25-ROW('Documentos'!$C$8)+1),"")) | D25: =IF($A25="","",IFERROR(INDEX('Documentos'!$D$8:$D$107,$A25-ROW('Documentos'!$D$8)+1),"")) | E25: =IF($A25="","",IFERROR(INDEX('Documentos'!$F$8:$F$107,$A25-ROW('Documentos'!$F$8)+1),"")) | F25: =IF($A25="","",IFERROR(INDEX('Documentos'!$W$8:$W$107,$A25-ROW('Documentos'!$W$8)+1),"")) | G25: =IF($A25="","",IFERROR(INDEX('Documentos'!$X$8:$X$107,$A25-ROW('Documentos'!$X$8)+1),"")) | H25: ="" | K25: =""
A26: =IFERROR(AGGREGATE(15,6,ROW('Documentos'!$B$8:$B$107)/(('Documentos'!$B$8:$B$107<>"")*('Documentos'!$W$8:$W$107<>"Conforme")),ROWS($A$23:A26)),"") | B26: =IF($A26="","",IFERROR(INDEX('Documentos'!$B$8:$B$107,$A26-ROW('Documentos'!$B$8)+1),"")) | C26: =IF($A26="","",IFERROR(INDEX('Documentos'!$C$8:$C$107,$A26-ROW('Documentos'!$C$8)+1),"")) | D26: =IF($A26="","",IFERROR(INDEX('Documentos'!$D$8:$D$107,$A26-ROW('Documentos'!$D$8)+1),"")) | E26: =IF($A26="","",IFERROR(INDEX('Documentos'!$F$8:$F$107,$A26-ROW('Documentos'!$F$8)+1),"")) | F26: =IF($A26="","",IFERROR(INDEX('Documentos'!$W$8:$W$107,$A26-ROW('Documentos'!$W$8)+1),"")) | G26: =IF($A26="","",IFERROR(INDEX('Documentos'!$X$8:$X$107,$A26-ROW('Documentos'!$X$8)+1),"")) | H26: ="" | K26: =""
A27: =IFERROR(AGGREGATE(15,6,ROW('Documentos'!$B$8:$B$107)/(('Documentos'!$B$8:$B$107<>"")*('Documentos'!$W$8:$W$107<>"Conforme")),ROWS($A$23:A27)),"") | B27: =IF($A27="","",IFERROR(INDEX('Documentos'!$B$8:$B$107,$A27-ROW('Documentos'!$B$8)+1),"")) | C27: =IF($A27="","",IFERROR(INDEX('Documentos'!$C$8:$C$107,$A27-ROW('Documentos'!$C$8)+1),"")) | D27: =IF($A27="","",IFERROR(INDEX('Documentos'!$D$8:$D$107,$A27-ROW('Documentos'!$D$8)+1),"")) | E27: =IF($A27="","",IFERROR(INDEX('Documentos'!$F$8:$F$107,$A27-ROW('Documentos'!$F$8)+1),"")) | F27: =IF($A27="","",IFERROR(INDEX('Documentos'!$W$8:$W$107,$A27-ROW('Documentos'!$W$8)+1),"")) | G27: =IF($A27="","",IFERROR(INDEX('Documentos'!$X$8:$X$107,$A27-ROW('Documentos'!$X$8)+1),"")) | H27: ="" | K27: =""
A28: =IFERROR(AGGREGATE(15,6,ROW('Documentos'!$B$8:$B$107)/(('Documentos'!$B$8:$B$107<>"")*('Documentos'!$W$8:$W$107<>"Conforme")),ROWS($A$23:A28)),"") | B28: =IF($A28="","",IFERROR(INDEX('Documentos'!$B$8:$B$107,$A28-ROW('Documentos'!$B$8)+1),"")) | C28: =IF($A28="","",IFERROR(INDEX('Documentos'!$C$8:$C$107,$A28-ROW('Documentos'!$C$8)+1),"")) | D28: =IF($A28="","",IFERROR(INDEX('Documentos'!$D$8:$D$107,$A28-ROW('Documentos'!$D$8)+1),"")) | E28: =IF($A28="","",IFERROR(INDEX('Documentos'!$F$8:$F$107,$A28-ROW('Documentos'!$F$8)+1),"")) | F28: =IF($A28="","",IFERROR(INDEX('Documentos'!$W$8:$W$107,$A28-ROW('Documentos'!$W$8)+1),"")) | G28: =IF($A28="","",IFERROR(INDEX('Documentos'!$X$8:$X$107,$A28-ROW('Documentos'!$X$8)+1),"")) | H28: ="" | K28: =""
A29: =IFERROR(AGGREGATE(15,6,ROW('Documentos'!$B$8:$B$107)/(('Documentos'!$B$8:$B$107<>"")*('Documentos'!$W$8:$W$107<>"Conforme")),ROWS($A$23:A29)),"") | B29: =IF($A29="","",IFERROR(INDEX('Documentos'!$B$8:$B$107,$A29-ROW('Documentos'!$B$8)+1),"")) | C29: =IF($A29="","",IFERROR(INDEX('Documentos'!$C$8:$C$107,$A29-ROW('Documentos'!$C$8)+1),"")) | D29: =IF($A29="","",IFERROR(INDEX('Documentos'!$D$8:$D$107,$A29-ROW('Documentos'!$D$8)+1),"")) | E29: =IF($A29="","",IFERROR(INDEX('Documentos'!$F$8:$F$107,$A29-ROW('Documentos'!$F$8)+1),"")) | F29: =IF($A29="","",IFERROR(INDEX('Documentos'!$W$8:$W$107,$A29-ROW('Documentos'!$W$8)+1),"")) | G29: =IF($A29="","",IFERROR(INDEX('Documentos'!$X$8:$X$107,$A29-ROW('Documentos'!$X$8)+1),"")) | H29: ="" | K29: =""
A30: =IFERROR(AGGREGATE(15,6,ROW('Documentos'!$B$8:$B$107)/(('Documentos'!$B$8:$B$107<>"")*('Documentos'!$W$8:$W$107<>"Conforme")),ROWS($A$23:A30)),"") | B30: =IF($A30="","",IFERROR(INDEX('Documentos'!$B$8:$B$107,$A30-ROW('Documentos'!$B$8)+1),"")) | C30: =IF($A30="","",IFERROR(INDEX('Documentos'!$C$8:$C$107,$A30-ROW('Documentos'!$C$8)+1),"")) | D30: =IF($A30="","",IFERROR(INDEX('Documentos'!$D$8:$D$107,$A30-ROW('Documentos'!$D$8)+1),"")) | E30: =IF($A30="","",IFERROR(INDEX('Documentos'!$F$8:$F$107,$A30-ROW('Documentos'!$F$8)+1),"")) | F30: =IF($A30="","",IFERROR(INDEX('Documentos'!$W$8:$W$107,$A30-ROW('Documentos'!$W$8)+1),"")) | G30: =IF($A30="","",IFERROR(INDEX('Documentos'!$X$8:$X$107,$A30-ROW('Documentos'!$X$8)+1),"")) | H30: ="" | K30: =""
A31: =IFERROR(AGGREGATE(15,6,ROW('Documentos'!$B$8:$B$107)/(('Documentos'!$B$8:$B$107<>"")*('Documentos'!$W$8:$W$107<>"Conforme")),ROWS($A$23:A31)),"") | B31: =IF($A31="","",IFERROR(INDEX('Documentos'!$B$8:$B$107,$A31-ROW('Documentos'!$B$8)+1),"")) | C31: =IF($A31="","",IFERROR(INDEX('Documentos'!$C$8:$C$107,$A31-ROW('Documentos'!$C$8)+1),"")) | D31: =IF($A31="","",IFERROR(INDEX('Documentos'!$D$8:$D$107,$A31-ROW('Documentos'!$D$8)+1),"")) | E31: =IF($A31="","",IFERROR(INDEX('Documentos'!$F$8:$F$107,$A31-ROW('Documentos'!$F$8)+1),"")) | F31: =IF($A31="","",IFERROR(INDEX('Documentos'!$W$8:$W$107,$A31-ROW('Documentos'!$W$8)+1),"")) | G31: =IF($A31="","",IFERROR(INDEX('Documentos'!$X$8:$X$107,$A31-ROW('Documentos'!$X$8)+1),"")) | H31: ="" | K31: =""
A32: =IFERROR(AGGREGATE(15,6,ROW('Documentos'!$B$8:$B$107)/(('Documentos'!$B$8:$B$107<>"")*('Documentos'!$W$8:$W$107<>"Conforme")),ROWS($A$23:A32)),"") | B32: =IF($A32="","",IFERROR(INDEX('Documentos'!$B$8:$B$107,$A32-ROW('Documentos'!$B$8)+1),"")) | C32: =IF($A32="","",IFERROR(INDEX('Documentos'!$C$8:$C$107,$A32-ROW('Documentos'!$C$8)+1),"")) | D32: =IF($A32="","",IFERROR(INDEX('Documentos'!$D$8:$D$107,$A32-ROW('Documentos'!$D$8)+1),"")) | E32: =IF($A32="","",IFERROR(INDEX('Documentos'!$F$8:$F$107,$A32-ROW('Documentos'!$F$8)+1),"")) | F32: =IF($A32="","",IFERROR(INDEX('Documentos'!$W$8:$W$107,$A32-ROW('Documentos'!$W$8)+1),"")) | G32: =IF($A32="","",IFERROR(INDEX('Documentos'!$X$8:$X$107,$A32-ROW('Documentos'!$X$8)+1),"")) | H32: ="" | K32: =""
A33: =IFERROR(AGGREGATE(15,6,ROW('Documentos'!$B$8:$B$107)/(('Documentos'!$B$8:$B$107<>"")*('Documentos'!$W$8:$W$107<>"Conforme")),ROWS($A$23:A33)),"") | B33: =IF($A33="","",IFERROR(INDEX('Documentos'!$B$8:$B$107,$A33-ROW('Documentos'!$B$8)+1),"")) | C33: =IF($A33="","",IFERROR(INDEX('Documentos'!$C$8:$C$107,$A33-ROW('Documentos'!$C$8)+1),"")) | D33: =IF($A33="","",IFERROR(INDEX('Documentos'!$D$8:$D$107,$A33-ROW('Documentos'!$D$8)+1),"")) | E33: =IF($A33="","",IFERROR(INDEX('Documentos'!$F$8:$F$107,$A33-ROW('Documentos'!$F$8)+1),"")) | F33: =IF($A33="","",IFERROR(INDEX('Documentos'!$W$8:$W$107,$A33-ROW('Documentos'!$W$8)+1),"")) | G33: =IF($A33="","",IFERROR(INDEX('Documentos'!$X$8:$X$107,$A33-ROW('Documentos'!$X$8)+1),"")) | H33: ="" | K33: =""
A34: =IFERROR(AGGREGATE(15,6,ROW('Documentos'!$B$8:$B$107)/(('Documentos'!$B$8:$B$107<>"")*('Documentos'!$W$8:$W$107<>"Conforme")),ROWS($A$23:A34)),"") | B34: =IF($A34="","",IFERROR(INDEX('Documentos'!$B$8:$B$107,$A34-ROW('Documentos'!$B$8)+1),"")) | C34: =IF($A34="","",IFERROR(INDEX('Documentos'!$C$8:$C$107,$A34-ROW('Documentos'!$C$8)+1),"")) | D34: =IF($A34="","",IFERROR(INDEX('Documentos'!$D$8:$D$107,$A34-ROW('Documentos'!$D$8)+1),"")) | E34: =IF($A34="","",IFERROR(INDEX('Documentos'!$F$8:$F$107,$A34-ROW('Documentos'!$F$8)+1),"")) | F34: =IF($A34="","",IFERROR(INDEX('Documentos'!$W$8:$W$107,$A34-ROW('Documentos'!$W$8)+1),"")) | G34: =IF($A34="","",IFERROR(INDEX('Documentos'!$X$8:$X$107,$A34-ROW('Documentos'!$X$8)+1),"")) | H34: ="" | K34: =""
... A101: =IFERROR(AGGREGATE(15,6,ROW('Documentos'!$B$8:$B$107)/(('Documentos'!$B$8:$B$107<>"")*('Documentos'!$W$8:$W$107<>"Conforme")),ROWS($A$23:A101)),"") | B101: =IF($A101="","",IFERROR(INDEX('Documentos'!$B$8:$B$107,$A101-ROW('Documentos'!$B$8)+1),"")) | C101: =IF($A101="","",IFERROR(INDEX('Documentos'!$C$8:$C$107,$A101-ROW('Documentos'!$C$8)+1),"")) | D101: =IF($A101="","",IFERROR(INDEX('Documentos'!$D$8:$D$107,$A101-ROW('Documentos'!$D$8)+1),"")) | E101: =IF($A101="","",IFERROR(INDEX('Documentos'!$F$8:$F$107,$A101-ROW('Documentos'!$F$8)+1),"")) | F101: =IF($A101="","",IFERROR(INDEX('Documentos'!$W$8:$W$107,$A101-ROW('Documentos'!$W$8)+1),"")) | G101: =IF($A101="","",IFERROR(INDEX('Documentos'!$X$8:$X$107,$A101-ROW('Documentos'!$X$8)+1),"")) | H101: ="" | K101: =""
A102: =IFERROR(AGGREGATE(15,6,ROW('Documentos'!$B$8:$B$107)/(('Documentos'!$B$8:$B$107<>"")*('Documentos'!$W$8:$W$107<>"Conforme")),ROWS($A$23:A102)),"") | B102: =IF($A102="","",IFERROR(INDEX('Documentos'!$B$8:$B$107,$A102-ROW('Documentos'!$B$8)+1),"")) | C102: =IF($A102="","",IFERROR(INDEX('Documentos'!$C$8:$C$107,$A102-ROW('Documentos'!$C$8)+1),"")) | D102: =IF($A102="","",IFERROR(INDEX('Documentos'!$D$8:$D$107,$A102-ROW('Documentos'!$D$8)+1),"")) | E102: =IF($A102="","",IFERROR(INDEX('Documentos'!$F$8:$F$107,$A102-ROW('Documentos'!$F$8)+1),"")) | F102: =IF($A102="","",IFERROR(INDEX('Documentos'!$W$8:$W$107,$A102-ROW('Documentos'!$W$8)+1),"")) | G102: =IF($A102="","",IFERROR(INDEX('Documentos'!$X$8:$X$107,$A102-ROW('Documentos'!$X$8)+1),""))
A103: =IFERROR(AGGREGATE(15,6,ROW('Documentos'!$B$8:$B$107)/(('Documentos'!$B$8:$B$107<>"")*('Documentos'!$W$8:$W$107<>"Conforme")),ROWS($A$23:A103)),"") | B103: =IF($A103="","",IFERROR(INDEX('Documentos'!$B$8:$B$107,$A103-ROW('Documentos'!$B$8)+1),"")) | C103: =IF($A103="","",IFERROR(INDEX('Documentos'!$C$8:$C$107,$A103-ROW('Documentos'!$C$8)+1),"")) | D103: =IF($A103="","",IFERROR(INDEX('Documentos'!$D$8:$D$107,$A103-ROW('Documentos'!$D$8)+1),"")) | E103: =IF($A103="","",IFERROR(INDEX('Documentos'!$F$8:$F$107,$A103-ROW('Documentos'!$F$8)+1),"")) | F103: =IF($A103="","",IFERROR(INDEX('Documentos'!$W$8:$W$107,$A103-ROW('Documentos'!$W$8)+1),"")) | G103: =IF($A103="","",IFERROR(INDEX('Documentos'!$X$8:$X$107,$A103-ROW('Documentos'!$X$8)+1),""))
A104: =IFERROR(AGGREGATE(15,6,ROW('Documentos'!$B$8:$B$107)/(('Documentos'!$B$8:$B$107<>"")*('Documentos'!$W$8:$W$107<>"Conforme")),ROWS($A$23:A104)),"") | B104: =IF($A104="","",IFERROR(INDEX('Documentos'!$B$8:$B$107,$A104-ROW('Documentos'!$B$8)+1),"")) | C104: =IF($A104="","",IFERROR(INDEX('Documentos'!$C$8:$C$107,$A104-ROW('Documentos'!$C$8)+1),"")) | D104: =IF($A104="","",IFERROR(INDEX('Documentos'!$D$8:$D$107,$A104-ROW('Documentos'!$D$8)+1),"")) | E104: =IF($A104="","",IFERROR(INDEX('Documentos'!$F$8:$F$107,$A104-ROW('Documentos'!$F$8)+1),"")) | F104: =IF($A104="","",IFERROR(INDEX('Documentos'!$W$8:$W$107,$A104-ROW('Documentos'!$W$8)+1),"")) | G104: =IF($A104="","",IFERROR(INDEX('Documentos'!$X$8:$X$107,$A104-ROW('Documentos'!$X$8)+1),""))
A105: =IFERROR(AGGREGATE(15,6,ROW('Documentos'!$B$8:$B$107)/(('Documentos'!$B$8:$B$107<>"")*('Documentos'!$W$8:$W$107<>"Conforme")),ROWS($A$23:A105)),"") | B105: =IF($A105="","",IFERROR(INDEX('Documentos'!$B$8:$B$107,$A105-ROW('Documentos'!$B$8)+1),"")) | C105: =IF($A105="","",IFERROR(INDEX('Documentos'!$C$8:$C$107,$A105-ROW('Documentos'!$C$8)+1),"")) | D105: =IF($A105="","",IFERROR(INDEX('Documentos'!$D$8:$D$107,$A105-ROW('Documentos'!$D$8)+1),"")) | E105: =IF($A105="","",IFERROR(INDEX('Documentos'!$F$8:$F$107,$A105-ROW('Documentos'!$F$8)+1),"")) | F105: =IF($A105="","",IFERROR(INDEX('Documentos'!$W$8:$W$107,$A105-ROW('Documentos'!$W$8)+1),"")) | G105: =IF($A105="","",IFERROR(INDEX('Documentos'!$X$8:$X$107,$A105-ROW('Documentos'!$X$8)+1),""))
A106: =IFERROR(AGGREGATE(15,6,ROW('Documentos'!$B$8:$B$107)/(('Documentos'!$B$8:$B$107<>"")*('Documentos'!$W$8:$W$107<>"Conforme")),ROWS($A$23:A106)),"") | B106: =IF($A106="","",IFERROR(INDEX('Documentos'!$B$8:$B$107,$A106-ROW('Documentos'!$B$8)+1),"")) | C106: =IF($A106="","",IFERROR(INDEX('Documentos'!$C$8:$C$107,$A106-ROW('Documentos'!$C$8)+1),"")) | D106: =IF($A106="","",IFERROR(INDEX('Documentos'!$D$8:$D$107,$A106-ROW('Documentos'!$D$8)+1),"")) | E106: =IF($A106="","",IFERROR(INDEX('Documentos'!$F$8:$F$107,$A106-ROW('Documentos'!$F$8)+1),"")) | F106: =IF($A106="","",IFERROR(INDEX('Documentos'!$W$8:$W$107,$A106-ROW('Documentos'!$W$8)+1),"")) | G106: =IF($A106="","",IFERROR(INDEX('Documentos'!$X$8:$X$107,$A106-ROW('Documentos'!$X$8)+1),""))
A107: =IFERROR(AGGREGATE(15,6,ROW('Documentos'!$B$8:$B$107)/(('Documentos'!$B$8:$B$107<>"")*('Documentos'!$W$8:$W$107<>"Conforme")),ROWS($A$23:A107)),"") | B107: =IF($A107="","",IFERROR(INDEX('Documentos'!$B$8:$B$107,$A107-ROW('Documentos'!$B$8)+1),"")) | C107: =IF($A107="","",IFERROR(INDEX('Documentos'!$C$8:$C$107,$A107-ROW('Documentos'!$C$8)+1),"")) | D107: =IF($A107="","",IFERROR(INDEX('Documentos'!$D$8:$D$107,$A107-ROW('Documentos'!$D$8)+1),"")) | E107: =IF($A107="","",IFERROR(INDEX('Documentos'!$F$8:$F$107,$A107-ROW('Documentos'!$F$8)+1),"")) | F107: =IF($A107="","",IFERROR(INDEX('Documentos'!$W$8:$W$107,$A107-ROW('Documentos'!$W$8)+1),"")) | G107: =IF($A107="","",IFERROR(INDEX('Documentos'!$X$8:$X$107,$A107-ROW('Documentos'!$X$8)+1),""))
A108: =IFERROR(AGGREGATE(15,6,ROW('Documentos'!$B$8:$B$107)/(('Documentos'!$B$8:$B$107<>"")*('Documentos'!$W$8:$W$107<>"Conforme")),ROWS($A$23:A108)),"") | B108: =IF($A108="","",IFERROR(INDEX('Documentos'!$B$8:$B$107,$A108-ROW('Documentos'!$B$8)+1),"")) | C108: =IF($A108="","",IFERROR(INDEX('Documentos'!$C$8:$C$107,$A108-ROW('Documentos'!$C$8)+1),"")) | D108: =IF($A108="","",IFERROR(INDEX('Documentos'!$D$8:$D$107,$A108-ROW('Documentos'!$D$8)+1),"")) | E108: =IF($A108="","",IFERROR(INDEX('Documentos'!$F$8:$F$107,$A108-ROW('Documentos'!$F$8)+1),"")) | F108: =IF($A108="","",IFERROR(INDEX('Documentos'!$W$8:$W$107,$A108-ROW('Documentos'!$W$8)+1),"")) | G108: =IF($A108="","",IFERROR(INDEX('Documentos'!$X$8:$X$107,$A108-ROW('Documentos'!$X$8)+1),""))
A109: =IFERROR(AGGREGATE(15,6,ROW('Documentos'!$B$8:$B$107)/(('Documentos'!$B$8:$B$107<>"")*('Documentos'!$W$8:$W$107<>"Conforme")),ROWS($A$23:A109)),"") | B109: =IF($A109="","",IFERROR(INDEX('Documentos'!$B$8:$B$107,$A109-ROW('Documentos'!$B$8)+1),"")) | C109: =IF($A109="","",IFERROR(INDEX('Documentos'!$C$8:$C$107,$A109-ROW('Documentos'!$C$8)+1),"")) | D109: =IF($A109="","",IFERROR(INDEX('Documentos'!$D$8:$D$107,$A109-ROW('Documentos'!$D$8)+1),"")) | E109: =IF($A109="","",IFERROR(INDEX('Documentos'!$F$8:$F$107,$A109-ROW('Documentos'!$F$8)+1),"")) | F109: =IF($A109="","",IFERROR(INDEX('Documentos'!$W$8:$W$107,$A109-ROW('Documentos'!$W$8)+1),"")) | G109: =IF($A109="","",IFERROR(INDEX('Documentos'!$X$8:$X$107,$A109-ROW('Documentos'!$X$8)+1),""))
A110: =IFERROR(AGGREGATE(15,6,ROW('Documentos'!$B$8:$B$107)/(('Documentos'!$B$8:$B$107<>"")*('Documentos'!$W$8:$W$107<>"Conforme")),ROWS($A$23:A110)),"") | B110: =IF($A110="","",IFERROR(INDEX('Documentos'!$B$8:$B$107,$A110-ROW('Documentos'!$B$8)+1),"")) | C110: =IF($A110="","",IFERROR(INDEX('Documentos'!$C$8:$C$107,$A110-ROW('Documentos'!$C$8)+1),"")) | D110: =IF($A110="","",IFERROR(INDEX('Documentos'!$D$8:$D$107,$A110-ROW('Documentos'!$D$8)+1),"")) | E110: =IF($A110="","",IFERROR(INDEX('Documentos'!$F$8:$F$107,$A110-ROW('Documentos'!$F$8)+1),"")) | F110: =IF($A110="","",IFERROR(INDEX('Documentos'!$W$8:$W$107,$A110-ROW('Documentos'!$W$8)+1),"")) | G110: =IF($A110="","",IFERROR(INDEX('Documentos'!$X$8:$X$107,$A110-ROW('Documentos'!$X$8)+1),""))
A111: =IFERROR(AGGREGATE(15,6,ROW('Documentos'!$B$8:$B$107)/(('Documentos'!$B$8:$B$107<>"")*('Documentos'!$W$8:$W$107<>"Conforme")),ROWS($A$23:A111)),"") | B111: =IF($A111="","",IFERROR(INDEX('Documentos'!$B$8:$B$107,$A111-ROW('Documentos'!$B$8)+1),"")) | C111: =IF($A111="","",IFERROR(INDEX('Documentos'!$C$8:$C$107,$A111-ROW('Documentos'!$C$8)+1),"")) | D111: =IF($A111="","",IFERROR(INDEX('Documentos'!$D$8:$D$107,$A111-ROW('Documentos'!$D$8)+1),"")) | E111: =IF($A111="","",IFERROR(INDEX('Documentos'!$F$8:$F$107,$A111-ROW('Documentos'!$F$8)+1),"")) | F111: =IF($A111="","",IFERROR(INDEX('Documentos'!$W$8:$W$107,$A111-ROW('Documentos'!$W$8)+1),"")) | G111: =IF($A111="","",IFERROR(INDEX('Documentos'!$X$8:$X$107,$A111-ROW('Documentos'!$X$8)+1),""))
A112: =IFERROR(AGGREGATE(15,6,ROW('Documentos'!$B$8:$B$107)/(('Documentos'!$B$8:$B$107<>"")*('Documentos'!$W$8:$W$107<>"Conforme")),ROWS($A$23:A112)),"") | B112: =IF($A112="","",IFERROR(INDEX('Documentos'!$B$8:$B$107,$A112-ROW('Documentos'!$B$8)+1),"")) | C112: =IF($A112="","",IFERROR(INDEX('Documentos'!$C$8:$C$107,$A112-ROW('Documentos'!$C$8)+1),"")) | D112: =IF($A112="","",IFERROR(INDEX('Documentos'!$D$8:$D$107,$A112-ROW('Documentos'!$D$8)+1),"")) | E112: =IF($A112="","",IFERROR(INDEX('Documentos'!$F$8:$F$107,$A112-ROW('Documentos'!$F$8)+1),"")) | F112: =IF($A112="","",IFERROR(INDEX('Documentos'!$W$8:$W$107,$A112-ROW('Documentos'!$W$8)+1),"")) | G112: =IF($A112="","",IFERROR(INDEX('Documentos'!$X$8:$X$107,$A112-ROW('Documentos'!$X$8)+1),""))
...

Sheet Documentos
A1: Grelha de validação de documentos de faturação
A2: Introduzir ou colar dados extraídos do ficheiro de origem. As colunas de controlo são calculadas automaticamente.
A7: Referência da extração | B7: Número / identificador do documento | C7: Tipo de documento | D7: Série | E7: Sequência | F7: Data do documento | G7: Identificador do cliente | H7: Estado do documento | I7: Resultado da consulta/comunicação | J7: Total líquido | K7: Total de imposto | L7: Total do documento | M7: Observação / evidência | N7: Chave de controlo | O7: Verificação do identificador | P7: Verificação da data | Q7: Verificação do tipo | R7: Verificação dos totais | S7: Duplicado | T7: Sequência / omissão | U7: Alerta de estado do documento | V7: Alerta de consulta/comunicação | W7: Resultado | X7: Detalhe das ocorrências
A8: SAF-T demonstrativo — agosto de 2026 | B8: FT A/1 | C8: FT | D8: A | E8: 1 | F8: 46236 | G8: CLI-0001 | H8: Normal | I8: Comunicado | J8: 100 | K8: 23 | L8: 123 | M8: Exemplo conforme | N8: =IF(B8="","",C8&"|"&D8&"|"&B8) | O8: =IF(B8="","",IFERROR(IF(AND(B8<>"",C8<>"",D8<>"",E8<>"",ISNUMBER(E8),E8=INT(E8),E8>0),"OK","Erro: identificador incompleto"),"Erro: identificador inválido")) | P8: =IF(B8="","",IF(F8="","Erro: data em falta",IFERROR(IF(AND(ISNUMBER(F8),F8>='Parâmetros'!$B$6,F8<='Parâmetros'!$B$7),"OK","Aviso: fora do período declarado"),"Erro: data inválida"))) | Q8: =IF(B8="","",IF(C8="","Erro: tipo em falta",IFERROR(IF(COUNTIF('Parâmetros'!$F$5:$F$24,C8)>0,"OK","Erro: tipo não configurado"),"Erro: lista de tipos indisponível"))) | R8: =IF(B8="","",IF(COUNTA(J8:L8)=0,"",IF(COUNTA(J8:L8)<3,"Erro: total incompleto",IFERROR(IF('Parâmetros'!$B$12<>"Sim","Não aplicável",IF(ABS(L8-J8-K8)<='Parâmetros'!$B$13,"OK","Erro: total não concilia")),"Erro: total inválido")))) | S8: =IF(B8="","",IFERROR(IF(COUNTIF($N$8:$N$107,N8)>1,"Erro: duplicado","OK"),"Erro: chave indisponível")) | T8: =IF(B8="","",IF(OR(C8="",D8="",E8=""),"",IF('Parâmetros'!$B$14<>"Sim","Não aplicável",IFERROR(IF(E8='Parâmetros'!$B$15,"OK",IF(COUNTIFS($C$8:$C$107,C8,$D$8:$D$107,D8,$E$8:$E$107,E8-1)>0,"OK","Aviso: possível omissão anterior")),"Erro: sequência inválida")))) | U8: =IF(B8="","",IF(H8="","Erro: estado do documento em falta",IFERROR(IF(AND('Parâmetros'!$B$16<>"",H8='Parâmetros'!$B$16),"Aviso: anulado","OK"),"Erro: estado indisponível"))) | V8: =IF(B8="","",IF(I8="","Aviso: resultado por preencher",IFERROR(IF(AND('Parâmetros'!$B$17<>"",I8='Parâmetros'!$B$17),"Erro: rejeitado",IF(AND('Parâmetros'!$B$18<>"",I8='Parâmetros'!$B$18),"Aviso: não confirmado","OK")),"Erro: resultado indisponível"))) | W8: =IF(B8="","",IFERROR(IF(COUNTIF(O8:V8,"Erro*")>0,"Erro",IF(COUNTIF(O8:V8,"Aviso*")>0,"Aviso","Conforme")),"Erro")) | X8: =IF(B8="","",IFERROR(TEXTJOIN(" | ",TRUE,IF(OR(LEFT(O8,5)="Erro:",LEFT(O8,6)="Aviso:"),O8,""),IF(OR(LEFT(P8,5)="Erro:",LEFT(P8,6)="Aviso:"),P8,""),IF(OR(LEFT(Q8,5)="Erro:",LEFT(Q8,6)="Aviso:"),Q8,""),IF(OR(LEFT(R8,5)="Erro:",LEFT(R8,6)="Aviso:"),R8,""),IF(OR(LEFT(S8,5)="Erro:",LEFT(S8,6)="Aviso:"),S8,""),IF(OR(LEFT(T8,5)="Erro:",LEFT(T8,6)="Aviso:"),T8,""),IF(OR(LEFT(U8,5)="Erro:",LEFT(U8,6)="Aviso:"),U8,""),IF(OR(LEFT(V8,5)="Erro:",LEFT(V8,6)="Aviso:"),V8,"")),"Erro: detalhe indisponível"))
A9: SAF-T demonstrativo — agosto de 2026 | B9: FT A/2 | C9: FT | D9: A | E9: 2 | F9: 46237 | G9: CLI-0002 | H9: Normal | I9: Comunicado | J9: 200 | K9: 46 | L9: 246 | M9: Exemplo conforme | N9: =IF(B9="","",C9&"|"&D9&"|"&B9) | O9: =IF(B9="","",IFERROR(IF(AND(B9<>"",C9<>"",D9<>"",E9<>"",ISNUMBER(E9),E9=INT(E9),E9>0),"OK","Erro: identificador incompleto"),"Erro: identificador inválido")) | P9: =IF(B9="","",IF(F9="","Erro: data em falta",IFERROR(IF(AND(ISNUMBER(F9),F9>='Parâmetros'!$B$6,F9<='Parâmetros'!$B$7),"OK","Aviso: fora do período declarado"),"Erro: data inválida"))) | Q9: =IF(B9="","",IF(C9="","Erro: tipo em falta",IFERROR(IF(COUNTIF('Parâmetros'!$F$5:$F$24,C9)>0,"OK","Erro: tipo não configurado"),"Erro: lista de tipos indisponível"))) | R9: =IF(B9="","",IF(COUNTA(J9:L9)=0,"",IF(COUNTA(J9:L9)<3,"Erro: total incompleto",IFERROR(IF('Parâmetros'!$B$12<>"Sim","Não aplicável",IF(ABS(L9-J9-K9)<='Parâmetros'!$B$13,"OK","Erro: total não concilia")),"Erro: total inválido")))) | S9: =IF(B9="","",IFERROR(IF(COUNTIF($N$8:$N$107,N9)>1,"Erro: duplicado","OK"),"Erro: chave indisponível")) | T9: =IF(B9="","",IF(OR(C9="",D9="",E9=""),"",IF('Parâmetros'!$B$14<>"Sim","Não aplicável",IFERROR(IF(E9='Parâmetros'!$B$15,"OK",IF(COUNTIFS($C$8:$C$107,C9,$D$8:$D$107,D9,$E$8:$E$107,E9-1)>0,"OK","Aviso: possível omissão anterior")),"Erro: sequência inválida")))) | U9: =IF(B9="","",IF(H9="","Erro: estado do documento em falta",IFERROR(IF(AND('Parâmetros'!$B$16<>"",H9='Parâmetros'!$B$16),"Aviso: anulado","OK"),"Erro: estado indisponível"))) | V9: =IF(B9="","",IF(I9="","Aviso: resultado por preencher",IFERROR(IF(AND('Parâmetros'!$B$17<>"",I9='Parâmetros'!$B$17),"Erro: rejeitado",IF(AND('Parâmetros'!$B$18<>"",I9='Parâmetros'!$B$18),"Aviso: não confirmado","OK")),"Erro: resultado indisponível"))) | W9: =IF(B9="","",IFERROR(IF(COUNTIF(O9:V9,"Erro*")>0,"Erro",IF(COUNTIF(O9:V9,"Aviso*")>0,"Aviso","Conforme")),"Erro")) | X9: =IF(B9="","",IFERROR(TEXTJOIN(" | ",TRUE,IF(OR(LEFT(O9,5)="Erro:",LEFT(O9,6)="Aviso:"),O9,""),IF(OR(LEFT(P9,5)="Erro:",LEFT(P9,6)="Aviso:"),P9,""),IF(OR(LEFT(Q9,5)="Erro:",LEFT(Q9,6)="Aviso:"),Q9,""),IF(OR(LEFT(R9,5)="Erro:",LEFT(R9,6)="Aviso:"),R9,""),IF(OR(LEFT(S9,5)="Erro:",LEFT(S9,6)="Aviso:"),S9,""),IF(OR(LEFT(T9,5)="Erro:",LEFT(T9,6)="Aviso:"),T9,""),IF(OR(LEFT(U9,5)="Erro:",LEFT(U9,6)="Aviso:"),U9,""),IF(OR(LEFT(V9,5)="Erro:",LEFT(V9,6)="Aviso:"),V9,"")),"Erro: detalhe indisponível"))
A10: SAF-T demonstrativo — agosto de 2026 | B10: FT A/3 | C10: FT | D10: A | E10: 3 | F10: 46239 | G10: CLI-0003 | H10: Normal | I10: Comunicado | J10: 75 | K10: 17.25 | L10: 92.25 | M10: Exemplo conforme | N10: =IF(B10="","",C10&"|"&D10&"|"&B10) | O10: =IF(B10="","",IFERROR(IF(AND(B10<>"",C10<>"",D10<>"",E10<>"",ISNUMBER(E10),E10=INT(E10),E10>0),"OK","Erro: identificador incompleto"),"Erro: identificador inválido")) | P10: =IF(B10="","",IF(F10="","Erro: data em falta",IFERROR(IF(AND(ISNUMBER(F10),F10>='Parâmetros'!$B$6,F10<='Parâmetros'!$B$7),"OK","Aviso: fora do período declarado"),"Erro: data inválida"))) | Q10: =IF(B10="","",IF(C10="","Erro: tipo em falta",IFERROR(IF(COUNTIF('Parâmetros'!$F$5:$F$24,C10)>0,"OK","Erro: tipo não configurado"),"Erro: lista de tipos indisponível"))) | R10: =IF(B10="","",IF(COUNTA(J10:L10)=0,"",IF(COUNTA(J10:L10)<3,"Erro: total incompleto",IFERROR(IF('Parâmetros'!$B$12<>"Sim","Não aplicável",IF(ABS(L10-J10-K10)<='Parâmetros'!$B$13,"OK","Erro: total não concilia")),"Erro: total inválido")))) | S10: =IF(B10="","",IFERROR(IF(COUNTIF($N$8:$N$107,N10)>1,"Erro: duplicado","OK"),"Erro: chave indisponível")) | T10: =IF(B10="","",IF(OR(C10="",D10="",E10=""),"",IF('Parâmetros'!$B$14<>"Sim","Não aplicável",IFERROR(IF(E10='Parâmetros'!$B$15,"OK",IF(COUNTIFS($C$8:$C$107,C10,$D$8:$D$107,D10,$E$8:$E$107,E10-1)>0,"OK","Aviso: possível omissão anterior")),"Erro: sequência inválida")))) | U10: =IF(B10="","",IF(H10="","Erro: estado do documento em falta",IFERROR(IF(AND('Parâmetros'!$B$16<>"",H10='Parâmetros'!$B$16),"Aviso: anulado","OK"),"Erro: estado indisponível"))) | V10: =IF(B10="","",IF(I10="","Aviso: resultado por preencher",IFERROR(IF(AND('Parâmetros'!$B$17<>"",I10='Parâmetros'!$B$17),"Erro: rejeitado",IF(AND('Parâmetros'!$B$18<>"",I10='Parâmetros'!$B$18),"Aviso: não confirmado","OK")),"Erro: resultado indisponível"))) | W10: =IF(B10="","",IFERROR(IF(COUNTIF(O10:V10,"Erro*")>0,"Erro",IF(COUNTIF(O10:V10,"Aviso*")>0,"Aviso","Conforme")),"Erro")) | X10: =IF(B10="","",IFERROR(TEXTJOIN(" | ",TRUE,IF(OR(LEFT(O10,5)="Erro:",LEFT(O10,6)="Aviso:"),O10,""),IF(OR(LEFT(P10,5)="Erro:",LEFT(P10,6)="Aviso:"),P10,""),IF(OR(LEFT(Q10,5)="Erro:",LEFT(Q10,6)="Aviso:"),Q10,""),IF(OR(LEFT(R10,5)="Erro:",LEFT(R10,6)="Aviso:"),R10,""),IF(OR(LEFT(S10,5)="Erro:",LEFT(S10,6)="Aviso:"),S10,""),IF(OR(LEFT(T10,5)="Erro:",LEFT(T10,6)="Aviso:"),T10,""),IF(OR(LEFT(U10,5)="Erro:",LEFT(U10,6)="Aviso:"),U10,""),IF(OR(LEFT(V10,5)="Erro:",LEFT(V10,6)="Aviso:"),V10,"")),"Erro: detalhe indisponível"))
A11: SAF-T demonstrativo — agosto de 2026 | B11: FT A/5 | C11: FT | D11: A | E11: 5 | F11: 46242 | G11: CLI-0004 | H11: Normal | I11: Comunicado | J11: 50 | K11: 11.5 | L11: 61.5 | M11: Exemplo com sequência anterior em falta | N11: =IF(B11="","",C11&"|"&D11&"|"&B11) | O11: =IF(B11="","",IFERROR(IF(AND(B11<>"",C11<>"",D11<>"",E11<>"",ISNUMBER(E11),E11=INT(E11),E11>0),"OK","Erro: identificador incompleto"),"Erro: identificador inválido")) | P11: =IF(B11="","",IF(F11="","Erro: data em falta",IFERROR(IF(AND(ISNUMBER(F11),F11>='Parâmetros'!$B$6,F11<='Parâmetros'!$B$7),"OK","Aviso: fora do período declarado"),"Erro: data inválida"))) | Q11: =IF(B11="","",IF(C11="","Erro: tipo em falta",IFERROR(IF(COUNTIF('Parâmetros'!$F$5:$F$24,C11)>0,"OK","Erro: tipo não configurado"),"Erro: lista de tipos indisponível"))) | R11: =IF(B11="","",IF(COUNTA(J11:L11)=0,"",IF(COUNTA(J11:L11)<3,"Erro: total incompleto",IFERROR(IF('Parâmetros'!$B$12<>"Sim","Não aplicável",IF(ABS(L11-J11-K11)<='Parâmetros'!$B$13,"OK","Erro: total não concilia")),"Erro: total inválido")))) | S11: =IF(B11="","",IFERROR(IF(COUNTIF($N$8:$N$107,N11)>1,"Erro: duplicado","OK"),"Erro: chave indisponível")) | T11: =IF(B11="","",IF(OR(C11="",D11="",E11=""),"",IF('Parâmetros'!$B$14<>"Sim","Não aplicável",IFERROR(IF(E11='Parâmetros'!$B$15,"OK",IF(COUNTIFS($C$8:$C$107,C11,$D$8:$D$107,D11,$E$8:$E$107,E11-1)>0,"OK","Aviso: possível omissão anterior")),"Erro: sequência inválida")))) | U11: =IF(B11="","",IF(H11="","Erro: estado do documento em falta",IFERROR(IF(AND('Parâmetros'!$B$16<>"",H11='Parâmetros'!$B$16),"Aviso: anulado","OK"),"Erro: estado indisponível"))) | V11: =IF(B11="","",IF(I11="","Aviso: resultado por preencher",IFERROR(IF(AND('Parâmetros'!$B$17<>"",I11='Parâmetros'!$B$17),"Erro: rejeitado",IF(AND('Parâmetros'!$B$18<>"",I11='Parâmetros'!$B$18),"Aviso: não confirmado","OK")),"Erro: resultado indisponível"))) | W11: =IF(B11="","",IFERROR(IF(COUNTIF(O11:V11,"Erro*")>0,"Erro",IF(COUNTIF(O11:V11,"Aviso*")>0,"Aviso","Conforme")),"Erro")) | X11: =IF(B11="","",IFERROR(TEXTJOIN(" | ",TRUE,IF(OR(LEFT(O11,5)="Erro:",LEFT(O11,6)="Aviso:"),O11,""),IF(OR(LEFT(P11,5)="Erro:",LEFT(P11,6)="Aviso:"),P11,""),IF(OR(LEFT(Q11,5)="Erro:",LEFT(Q11,6)="Aviso:"),Q11,""),IF(OR(LEFT(R11,5)="Erro:",LEFT(R11,6)="Aviso:"),R11,""),IF(OR(LEFT(S11,5)="Erro:",LEFT(S11,6)="Aviso:"),S11,""),IF(OR(LEFT(T11,5)="Erro:",LEFT(T11,6)="Aviso:"),T11,""),IF(OR(LEFT(U11,5)="Erro:",LEFT(U11,6)="Aviso:"),U11,""),IF(OR(LEFT(V11,5)="Erro:",LEFT(V11,6)="Aviso:"),V11,"")),"Erro: detalhe indisponível"))
A12: SAF-T demonstrativo — agosto de 2026 | B12: FT A/5 | C12: FT | D12: A | E12: 5 | F12: 46242 | G12: CLI-0004 | H12: Normal | I12: Comunicado | J12: 50 | K12: 11.5 | L12: 61.5 | M12: Exemplo de duplicado | N12: =IF(B12="","",C12&"|"&D12&"|"&B12) | O12: =IF(B12="","",IFERROR(IF(AND(B12<>"",C12<>"",D12<>"",E12<>"",ISNUMBER(E12),E12=INT(E12),E12>0),"OK","Erro: identificador incompleto"),"Erro: identificador inválido")) | P12: =IF(B12="","",IF(F12="","Erro: data em falta",IFERROR(IF(AND(ISNUMBER(F12),F12>='Parâmetros'!$B$6,F12<='Parâmetros'!$B$7),"OK","Aviso: fora do período declarado"),"Erro: data inválida"))) | Q12: =IF(B12="","",IF(C12="","Erro: tipo em falta",IFERROR(IF(COUNTIF('Parâmetros'!$F$5:$F$24,C12)>0,"OK","Erro: tipo não configurado"),"Erro: lista de tipos indisponível"))) | R12: =IF(B12="","",IF(COUNTA(J12:L12)=0,"",IF(COUNTA(J12:L12)<3,"Erro: total incompleto",IFERROR(IF('Parâmetros'!$B$12<>"Sim","Não aplicável",IF(ABS(L12-J12-K12)<='Parâmetros'!$B$13,"OK","Erro: total não concilia")),"Erro: total inválido")))) | S12: =IF(B12="","",IFERROR(IF(COUNTIF($N$8:$N$107,N12)>1,"Erro: duplicado","OK"),"Erro: chave indisponível")) | T12: =IF(B12="","",IF(OR(C12="",D12="",E12=""),"",IF('Parâmetros'!$B$14<>"Sim","Não aplicável",IFERROR(IF(E12='Parâmetros'!$B$15,"OK",IF(COUNTIFS($C$8:$C$107,C12,$D$8:$D$107,D12,$E$8:$E$107,E12-1)>0,"OK","Aviso: possível omissão anterior")),"Erro: sequência inválida")))) | U12: =IF(B12="","",IF(H12="","Erro: estado do documento em falta",IFERROR(IF(AND('Parâmetros'!$B$16<>"",H12='Parâmetros'!$B$16),"Aviso: anulado","OK"),"Erro: estado indisponível"))) | V12: =IF(B12="","",IF(I12="","Aviso: resultado por preencher",IFERROR(IF(AND('Parâmetros'!$B$17<>"",I12='Parâmetros'!$B$17),"Erro: rejeitado",IF(AND('Parâmetros'!$B$18<>"",I12='Parâmetros'!$B$18),"Aviso: não confirmado","OK")),"Erro: resultado indisponível"))) | W12: =IF(B12="","",IFERROR(IF(COUNTIF(O12:V12,"Erro*")>0,"Erro",IF(COUNTIF(O12:V12,"Aviso*")>0,"Aviso","Conforme")),"Erro")) | X12: =IF(B12="","",IFERROR(TEXTJOIN(" | ",TRUE,IF(OR(LEFT(O12,5)="Erro:",LEFT(O12,6)="Aviso:"),O12,""),IF(OR(LEFT(P12,5)="Erro:",LEFT(P12,6)="Aviso:"),P12,""),IF(OR(LEFT(Q12,5)="Erro:",LEFT(Q12,6)="Aviso:"),Q12,""),IF(OR(LEFT(R12,5)="Erro:",LEFT(R12,6)="Aviso:"),R12,""),IF(OR(LEFT(S12,5)="Erro:",LEFT(S12,6)="Aviso:"),S12,""),IF(OR(LEFT(T12,5)="Erro:",LEFT(T12,6)="Aviso:"),T12,""),IF(OR(LEFT(U12,5)="Erro:",LEFT(U12,6)="Aviso:"),U12,""),IF(OR(LEFT(V12,5)="Erro:",LEFT(V12,6)="Aviso:"),V12,"")),"Erro: detalhe indisponível"))
A13: SAF-T demonstrativo — agosto de 2026 | B13: FT A/6 | C13: FT | D13: A | E13: 6 | F13: 46244 | G13: CLI-0005 | H13: Normal | I13: Rejeitado | J13: 150 | K13: 34.5 | L13: 184.5 | M13: Exemplo de resultado rejeitado | N13: =IF(B13="","",C13&"|"&D13&"|"&B13) | O13: =IF(B13="","",IFERROR(IF(AND(B13<>"",C13<>"",D13<>"",E13<>"",ISNUMBER(E13),E13=INT(E13),E13>0),"OK","Erro: identificador incompleto"),"Erro: identificador inválido")) | P13: =IF(B13="","",IF(F13="","Erro: data em falta",IFERROR(IF(AND(ISNUMBER(F13),F13>='Parâmetros'!$B$6,F13<='Parâmetros'!$B$7),"OK","Aviso: fora do período declarado"),"Erro: data inválida"))) | Q13: =IF(B13="","",IF(C13="","Erro: tipo em falta",IFERROR(IF(COUNTIF('Parâmetros'!$F$5:$F$24,C13)>0,"OK","Erro: tipo não configurado"),"Erro: lista de tipos indisponível"))) | R13: =IF(B13="","",IF(COUNTA(J13:L13)=0,"",IF(COUNTA(J13:L13)<3,"Erro: total incompleto",IFERROR(IF('Parâmetros'!$B$12<>"Sim","Não aplicável",IF(ABS(L13-J13-K13)<='Parâmetros'!$B$13,"OK","Erro: total não concilia")),"Erro: total inválido")))) | S13: =IF(B13="","",IFERROR(IF(COUNTIF($N$8:$N$107,N13)>1,"Erro: duplicado","OK"),"Erro: chave indisponível")) | T13: =IF(B13="","",IF(OR(C13="",D13="",E13=""),"",IF('Parâmetros'!$B$14<>"Sim","Não aplicável",IFERROR(IF(E13='Parâmetros'!$B$15,"OK",IF(COUNTIFS($C$8:$C$107,C13,$D$8:$D$107,D13,$E$8:$E$107,E13-1)>0,"OK","Aviso: possível omissão anterior")),"Erro: sequência inválida")))) | U13: =IF(B13="","",IF(H13="","Erro: estado do documento em falta",IFERROR(IF(AND('Parâmetros'!$B$16<>"",H13='Parâmetros'!$B$16),"Aviso: anulado","OK"),"Erro: estado indisponível"))) | V13: =IF(B13="","",IF(I13="","Aviso: resultado por preencher",IFERROR(IF(AND('Parâmetros'!$B$17<>"",I13='Parâmetros'!$B$17),"Erro: rejeitado",IF(AND('Parâmetros'!$B$18<>"",I13='Parâmetros'!$B$18),"Aviso: não confirmado","OK")),"Erro: resultado indisponível"))) | W13: =IF(B13="","",IFERROR(IF(COUNTIF(O13:V13,"Erro*")>0,"Erro",IF(COUNTIF(O13:V13,"Aviso*")>0,"Aviso","Conforme")),"Erro")) | X13: =IF(B13="","",IFERROR(TEXTJOIN(" | ",TRUE,IF(OR(LEFT(O13,5)="Erro:",LEFT(O13,6)="Aviso:"),O13,""),IF(OR(LEFT(P13,5)="Erro:",LEFT(P13,6)="Aviso:"),P13,""),IF(OR(LEFT(Q13,5)="Erro:",LEFT(Q13,6)="Aviso:"),Q13,""),IF(OR(LEFT(R13,5)="Erro:",LEFT(R13,6)="Aviso:"),R13,""),IF(OR(LEFT(S13,5)="Erro:",LEFT(S13,6)="Aviso:"),S13,""),IF(OR(LEFT(T13,5)="Erro:",LEFT(T13,6)="Aviso:"),T13,""),IF(OR(LEFT(U13,5)="Erro:",LEFT(U13,6)="Aviso:"),U13,""),IF(OR(LEFT(V13,5)="Erro:",LEFT(V13,6)="Aviso:"),V13,"")),"Erro: detalhe indisponível"))
A14: SAF-T demonstrativo — agosto de 2026 | B14: NC B/1 | C14: NC | D14: B | E14: 1 | F14: 46246 | G14: CLI-0002 | H14: Normal | I14: Comunicado | J14: 50 | K14: 11.5 | L14: 61.5 | M14: Exemplo de nota de crédito | N14: =IF(B14="","",C14&"|"&D14&"|"&B14) | O14: =IF(B14="","",IFERROR(IF(AND(B14<>"",C14<>"",D14<>"",E14<>"",ISNUMBER(E14),E14=INT(E14),E14>0),"OK","Erro: identificador incompleto"),"Erro: identificador inválido")) | P14: =IF(B14="","",IF(F14="","Erro: data em falta",IFERROR(IF(AND(ISNUMBER(F14),F14>='Parâmetros'!$B$6,F14<='Parâmetros'!$B$7),"OK","Aviso: fora do período declarado"),"Erro: data inválida"))) | Q14: =IF(B14="","",IF(C14="","Erro: tipo em falta",IFERROR(IF(COUNTIF('Parâmetros'!$F$5:$F$24,C14)>0,"OK","Erro: tipo não configurado"),"Erro: lista de tipos indisponível"))) | R14: =IF(B14="","",IF(COUNTA(J14:L14)=0,"",IF(COUNTA(J14:L14)<3,"Erro: total incompleto",IFERROR(IF('Parâmetros'!$B$12<>"Sim","Não aplicável",IF(ABS(L14-J14-K14)<='Parâmetros'!$B$13,"OK","Erro: total não concilia")),"Erro: total inválido")))) | S14: =IF(B14="","",IFERROR(IF(COUNTIF($N$8:$N$107,N14)>1,"Erro: duplicado","OK"),"Erro: chave indisponível")) | T14: =IF(B14="","",IF(OR(C14="",D14="",E14=""),"",IF('Parâmetros'!$B$14<>"Sim","Não aplicável",IFERROR(IF(E14='Parâmetros'!$B$15,"OK",IF(COUNTIFS($C$8:$C$107,C14,$D$8:$D$107,D14,$E$8:$E$107,E14-1)>0,"OK","Aviso: possível omissão anterior")),"Erro: sequência inválida")))) | U14: =IF(B14="","",IF(H14="","Erro: estado do documento em falta",IFERROR(IF(AND('Parâmetros'!$B$16<>"",H14='Parâmetros'!$B$16),"Aviso: anulado","OK"),"Erro: estado indisponível"))) | V14: =IF(B14="","",IF(I14="","Aviso: resultado por preencher",IFERROR(IF(AND('Parâmetros'!$B$17<>"",I14='Parâmetros'!$B$17),"Erro: rejeitado",IF(AND('Parâmetros'!$B$18<>"",I14='Parâmetros'!$B$18),"Aviso: não confirmado","OK")),"Erro: resultado indisponível"))) | W14: =IF(B14="","",IFERROR(IF(COUNTIF(O14:V14,"Erro*")>0,"Erro",IF(COUNTIF(O14:V14,"Aviso*")>0,"Aviso","Conforme")),"Erro")) | X14: =IF(B14="","",IFERROR(TEXTJOIN(" | ",TRUE,IF(OR(LEFT(O14,5)="Erro:",LEFT(O14,6)="Aviso:"),O14,""),IF(OR(LEFT(P14,5)="Erro:",LEFT(P14,6)="Aviso:"),P14,""),IF(OR(LEFT(Q14,5)="Erro:",LEFT(Q14,6)="Aviso:"),Q14,""),IF(OR(LEFT(R14,5)="Erro:",LEFT(R14,6)="Aviso:"),R14,""),IF(OR(LEFT(S14,5)="Erro:",LEFT(S14,6)="Aviso:"),S14,""),IF(OR(LEFT(T14,5)="Erro:",LEFT(T14,6)="Aviso:"),T14,""),IF(OR(LEFT(U14,5)="Erro:",LEFT(U14,6)="Aviso:"),U14,""),IF(OR(LEFT(V14,5)="Erro:",LEFT(V14,6)="Aviso:"),V14,"")),"Erro: detalhe indisponível"))
A15: SAF-T demonstrativo — agosto de 2026 | B15: FT A/7 | C15: FT | D15: A | E15: 7 | F15: 46249 | G15: CLI-0006 | H15: Anulado | I15: Comunicado | J15: 80 | K15: 18.4 | L15: 98.4 | M15: Exemplo de documento anulado | N15: =IF(B15="","",C15&"|"&D15&"|"&B15) | O15: =IF(B15="","",IFERROR(IF(AND(B15<>"",C15<>"",D15<>"",E15<>"",ISNUMBER(E15),E15=INT(E15),E15>0),"OK","Erro: identificador incompleto"),"Erro: identificador inválido")) | P15: =IF(B15="","",IF(F15="","Erro: data em falta",IFERROR(IF(AND(ISNUMBER(F15),F15>='Parâmetros'!$B$6,F15<='Parâmetros'!$B$7),"OK","Aviso: fora do período declarado"),"Erro: data inválida"))) | Q15: =IF(B15="","",IF(C15="","Erro: tipo em falta",IFERROR(IF(COUNTIF('Parâmetros'!$F$5:$F$24,C15)>0,"OK","Erro: tipo não configurado"),"Erro: lista de tipos indisponível"))) | R15: =IF(B15="","",IF(COUNTA(J15:L15)=0,"",IF(COUNTA(J15:L15)<3,"Erro: total incompleto",IFERROR(IF('Parâmetros'!$B$12<>"Sim","Não aplicável",IF(ABS(L15-J15-K15)<='Parâmetros'!$B$13,"OK","Erro: total não concilia")),"Erro: total inválido")))) | S15: =IF(B15="","",IFERROR(IF(COUNTIF($N$8:$N$107,N15)>1,"Erro: duplicado","OK"),"Erro: chave indisponível")) | T15: =IF(B15="","",IF(OR(C15="",D15="",E15=""),"",IF('Parâmetros'!$B$14<>"Sim","Não aplicável",IFERROR(IF(E15='Parâmetros'!$B$15,"OK",IF(COUNTIFS($C$8:$C$107,C15,$D$8:$D$107,D15,$E$8:$E$107,E15-1)>0,"OK","Aviso: possível omissão anterior")),"Erro: sequência inválida")))) | U15: =IF(B15="","",IF(H15="","Erro: estado do documento em falta",IFERROR(IF(AND('Parâmetros'!$B$16<>"",H15='Parâmetros'!$B$16),"Aviso: anulado","OK"),"Erro: estado indisponível"))) | V15: =IF(B15="","",IF(I15="","Aviso: resultado por preencher",IFERROR(IF(AND('Parâmetros'!$B$17<>"",I15='Parâmetros'!$B$17),"Erro: rejeitado",IF(AND('Parâmetros'!$B$18<>"",I15='Parâmetros'!$B$18),"Aviso: não confirmado","OK")),"Erro: resultado indisponível"))) | W15: =IF(B15="","",IFERROR(IF(COUNTIF(O15:V15,"Erro*")>0,"Erro",IF(COUNTIF(O15:V15,"Aviso*")>0,"Aviso","Conforme")),"Erro")) | X15: =IF(B15="","",IFERROR(TEXTJOIN(" | ",TRUE,IF(OR(LEFT(O15,5)="Erro:",LEFT(O15,6)="Aviso:"),O15,""),IF(OR(LEFT(P15,5)="Erro:",LEFT(P15,6)="Aviso:"),P15,""),IF(OR(LEFT(Q15,5)="Erro:",LEFT(Q15,6)="Aviso:"),Q15,""),IF(OR(LEFT(R15,5)="Erro:",LEFT(R15,6)="Aviso:"),R15,""),IF(OR(LEFT(S15,5)="Erro:",LEFT(S15,6)="Aviso:"),S15,""),IF(OR(LEFT(T15,5)="Erro:",LEFT(T15,6)="Aviso:"),T15,""),IF(OR(LEFT(U15,5)="Erro:",LEFT(U15,6)="Aviso:"),U15,""),IF(OR(LEFT(V15,5)="Erro:",LEFT(V15,6)="Aviso:"),V15,"")),"Erro: detalhe indisponível"))
A16: SAF-T demonstrativo — agosto de 2026 | B16: FT A/8 | C16: FT | D16: A | E16: 8 | F16: 46254 | G16: CLI-0007 | H16: Normal | I16: Comunicado | J16: 100 | K16: 23 | L16: 124 | M16: Exemplo de diferença aritmética | N16: =IF(B16="","",C16&"|"&D16&"|"&B16) | O16: =IF(B16="","",IFERROR(IF(AND(B16<>"",C16<>"",D16<>"",E16<>"",ISNUMBER(E16),E16=INT(E16),E16>0),"OK","Erro: identificador incompleto"),"Erro: identificador inválido")) | P16: =IF(B16="","",IF(F16="","Erro: data em falta",IFERROR(IF(AND(ISNUMBER(F16),F16>='Parâmetros'!$B$6,F16<='Parâmetros'!$B$7),"OK","Aviso: fora do período declarado"),"Erro: data inválida"))) | Q16: =IF(B16="","",IF(C16="","Erro: tipo em falta",IFERROR(IF(COUNTIF('Parâmetros'!$F$5:$F$24,C16)>0,"OK","Erro: tipo não configurado"),"Erro: lista de tipos indisponível"))) | R16: =IF(B16="","",IF(COUNTA(J16:L16)=0,"",IF(COUNTA(J16:L16)<3,"Erro: total incompleto",IFERROR(IF('Parâmetros'!$B$12<>"Sim","Não aplicável",IF(ABS(L16-J16-K16)<='Parâmetros'!$B$13,"OK","Erro: total não concilia")),"Erro: total inválido")))) | S16: =IF(B16="","",IFERROR(IF(COUNTIF($N$8:$N$107,N16)>1,"Erro: duplicado","OK"),"Erro: chave indisponível")) | T16: =IF(B16="","",IF(OR(C16="",D16="",E16=""),"",IF('Parâmetros'!$B$14<>"Sim","Não aplicável",IFERROR(IF(E16='Parâmetros'!$B$15,"OK",IF(COUNTIFS($C$8:$C$107,C16,$D$8:$D$107,D16,$E$8:$E$107,E16-1)>0,"OK","Aviso: possível omissão anterior")),"Erro: sequência inválida")))) | U16: =IF(B16="","",IF(H16="","Erro: estado do documento em falta",IFERROR(IF(AND('Parâmetros'!$B$16<>"",H16='Parâmetros'!$B$16),"Aviso: anulado","OK"),"Erro: estado indisponível"))) | V16: =IF(B16="","",IF(I16="","Aviso: resultado por preencher",IFERROR(IF(AND('Parâmetros'!$B$17<>"",I16='Parâmetros'!$B$17),"Erro: rejeitado",IF(AND('Parâmetros'!$B$18<>"",I16='Parâmetros'!$B$18),"Aviso: não confirmado","OK")),"Erro: resultado indisponível"))) | W16: =IF(B16="","",IFERROR(IF(COUNTIF(O16:V16,"Erro*")>0,"Erro",IF(COUNTIF(O16:V16,"Aviso*")>0,"Aviso","Conforme")),"Erro")) | X16: =IF(B16="","",IFERROR(TEXTJOIN(" | ",TRUE,IF(OR(LEFT(O16,5)="Erro:",LEFT(O16,6)="Aviso:"),O16,""),IF(OR(LEFT(P16,5)="Erro:",LEFT(P16,6)="Aviso:"),P16,""),IF(OR(LEFT(Q16,5)="Erro:",LEFT(Q16,6)="Aviso:"),Q16,""),IF(OR(LEFT(R16,5)="Erro:",LEFT(R16,6)="Aviso:"),R16,""),IF(OR(LEFT(S16,5)="Erro:",LEFT(S16,6)="Aviso:"),S16,""),IF(OR(LEFT(T16,5)="Erro:",LEFT(T16,6)="Aviso:"),T16,""),IF(OR(LEFT(U16,5)="Erro:",LEFT(U16,6)="Aviso:"),U16,""),IF(OR(LEFT(V16,5)="Erro:",LEFT(V16,6)="Aviso:"),V16,"")),"Erro: detalhe indisponível"))
N17: =IF(B17="","",C17&"|"&D17&"|"&B17) | O17: =IF(B17="","",IFERROR(IF(AND(B17<>"",C17<>"",D17<>"",E17<>"",ISNUMBER(E17),E17=INT(E17),E17>0),"OK","Erro: identificador incompleto"),"Erro: identificador inválido")) | P17: =IF(B17="","",IF(F17="","Erro: data em falta",IFERROR(IF(AND(ISNUMBER(F17),F17>='Parâmetros'!$B$6,F17<='Parâmetros'!$B$7),"OK","Aviso: fora do período declarado"),"Erro: data inválida"))) | Q17: =IF(B17="","",IF(C17="","Erro: tipo em falta",IFERROR(IF(COUNTIF('Parâmetros'!$F$5:$F$24,C17)>0,"OK","Erro: tipo não configurado"),"Erro: lista de tipos indisponível"))) | R17: =IF(B17="","",IF(COUNTA(J17:L17)=0,"",IF(COUNTA(J17:L17)<3,"Erro: total incompleto",IFERROR(IF('Parâmetros'!$B$12<>"Sim","Não aplicável",IF(ABS(L17-J17-K17)<='Parâmetros'!$B$13,"OK","Erro: total não concilia")),"Erro: total inválido")))) | S17: =IF(B17="","",IFERROR(IF(COUNTIF($N$8:$N$107,N17)>1,"Erro: duplicado","OK"),"Erro: chave indisponível")) | T17: =IF(B17="","",IF(OR(C17="",D17="",E17=""),"",IF('Parâmetros'!$B$14<>"Sim","Não aplicável",IFERROR(IF(E17='Parâmetros'!$B$15,"OK",IF(COUNTIFS($C$8:$C$107,C17,$D$8:$D$107,D17,$E$8:$E$107,E17-1)>0,"OK","Aviso: possível omissão anterior")),"Erro: sequência inválida")))) | U17: =IF(B17="","",IF(H17="","Erro: estado do documento em falta",IFERROR(IF(AND('Parâmetros'!$B$16<>"",H17='Parâmetros'!$B$16),"Aviso: anulado","OK"),"Erro: estado indisponível"))) | V17: =IF(B17="","",IF(I17="","Aviso: resultado por preencher",IFERROR(IF(AND('Parâmetros'!$B$17<>"",I17='Parâmetros'!$B$17),"Erro: rejeitado",IF(AND('Parâmetros'!$B$18<>"",I17='Parâmetros'!$B$18),"Aviso: não confirmado","OK")),"Erro: resultado indisponível"))) | W17: =IF(B17="","",IFERROR(IF(COUNTIF(O17:V17,"Erro*")>0,"Erro",IF(COUNTIF(O17:V17,"Aviso*")>0,"Aviso","Conforme")),"Erro")) | X17: =IF(B17="","",IFERROR(TEXTJOIN(" | ",TRUE,IF(OR(LEFT(O17,5)="Erro:",LEFT(O17,6)="Aviso:"),O17,""),IF(OR(LEFT(P17,5)="Erro:",LEFT(P17,6)="Aviso:"),P17,""),IF(OR(LEFT(Q17,5)="Erro:",LEFT(Q17,6)="Aviso:"),Q17,""),IF(OR(LEFT(R17,5)="Erro:",LEFT(R17,6)="Aviso:"),R17,""),IF(OR(LEFT(S17,5)="Erro:",LEFT(S17,6)="Aviso:"),S17,""),IF(OR(LEFT(T17,5)="Erro:",LEFT(T17,6)="Aviso:"),T17,""),IF(OR(LEFT(U17,5)="Erro:",LEFT(U17,6)="Aviso:"),U17,""),IF(OR(LEFT(V17,5)="Erro:",LEFT(V17,6)="Aviso:"),V17,"")),"Erro: detalhe indisponível"))
N18: =IF(B18="","",C18&"|"&D18&"|"&B18) | O18: =IF(B18="","",IFERROR(IF(AND(B18<>"",C18<>"",D18<>"",E18<>"",ISNUMBER(E18),E18=INT(E18),E18>0),"OK","Erro: identificador incompleto"),"Erro: identificador inválido")) | P18: =IF(B18="","",IF(F18="","Erro: data em falta",IFERROR(IF(AND(ISNUMBER(F18),F18>='Parâmetros'!$B$6,F18<='Parâmetros'!$B$7),"OK","Aviso: fora do período declarado"),"Erro: data inválida"))) | Q18: =IF(B18="","",IF(C18="","Erro: tipo em falta",IFERROR(IF(COUNTIF('Parâmetros'!$F$5:$F$24,C18)>0,"OK","Erro: tipo não configurado"),"Erro: lista de tipos indisponível"))) | R18: =IF(B18="","",IF(COUNTA(J18:L18)=0,"",IF(COUNTA(J18:L18)<3,"Erro: total incompleto",IFERROR(IF('Parâmetros'!$B$12<>"Sim","Não aplicável",IF(ABS(L18-J18-K18)<='Parâmetros'!$B$13,"OK","Erro: total não concilia")),"Erro: total inválido")))) | S18: =IF(B18="","",IFERROR(IF(COUNTIF($N$8:$N$107,N18)>1,"Erro: duplicado","OK"),"Erro: chave indisponível")) | T18: =IF(B18="","",IF(OR(C18="",D18="",E18=""),"",IF('Parâmetros'!$B$14<>"Sim","Não aplicável",IFERROR(IF(E18='Parâmetros'!$B$15,"OK",IF(COUNTIFS($C$8:$C$107,C18,$D$8:$D$107,D18,$E$8:$E$107,E18-1)>0,"OK","Aviso: possível omissão anterior")),"Erro: sequência inválida")))) | U18: =IF(B18="","",IF(H18="","Erro: estado do documento em falta",IFERROR(IF(AND('Parâmetros'!$B$16<>"",H18='Parâmetros'!$B$16),"Aviso: anulado","OK"),"Erro: estado indisponível"))) | V18: =IF(B18="","",IF(I18="","Aviso: resultado por preencher",IFERROR(IF(AND('Parâmetros'!$B$17<>"",I18='Parâmetros'!$B$17),"Erro: rejeitado",IF(AND('Parâmetros'!$B$18<>"",I18='Parâmetros'!$B$18),"Aviso: não confirmado","OK")),"Erro: resultado indisponível"))) | W18: =IF(B18="","",IFERROR(IF(COUNTIF(O18:V18,"Erro*")>0,"Erro",IF(COUNTIF(O18:V18,"Aviso*")>0,"Aviso","Conforme")),"Erro")) | X18: =IF(B18="","",IFERROR(TEXTJOIN(" | ",TRUE,IF(OR(LEFT(O18,5)="Erro:",LEFT(O18,6)="Aviso:"),O18,""),IF(OR(LEFT(P18,5)="Erro:",LEFT(P18,6)="Aviso:"),P18,""),IF(OR(LEFT(Q18,5)="Erro:",LEFT(Q18,6)="Aviso:"),Q18,""),IF(OR(LEFT(R18,5)="Erro:",LEFT(R18,6)="Aviso:"),R18,""),IF(OR(LEFT(S18,5)="Erro:",LEFT(S18,6)="Aviso:"),S18,""),IF(OR(LEFT(T18,5)="Erro:",LEFT(T18,6)="Aviso:"),T18,""),IF(OR(LEFT(U18,5)="Erro:",LEFT(U18,6)="Aviso:"),U18,""),IF(OR(LEFT(V18,5)="Erro:",LEFT(V18,6)="Aviso:"),V18,"")),"Erro: detalhe indisponível"))
N19: =IF(B19="","",C19&"|"&D19&"|"&B19) | O19: =IF(B19="","",IFERROR(IF(AND(B19<>"",C19<>"",D19<>"",E19<>"",ISNUMBER(E19),E19=INT(E19),E19>0),"OK","Erro: identificador incompleto"),"Erro: identificador inválido")) | P19: =IF(B19="","",IF(F19="","Erro: data em falta",IFERROR(IF(AND(ISNUMBER(F19),F19>='Parâmetros'!$B$6,F19<='Parâmetros'!$B$7),"OK","Aviso: fora do período declarado"),"Erro: data inválida"))) | Q19: =IF(B19="","",IF(C19="","Erro: tipo em falta",IFERROR(IF(COUNTIF('Parâmetros'!$F$5:$F$24,C19)>0,"OK","Erro: tipo não configurado"),"Erro: lista de tipos indisponível"))) | R19: =IF(B19="","",IF(COUNTA(J19:L19)=0,"",IF(COUNTA(J19:L19)<3,"Erro: total incompleto",IFERROR(IF('Parâmetros'!$B$12<>"Sim","Não aplicável",IF(ABS(L19-J19-K19)<='Parâmetros'!$B$13,"OK","Erro: total não concilia")),"Erro: total inválido")))) | S19: =IF(B19="","",IFERROR(IF(COUNTIF($N$8:$N$107,N19)>1,"Erro: duplicado","OK"),"Erro: chave indisponível")) | T19: =IF(B19="","",IF(OR(C19="",D19="",E19=""),"",IF('Parâmetros'!$B$14<>"Sim","Não aplicável",IFERROR(IF(E19='Parâmetros'!$B$15,"OK",IF(COUNTIFS($C$8:$C$107,C19,$D$8:$D$107,D19,$E$8:$E$107,E19-1)>0,"OK","Aviso: possível omissão anterior")),"Erro: sequência inválida")))) | U19: =IF(B19="","",IF(H19="","Erro: estado do documento em falta",IFERROR(IF(AND('Parâmetros'!$B$16<>"",H19='Parâmetros'!$B$16),"Aviso: anulado","OK"),"Erro: estado indisponível"))) | V19: =IF(B19="","",IF(I19="","Aviso: resultado por preencher",IFERROR(IF(AND('Parâmetros'!$B$17<>"",I19='Parâmetros'!$B$17),"Erro: rejeitado",IF(AND('Parâmetros'!$B$18<>"",I19='Parâmetros'!$B$18),"Aviso: não confirmado","OK")),"Erro: resultado indisponível"))) | W19: =IF(B19="","",IFERROR(IF(COUNTIF(O19:V19,"Erro*")>0,"Erro",IF(COUNTIF(O19:V19,"Aviso*")>0,"Aviso","Conforme")),"Erro")) | X19: =IF(B19="","",IFERROR(TEXTJOIN(" | ",TRUE,IF(OR(LEFT(O19,5)="Erro:",LEFT(O19,6)="Aviso:"),O19,""),IF(OR(LEFT(P19,5)="Erro:",LEFT(P19,6)="Aviso:"),P19,""),IF(OR(LEFT(Q19,5)="Erro:",LEFT(Q19,6)="Aviso:"),Q19,""),IF(OR(LEFT(R19,5)="Erro:",LEFT(R19,6)="Aviso:"),R19,""),IF(OR(LEFT(S19,5)="Erro:",LEFT(S19,6)="Aviso:"),S19,""),IF(OR(LEFT(T19,5)="Erro:",LEFT(T19,6)="Aviso:"),T19,""),IF(OR(LEFT(U19,5)="Erro:",LEFT(U19,6)="Aviso:"),U19,""),IF(OR(LEFT(V19,5)="Erro:",LEFT(V19,6)="Aviso:"),V19,"")),"Erro: detalhe indisponível"))
N20: =IF(B20="","",C20&"|"&D20&"|"&B20) | O20: =IF(B20="","",IFERROR(IF(AND(B20<>"",C20<>"",D20<>"",E20<>"",ISNUMBER(E20),E20=INT(E20),E20>0),"OK","Erro: identificador incompleto"),"Erro: identificador inválido")) | P20: =IF(B20="","",IF(F20="","Erro: data em falta",IFERROR(IF(AND(ISNUMBER(F20),F20>='Parâmetros'!$B$6,F20<='Parâmetros'!$B$7),"OK","Aviso: fora do período declarado"),"Erro: data inválida"))) | Q20: =IF(B20="","",IF(C20="","Erro: tipo em falta",IFERROR(IF(COUNTIF('Parâmetros'!$F$5:$F$24,C20)>0,"OK","Erro: tipo não configurado"),"Erro: lista de tipos indisponível"))) | R20: =IF(B20="","",IF(COUNTA(J20:L20)=0,"",IF(COUNTA(J20:L20)<3,"Erro: total incompleto",IFERROR(IF('Parâmetros'!$B$12<>"Sim","Não aplicável",IF(ABS(L20-J20-K20)<='Parâmetros'!$B$13,"OK","Erro: total não concilia")),"Erro: total inválido")))) | S20: =IF(B20="","",IFERROR(IF(COUNTIF($N$8:$N$107,N20)>1,"Erro: duplicado","OK"),"Erro: chave indisponível")) | T20: =IF(B20="","",IF(OR(C20="",D20="",E20=""),"",IF('Parâmetros'!$B$14<>"Sim","Não aplicável",IFERROR(IF(E20='Parâmetros'!$B$15,"OK",IF(COUNTIFS($C$8:$C$107,C20,$D$8:$D$107,D20,$E$8:$E$107,E20-1)>0,"OK","Aviso: possível omissão anterior")),"Erro: sequência inválida")))) | U20: =IF(B20="","",IF(H20="","Erro: estado do documento em falta",IFERROR(IF(AND('Parâmetros'!$B$16<>"",H20='Parâmetros'!$B$16),"Aviso: anulado","OK"),"Erro: estado indisponível"))) | V20: =IF(B20="","",IF(I20="","Aviso: resultado por preencher",IFERROR(IF(AND('Parâmetros'!$B$17<>"",I20='Parâmetros'!$B$17),"Erro: rejeitado",IF(AND('Parâmetros'!$B$18<>"",I20='Parâmetros'!$B$18),"Aviso: não confirmado","OK")),"Erro: resultado indisponível"))) | W20: =IF(B20="","",IFERROR(IF(COUNTIF(O20:V20,"Erro*")>0,"Erro",IF(COUNTIF(O20:V20,"Aviso*")>0,"Aviso","Conforme")),"Erro")) | X20: =IF(B20="","",IFERROR(TEXTJOIN(" | ",TRUE,IF(OR(LEFT(O20,5)="Erro:",LEFT(O20,6)="Aviso:"),O20,""),IF(OR(LEFT(P20,5)="Erro:",LEFT(P20,6)="Aviso:"),P20,""),IF(OR(LEFT(Q20,5)="Erro:",LEFT(Q20,6)="Aviso:"),Q20,""),IF(OR(LEFT(R20,5)="Erro:",LEFT(R20,6)="Aviso:"),R20,""),IF(OR(LEFT(S20,5)="Erro:",LEFT(S20,6)="Aviso:"),S20,""),IF(OR(LEFT(T20,5)="Erro:",LEFT(T20,6)="Aviso:"),T20,""),IF(OR(LEFT(U20,5)="Erro:",LEFT(U20,6)="Aviso:"),U20,""),IF(OR(LEFT(V20,5)="Erro:",LEFT(V20,6)="Aviso:"),V20,"")),"Erro: detalhe indisponível"))
N21: =IF(B21="","",C21&"|"&D21&"|"&B21) | O21: =IF(B21="","",IFERROR(IF(AND(B21<>"",C21<>"",D21<>"",E21<>"",ISNUMBER(E21),E21=INT(E21),E21>0),"OK","Erro: identificador incompleto"),"Erro: identificador inválido")) | P21: =IF(B21="","",IF(F21="","Erro: data em falta",IFERROR(IF(AND(ISNUMBER(F21),F21>='Parâmetros'!$B$6,F21<='Parâmetros'!$B$7),"OK","Aviso: fora do período declarado"),"Erro: data inválida"))) | Q21: =IF(B21="","",IF(C21="","Erro: tipo em falta",IFERROR(IF(COUNTIF('Parâmetros'!$F$5:$F$24,C21)>0,"OK","Erro: tipo não configurado"),"Erro: lista de tipos indisponível"))) | R21: =IF(B21="","",IF(COUNTA(J21:L21)=0,"",IF(COUNTA(J21:L21)<3,"Erro: total incompleto",IFERROR(IF('Parâmetros'!$B$12<>"Sim","Não aplicável",IF(ABS(L21-J21-K21)<='Parâmetros'!$B$13,"OK","Erro: total não concilia")),"Erro: total inválido")))) | S21: =IF(B21="","",IFERROR(IF(COUNTIF($N$8:$N$107,N21)>1,"Erro: duplicado","OK"),"Erro: chave indisponível")) | T21: =IF(B21="","",IF(OR(C21="",D21="",E21=""),"",IF('Parâmetros'!$B$14<>"Sim","Não aplicável",IFERROR(IF(E21='Parâmetros'!$B$15,"OK",IF(COUNTIFS($C$8:$C$107,C21,$D$8:$D$107,D21,$E$8:$E$107,E21-1)>0,"OK","Aviso: possível omissão anterior")),"Erro: sequência inválida")))) | U21: =IF(B21="","",IF(H21="","Erro: estado do documento em falta",IFERROR(IF(AND('Parâmetros'!$B$16<>"",H21='Parâmetros'!$B$16),"Aviso: anulado","OK"),"Erro: estado indisponível"))) | V21: =IF(B21="","",IF(I21="","Aviso: resultado por preencher",IFERROR(IF(AND('Parâmetros'!$B$17<>"",I21='Parâmetros'!$B$17),"Erro: rejeitado",IF(AND('Parâmetros'!$B$18<>"",I21='Parâmetros'!$B$18),"Aviso: não confirmado","OK")),"Erro: resultado indisponível"))) | W21: =IF(B21="","",IFERROR(IF(COUNTIF(O21:V21,"Erro*")>0,"Erro",IF(COUNTIF(O21:V21,"Aviso*")>0,"Aviso","Conforme")),"Erro")) | X21: =IF(B21="","",IFERROR(TEXTJOIN(" | ",TRUE,IF(OR(LEFT(O21,5)="Erro:",LEFT(O21,6)="Aviso:"),O21,""),IF(OR(LEFT(P21,5)="Erro:",LEFT(P21,6)="Aviso:"),P21,""),IF(OR(LEFT(Q21,5)="Erro:",LEFT(Q21,6)="Aviso:"),Q21,""),IF(OR(LEFT(R21,5)="Erro:",LEFT(R21,6)="Aviso:"),R21,""),IF(OR(LEFT(S21,5)="Erro:",LEFT(S21,6)="Aviso:"),S21,""),IF(OR(LEFT(T21,5)="Erro:",LEFT(T21,6)="Aviso:"),T21,""),IF(OR(LEFT(U21,5)="Erro:",LEFT(U21,6)="Aviso:"),U21,""),IF(OR(LEFT(V21,5)="Erro:",LEFT(V21,6)="Aviso:"),V21,"")),"Erro: detalhe indisponível"))
N22: =IF(B22="","",C22&"|"&D22&"|"&B22) | O22: =IF(B22="","",IFERROR(IF(AND(B22<>"",C22<>"",D22<>"",E22<>"",ISNUMBER(E22),E22=INT(E22),E22>0),"OK","Erro: identificador incompleto"),"Erro: identificador inválido")) | P22: =IF(B22="","",IF(F22="","Erro: data em falta",IFERROR(IF(AND(ISNUMBER(F22),F22>='Parâmetros'!$B$6,F22<='Parâmetros'!$B$7),"OK","Aviso: fora do período declarado"),"Erro: data inválida"))) | Q22: =IF(B22="","",IF(C22="","Erro: tipo em falta",IFERROR(IF(COUNTIF('Parâmetros'!$F$5:$F$24,C22)>0,"OK","Erro: tipo não configurado"),"Erro: lista de tipos indisponível"))) | R22: =IF(B22="","",IF(COUNTA(J22:L22)=0,"",IF(COUNTA(J22:L22)<3,"Erro: total incompleto",IFERROR(IF('Parâmetros'!$B$12<>"Sim","Não aplicável",IF(ABS(L22-J22-K22)<='Parâmetros'!$B$13,"OK","Erro: total não concilia")),"Erro: total inválido")))) | S22: =IF(B22="","",IFERROR(IF(COUNTIF($N$8:$N$107,N22)>1,"Erro: duplicado","OK"),"Erro: chave indisponível")) | T22: =IF(B22="","",IF(OR(C22="",D22="",E22=""),"",IF('Parâmetros'!$B$14<>"Sim","Não aplicável",IFERROR(IF(E22='Parâmetros'!$B$15,"OK",IF(COUNTIFS($C$8:$C$107,C22,$D$8:$D$107,D22,$E$8:$E$107,E22-1)>0,"OK","Aviso: possível omissão anterior")),"Erro: sequência inválida")))) | U22: =IF(B22="","",IF(H22="","Erro: estado do documento em falta",IFERROR(IF(AND('Parâmetros'!$B$16<>"",H22='Parâmetros'!$B$16),"Aviso: anulado","OK"),"Erro: estado indisponível"))) | V22: =IF(B22="","",IF(I22="","Aviso: resultado por preencher",IFERROR(IF(AND('Parâmetros'!$B$17<>"",I22='Parâmetros'!$B$17),"Erro: rejeitado",IF(AND('Parâmetros'!$B$18<>"",I22='Parâmetros'!$B$18),"Aviso: não confirmado","OK")),"Erro: resultado indisponível"))) | W22: =IF(B22="","",IFERROR(IF(COUNTIF(O22:V22,"Erro*")>0,"Erro",IF(COUNTIF(O22:V22,"Aviso*")>0,"Aviso","Conforme")),"Erro")) | X22: =IF(B22="","",IFERROR(TEXTJOIN(" | ",TRUE,IF(OR(LEFT(O22,5)="Erro:",LEFT(O22,6)="Aviso:"),O22,""),IF(OR(LEFT(P22,5)="Erro:",LEFT(P22,6)="Aviso:"),P22,""),IF(OR(LEFT(Q22,5)="Erro:",LEFT(Q22,6)="Aviso:"),Q22,""),IF(OR(LEFT(R22,5)="Erro:",LEFT(R22,6)="Aviso:"),R22,""),IF(OR(LEFT(S22,5)="Erro:",LEFT(S22,6)="Aviso:"),S22,""),IF(OR(LEFT(T22,5)="Erro:",LEFT(T22,6)="Aviso:"),T22,""),IF(OR(LEFT(U22,5)="Erro:",LEFT(U22,6)="Aviso:"),U22,""),IF(OR(LEFT(V22,5)="Erro:",LEFT(V22,6)="Aviso:"),V22,"")),"Erro: detalhe indisponível"))
